BEGIN:VCALENDAR
VERSION:2.0
PRODID:-//Auxiliary Organizations Association (AOA) - ECPv6.15.13//NONSGML v1.0//EN
CALSCALE:GREGORIAN
METHOD:PUBLISH
X-ORIGINAL-URL:https://csuaoa.org
X-WR-CALDESC:Events for Auxiliary Organizations Association (AOA)
REFRESH-INTERVAL;VALUE=DURATION:PT1H
X-Robots-Tag:noindex
X-PUBLISHED-TTL:PT1H
BEGIN:VTIMEZONE
TZID:America/Los_Angeles
BEGIN:DAYLIGHT
TZOFFSETFROM:-0800
TZOFFSETTO:-0700
TZNAME:PDT
DTSTART:20190310T100000
END:DAYLIGHT
BEGIN:STANDARD
TZOFFSETFROM:-0700
TZOFFSETTO:-0800
TZNAME:PST
DTSTART:20191103T090000
END:STANDARD
BEGIN:DAYLIGHT
TZOFFSETFROM:-0800
TZOFFSETTO:-0700
TZNAME:PDT
DTSTART:20200308T100000
END:DAYLIGHT
BEGIN:STANDARD
TZOFFSETFROM:-0700
TZOFFSETTO:-0800
TZNAME:PST
DTSTART:20201101T090000
END:STANDARD
BEGIN:DAYLIGHT
TZOFFSETFROM:-0800
TZOFFSETTO:-0700
TZNAME:PDT
DTSTART:20210314T100000
END:DAYLIGHT
BEGIN:STANDARD
TZOFFSETFROM:-0700
TZOFFSETTO:-0800
TZNAME:PST
DTSTART:20211107T090000
END:STANDARD
END:VTIMEZONE
BEGIN:VEVENT
DTSTART;TZID=America/Los_Angeles:20200111T083000
DTEND;TZID=America/Los_Angeles:20200111T120000
DTSTAMP:20260421T225339
CREATED:20190530T193731Z
LAST-MODIFIED:20200204T210119Z
UID:3800-1578731400-1578744000@csuaoa.org
SUMMARY:AOA Conference Planning Committee Meeting
DESCRIPTION:
URL:https://csuaoa.org/event/conference-planning-committee-meeting/
LOCATION:Loews Coronado Bay Resort-Avalon\, 4000 Coronado Bay Road\, Coronado\, CA\, 92118\, United States
CATEGORIES:Conference
END:VEVENT
BEGIN:VEVENT
DTSTART;TZID=America/Los_Angeles:20200111T140000
DTEND;TZID=America/Los_Angeles:20200111T170000
DTSTAMP:20260421T225339
CREATED:20190517T201514Z
LAST-MODIFIED:20230303T120824Z
UID:3605-1578751200-1578762000@csuaoa.org
SUMMARY:AOA Executive Committee Meeting
DESCRIPTION:Click here for the EC agenda packet. Download the Minutes of the Meeting here
URL:https://csuaoa.org/event/executive-committee-2/
LOCATION:Loews Coronado Bay Resort-Avalon\, 4000 Coronado Bay Road\, Coronado\, CA\, 92118\, United States
CATEGORIES:Meeting
END:VEVENT
END:VCALENDAR