BEGIN:VCALENDAR
VERSION:2.0
PRODID:-//Auxiliary Organizations Association (AOA) - ECPv6.15.13//NONSGML v1.0//EN
CALSCALE:GREGORIAN
METHOD:PUBLISH
X-WR-CALNAME:Auxiliary Organizations Association (AOA)
X-ORIGINAL-URL:https://csuaoa.org
X-WR-CALDESC:Events for Auxiliary Organizations Association (AOA)
REFRESH-INTERVAL;VALUE=DURATION:PT1H
X-Robots-Tag:noindex
X-PUBLISHED-TTL:PT1H
BEGIN:VTIMEZONE
TZID:America/Los_Angeles
BEGIN:DAYLIGHT
TZOFFSETFROM:-0800
TZOFFSETTO:-0700
TZNAME:PDT
DTSTART:20190310T100000
END:DAYLIGHT
BEGIN:STANDARD
TZOFFSETFROM:-0700
TZOFFSETTO:-0800
TZNAME:PST
DTSTART:20191103T090000
END:STANDARD
BEGIN:DAYLIGHT
TZOFFSETFROM:-0800
TZOFFSETTO:-0700
TZNAME:PDT
DTSTART:20200308T100000
END:DAYLIGHT
BEGIN:STANDARD
TZOFFSETFROM:-0700
TZOFFSETTO:-0800
TZNAME:PST
DTSTART:20201101T090000
END:STANDARD
BEGIN:DAYLIGHT
TZOFFSETFROM:-0800
TZOFFSETTO:-0700
TZNAME:PDT
DTSTART:20210314T100000
END:DAYLIGHT
BEGIN:STANDARD
TZOFFSETFROM:-0700
TZOFFSETTO:-0800
TZNAME:PST
DTSTART:20211107T090000
END:STANDARD
END:VTIMEZONE
BEGIN:VEVENT
DTSTART;VALUE=DATE:20200112
DTEND;VALUE=DATE:20200116
DTSTAMP:20260421T225211
CREATED:20190515T223517Z
LAST-MODIFIED:20200130T233029Z
UID:3517-1578787200-1579132799@csuaoa.org
SUMMARY:AOA 2020 Annual Conference
DESCRIPTION:
URL:https://csuaoa.org/event/aoa-annual-conference/
LOCATION:Loews Coronado Bay Resort\, 4000 Coronado Bay Road\, Coronado\, 92118\, United States
END:VEVENT
BEGIN:VEVENT
DTSTART;TZID=America/Los_Angeles:20200112T140000
DTEND;TZID=America/Los_Angeles:20200112T170000
DTSTAMP:20260421T225211
CREATED:20200210T235016Z
LAST-MODIFIED:20200521T224008Z
UID:4310-1578837600-1578848400@csuaoa.org
SUMMARY:AOA Standing Committee Meeting - Associated Students/Student Unions/Recreation Centers
DESCRIPTION:Click here to download the full agenda. 
URL:https://csuaoa.org/event/aoa-standing-committee-meeting-associated-students-student-unions-recreation-centers/
LOCATION:Loews Coronado Bay Resort\, 4000 Coronado Bay Road\, Coronado\, 92118\, United States
END:VEVENT
BEGIN:VEVENT
DTSTART;TZID=America/Los_Angeles:20200112T140000
DTEND;TZID=America/Los_Angeles:20200112T170000
DTSTAMP:20260421T225211
CREATED:20200210T235124Z
LAST-MODIFIED:20200521T224343Z
UID:4313-1578837600-1578848400@csuaoa.org
SUMMARY:AOA Standing Committee Meeting - Business And Financial Services
DESCRIPTION:Click here to download the full agenda. 
URL:https://csuaoa.org/event/aoa-standing-committee-meeting-business-and-financial-services-3/
LOCATION:Loews Coronado Bay Resort\, 4000 Coronado Bay Road\, Coronado\, 92118\, United States
CATEGORIES:Meeting
END:VEVENT
BEGIN:VEVENT
DTSTART;TZID=America/Los_Angeles:20200112T140000
DTEND;TZID=America/Los_Angeles:20200112T170000
DTSTAMP:20260421T225211
CREATED:20200210T235238Z
LAST-MODIFIED:20200521T224532Z
UID:4316-1578837600-1578848400@csuaoa.org
SUMMARY:AOA Standing Committee Meeting - Commercial Services
DESCRIPTION:Click here to download the full agenda. 
URL:https://csuaoa.org/event/aoa-standing-committee-meeting-commercial-services/
LOCATION:Loews Coronado Bay Resort\, 4000 Coronado Bay Road\, Coronado\, 92118\, United States
CATEGORIES:Meeting
END:VEVENT
BEGIN:VEVENT
DTSTART;TZID=America/Los_Angeles:20200112T140000
DTEND;TZID=America/Los_Angeles:20200112T170000
DTSTAMP:20260421T225211
CREATED:20200210T235326Z
LAST-MODIFIED:20200521T224809Z
UID:4319-1578837600-1578848400@csuaoa.org
SUMMARY:AOA Standing Committee Meeting - Human Resources
DESCRIPTION:Click here to download the full agenda. 
URL:https://csuaoa.org/event/aoa-standing-committee-meeting-human-resources/
LOCATION:Loews Coronado Bay Resort\, 4000 Coronado Bay Road\, Coronado\, 92118\, United States
CATEGORIES:Meeting
END:VEVENT
BEGIN:VEVENT
DTSTART;TZID=America/Los_Angeles:20200112T140000
DTEND;TZID=America/Los_Angeles:20200112T170000
DTSTAMP:20260421T225211
CREATED:20200210T235408Z
LAST-MODIFIED:20200521T224646Z
UID:4322-1578837600-1578848400@csuaoa.org
SUMMARY:AOA Standing Committee Meeting - Information Technology
DESCRIPTION:Click here to download the full agenda. 
URL:https://csuaoa.org/event/aoa-standing-committee-meeting/
LOCATION:Loews Coronado Bay Resort\, 4000 Coronado Bay Road\, Coronado\, 92118\, United States
CATEGORIES:Meeting
END:VEVENT
BEGIN:VEVENT
DTSTART;TZID=America/Los_Angeles:20200112T140000
DTEND;TZID=America/Los_Angeles:20200112T170000
DTSTAMP:20260421T225211
CREATED:20200210T235548Z
LAST-MODIFIED:20200521T224901Z
UID:4328-1578837600-1578848400@csuaoa.org
SUMMARY:AOA Standing Committee Meeting - Research Administration
DESCRIPTION:Click here to download the full agenda. 
URL:https://csuaoa.org/event/aoa-standing-committee-meeting-research-administration-2/
LOCATION:Loews Coronado Bay Resort\, 4000 Coronado Bay Road\, Coronado\, 92118\, United States
CATEGORIES:Meeting
ORGANIZER;CN="Monica Kauppinen":MAILTO:mkauppi@csus.edu
END:VEVENT
BEGIN:VEVENT
DTSTART;TZID=America/Los_Angeles:20200112T153000
DTEND;TZID=America/Los_Angeles:20200112T170000
DTSTAMP:20260421T225211
CREATED:20200508T184951Z
LAST-MODIFIED:20200508T185320Z
UID:4671-1578843000-1578848400@csuaoa.org
SUMMARY:California State University Risk Management Authority (CSURMA) Meeting - Executive Committee
DESCRIPTION:
URL:https://csuaoa.org/event/california-state-university-risk-management-authority-csurma-meeting-executive-committee-6/
LOCATION:Loews Coronado Bay Resort\, 4000 Coronado Bay Road\, Coronado\, 92118\, United States
END:VEVENT
END:VCALENDAR