BEGIN:VCALENDAR
VERSION:2.0
PRODID:-//Auxiliary Organizations Association (AOA) - ECPv6.15.13//NONSGML v1.0//EN
CALSCALE:GREGORIAN
METHOD:PUBLISH
X-WR-CALNAME:Auxiliary Organizations Association (AOA)
X-ORIGINAL-URL:https://csuaoa.org
X-WR-CALDESC:Events for Auxiliary Organizations Association (AOA)
REFRESH-INTERVAL;VALUE=DURATION:PT1H
X-Robots-Tag:noindex
X-PUBLISHED-TTL:PT1H
BEGIN:VTIMEZONE
TZID:America/Los_Angeles
BEGIN:DAYLIGHT
TZOFFSETFROM:-0800
TZOFFSETTO:-0700
TZNAME:PDT
DTSTART:20190310T100000
END:DAYLIGHT
BEGIN:STANDARD
TZOFFSETFROM:-0700
TZOFFSETTO:-0800
TZNAME:PST
DTSTART:20191103T090000
END:STANDARD
BEGIN:DAYLIGHT
TZOFFSETFROM:-0800
TZOFFSETTO:-0700
TZNAME:PDT
DTSTART:20200308T100000
END:DAYLIGHT
BEGIN:STANDARD
TZOFFSETFROM:-0700
TZOFFSETTO:-0800
TZNAME:PST
DTSTART:20201101T090000
END:STANDARD
BEGIN:DAYLIGHT
TZOFFSETFROM:-0800
TZOFFSETTO:-0700
TZNAME:PDT
DTSTART:20210314T100000
END:DAYLIGHT
BEGIN:STANDARD
TZOFFSETFROM:-0700
TZOFFSETTO:-0800
TZNAME:PST
DTSTART:20211107T090000
END:STANDARD
END:VTIMEZONE
BEGIN:VEVENT
DTSTART;TZID=America/Los_Angeles:20200417T083000
DTEND;TZID=America/Los_Angeles:20200417T150000
DTSTAMP:20260421T183303
CREATED:20200130T222821Z
LAST-MODIFIED:20200319T185930Z
UID:4164-1587112200-1587135600@csuaoa.org
SUMMARY:AOA Executive Committee Meeting - Cancelled
DESCRIPTION:Update:  March 16\, 2020:The in-person meeting on April 17\, 2020 in Sacramento\, California has been cancelled.    Thank you\,Richard Jackson\, AOA Secretary/Treasurer
URL:https://csuaoa.org/event/executive-committee-meeting-2/
LOCATION:The Hyatt Regency\, Sacramento\, 1209 J Street\, Sacramento\, 95814\, United States
CATEGORIES:Meeting
ORGANIZER;CN="Richard Jackson":MAILTO:rtjackson@csuchico.edu
END:VEVENT
BEGIN:VEVENT
DTSTART;TZID=America/Los_Angeles:20200417T140000
DTEND;TZID=America/Los_Angeles:20200417T150000
DTSTAMP:20260421T183303
CREATED:20200416T175442Z
LAST-MODIFIED:20200416T175442Z
UID:4584-1587132000-1587135600@csuaoa.org
SUMMARY:AOA Standing Committee Meeting - Human Resources
DESCRIPTION:
URL:https://csuaoa.org/event/aoa-standing-committee-meeting-human-resources-2/
LOCATION:Zoom/Conference Call
ORGANIZER;CN="Kristen Pichler":MAILTO:kristen.pichler@csun.edu
END:VEVENT
END:VCALENDAR