BEGIN:VCALENDAR
VERSION:2.0
PRODID:-//Auxiliary Organizations Association (AOA) - ECPv6.15.13//NONSGML v1.0//EN
CALSCALE:GREGORIAN
METHOD:PUBLISH
X-WR-CALNAME:Auxiliary Organizations Association (AOA)
X-ORIGINAL-URL:https://csuaoa.org
X-WR-CALDESC:Events for Auxiliary Organizations Association (AOA)
REFRESH-INTERVAL;VALUE=DURATION:PT1H
X-Robots-Tag:noindex
X-PUBLISHED-TTL:PT1H
BEGIN:VTIMEZONE
TZID:America/Los_Angeles
BEGIN:DAYLIGHT
TZOFFSETFROM:-0800
TZOFFSETTO:-0700
TZNAME:PDT
DTSTART:20190310T100000
END:DAYLIGHT
BEGIN:STANDARD
TZOFFSETFROM:-0700
TZOFFSETTO:-0800
TZNAME:PST
DTSTART:20191103T090000
END:STANDARD
BEGIN:DAYLIGHT
TZOFFSETFROM:-0800
TZOFFSETTO:-0700
TZNAME:PDT
DTSTART:20200308T100000
END:DAYLIGHT
BEGIN:STANDARD
TZOFFSETFROM:-0700
TZOFFSETTO:-0800
TZNAME:PST
DTSTART:20201101T090000
END:STANDARD
BEGIN:DAYLIGHT
TZOFFSETFROM:-0800
TZOFFSETTO:-0700
TZNAME:PDT
DTSTART:20210314T100000
END:DAYLIGHT
BEGIN:STANDARD
TZOFFSETFROM:-0700
TZOFFSETTO:-0800
TZNAME:PST
DTSTART:20211107T090000
END:STANDARD
END:VTIMEZONE
BEGIN:VEVENT
DTSTART;VALUE=DATE:20200520
DTEND;VALUE=DATE:20200522
DTSTAMP:20260421T171032
CREATED:20200226T180143Z
LAST-MODIFIED:20200319T184311Z
UID:4433-1589932800-1590105599@csuaoa.org
SUMMARY:AOA 2020 Leadership Academy - Cancelled
DESCRIPTION:March 18\, 2020Dear AOA Members With all that campuses\, auxiliaries and employees have to deal with these next months\, normal AOA activities have been put on hold.  This includes cancelling the Leadership Academy planned for May 20-21.  AOA will send out a call for Leadership Academy applicants next year\, and will be happy to carry forward any applications submitted so far for this year. We appreciate your understanding\, and wish you all the best of health as you confront the challenges facing us all.    This message is sent on behalf of Michele Goetz.   
URL:https://csuaoa.org/event/aoa-leadership-academy-2/
LOCATION:CA\, United States
CATEGORIES:Leadership Academy
END:VEVENT
BEGIN:VEVENT
DTSTART;TZID=America/Los_Angeles:20200521T130000
DTEND;TZID=America/Los_Angeles:20200521T140000
DTSTAMP:20260421T171032
CREATED:20200204T185824Z
LAST-MODIFIED:20200414T161243Z
UID:4239-1590066000-1590069600@csuaoa.org
SUMMARY:AOA Standing Committee Meeting - Business And Financial Services Steering Committee
DESCRIPTION:
URL:https://csuaoa.org/event/aoa-standing-committee-meeting-business-and-financial-services-steering-committee-3/
LOCATION:Zoom/Conference Call
CATEGORIES:Meeting
ORGANIZER;CN="Carlos Careaga":MAILTO:ccareaga@sdsu.edu
END:VEVENT
BEGIN:VEVENT
DTSTART;TZID=America/Los_Angeles:20200521T150000
DTEND;TZID=America/Los_Angeles:20200521T160000
DTSTAMP:20260421T171032
CREATED:20200521T205031Z
LAST-MODIFIED:20220427T192704Z
UID:4689-1590073200-1590076800@csuaoa.org
SUMMARY:AOA Standing Committee Meeting - Research Administration
DESCRIPTION:The RAC chat\, hosted by CSUCO system-wide sponsored programs administration and the research administration committee officers.
URL:https://csuaoa.org/event/aoa-standing-committee-research-administration-4/
LOCATION:Teleconference
ORGANIZER;CN="Diane Trujillo":MAILTO:dianet@csusb.edu
END:VEVENT
END:VCALENDAR