BEGIN:VCALENDAR
VERSION:2.0
PRODID:-//Auxiliary Organizations Association (AOA) - ECPv6.15.13//NONSGML v1.0//EN
CALSCALE:GREGORIAN
METHOD:PUBLISH
X-WR-CALNAME:Auxiliary Organizations Association (AOA)
X-ORIGINAL-URL:https://csuaoa.org
X-WR-CALDESC:Events for Auxiliary Organizations Association (AOA)
REFRESH-INTERVAL;VALUE=DURATION:PT1H
X-Robots-Tag:noindex
X-PUBLISHED-TTL:PT1H
BEGIN:VTIMEZONE
TZID:America/Los_Angeles
BEGIN:DAYLIGHT
TZOFFSETFROM:-0800
TZOFFSETTO:-0700
TZNAME:PDT
DTSTART:20190310T100000
END:DAYLIGHT
BEGIN:STANDARD
TZOFFSETFROM:-0700
TZOFFSETTO:-0800
TZNAME:PST
DTSTART:20191103T090000
END:STANDARD
BEGIN:DAYLIGHT
TZOFFSETFROM:-0800
TZOFFSETTO:-0700
TZNAME:PDT
DTSTART:20200308T100000
END:DAYLIGHT
BEGIN:STANDARD
TZOFFSETFROM:-0700
TZOFFSETTO:-0800
TZNAME:PST
DTSTART:20201101T090000
END:STANDARD
BEGIN:DAYLIGHT
TZOFFSETFROM:-0800
TZOFFSETTO:-0700
TZNAME:PDT
DTSTART:20210314T100000
END:DAYLIGHT
BEGIN:STANDARD
TZOFFSETFROM:-0700
TZOFFSETTO:-0800
TZNAME:PST
DTSTART:20211107T090000
END:STANDARD
END:VTIMEZONE
BEGIN:VEVENT
DTSTART;TZID=America/Los_Angeles:20200604T150000
DTEND;TZID=America/Los_Angeles:20200604T160000
DTSTAMP:20260421T152321
CREATED:20200521T231821Z
LAST-MODIFIED:20220427T192756Z
UID:4714-1591282800-1591286400@csuaoa.org
SUMMARY:AOA Standing Committee Meeting - Research Administration
DESCRIPTION:The RAC chat\, hosted by CSUCO\, system-wide sponsored programs administration and the research administration committee officers\n\nPhone one-tap:\nUS: +16699006833\,\,91538258582#\,\,1#\,445762# or +12532158782\,\,91538258582#\,\,1#\,445762#\nMeeting URL:\nhttps://calstate.zoom.us/j/91538258582?pwd=MEYrZlhnTEh3ZExVMy83NVpWMloyZz09\nMeeting ID:\n915 3825 8582\nPassword:\nresearch
URL:https://csuaoa.org/event/aoa-standing-committee-research-administration-5/
LOCATION:Zoom/Conference Call
ORGANIZER;CN="Diane Trujillo":MAILTO:dianet@csusb.edu
END:VEVENT
END:VCALENDAR