BEGIN:VCALENDAR
VERSION:2.0
PRODID:-//Auxiliary Organizations Association (AOA) - ECPv6.15.13//NONSGML v1.0//EN
CALSCALE:GREGORIAN
METHOD:PUBLISH
X-WR-CALNAME:Auxiliary Organizations Association (AOA)
X-ORIGINAL-URL:https://csuaoa.org
X-WR-CALDESC:Events for Auxiliary Organizations Association (AOA)
REFRESH-INTERVAL;VALUE=DURATION:PT1H
X-Robots-Tag:noindex
X-PUBLISHED-TTL:PT1H
BEGIN:VTIMEZONE
TZID:America/Los_Angeles
BEGIN:DAYLIGHT
TZOFFSETFROM:-0800
TZOFFSETTO:-0700
TZNAME:PDT
DTSTART:20190310T100000
END:DAYLIGHT
BEGIN:STANDARD
TZOFFSETFROM:-0700
TZOFFSETTO:-0800
TZNAME:PST
DTSTART:20191103T090000
END:STANDARD
BEGIN:DAYLIGHT
TZOFFSETFROM:-0800
TZOFFSETTO:-0700
TZNAME:PDT
DTSTART:20200308T100000
END:DAYLIGHT
BEGIN:STANDARD
TZOFFSETFROM:-0700
TZOFFSETTO:-0800
TZNAME:PST
DTSTART:20201101T090000
END:STANDARD
BEGIN:DAYLIGHT
TZOFFSETFROM:-0800
TZOFFSETTO:-0700
TZNAME:PDT
DTSTART:20210314T100000
END:DAYLIGHT
BEGIN:STANDARD
TZOFFSETFROM:-0700
TZOFFSETTO:-0800
TZNAME:PST
DTSTART:20211107T090000
END:STANDARD
END:VTIMEZONE
BEGIN:VEVENT
DTSTART;TZID=America/Los_Angeles:20200618T130000
DTEND;TZID=America/Los_Angeles:20200618T140000
DTSTAMP:20260421T152320
CREATED:20200204T185928Z
LAST-MODIFIED:20200414T161310Z
UID:4241-1592485200-1592488800@csuaoa.org
SUMMARY:AOA Standing Committee Meeting - Business And Financial Services Steering Committee
DESCRIPTION:
URL:https://csuaoa.org/event/aoa-standing-committee-meeting-business-and-financial-services-steering-committee-4/
LOCATION:Zoom/Conference Call
CATEGORIES:Meeting
ORGANIZER;CN="Carlos Careaga":MAILTO:ccareaga@sdsu.edu
END:VEVENT
BEGIN:VEVENT
DTSTART;TZID=America/Los_Angeles:20200618T130000
DTEND;TZID=America/Los_Angeles:20200618T150000
DTSTAMP:20260421T152320
CREATED:20200222T194526Z
LAST-MODIFIED:20200222T194526Z
UID:4401-1592485200-1592492400@csuaoa.org
SUMMARY:AOA Conference Planning Committee Meeting
DESCRIPTION:
URL:https://csuaoa.org/event/aoa-conference-planning-committee-meeting-6/
LOCATION:Zoom/Conference Call
CATEGORIES:Conference,Meeting
ORGANIZER;CN="Monica Kauppinen":MAILTO:mkauppi@csus.edu
END:VEVENT
BEGIN:VEVENT
DTSTART;TZID=America/Los_Angeles:20200618T150000
DTEND;TZID=America/Los_Angeles:20200618T160000
DTSTAMP:20260421T152320
CREATED:20200521T231942Z
LAST-MODIFIED:20220427T192839Z
UID:4716-1592492400-1592496000@csuaoa.org
SUMMARY:AOA Standing Committee Meeting - Research Administration
DESCRIPTION:The RAC chat hosted by CSUCO\, system-wide sponsored programs administration and the research administration committee officers.\n\nPhone one-tap:\nUS: +16699006833\,\,91538258582#\,\,1#\,445762# or +12532158782\,\,91538258582#\,\,1#\,445762#\nMeeting URL:\nhttps://calstate.zoom.us/j/91538258582?pwd=MEYrZlhnTEh3ZExVMy83NVpWMloyZz09\nMeeting ID:\n915 3825 8582\nPassword:\nresearch
URL:https://csuaoa.org/event/aoa-standing-committee-research-administration-6/
LOCATION:Zoom/Conference Call
ORGANIZER;CN="Diane Trujillo":MAILTO:dianet@csusb.edu
END:VEVENT
END:VCALENDAR