BEGIN:VCALENDAR
VERSION:2.0
PRODID:-//Auxiliary Organizations Association (AOA) - ECPv6.15.13//NONSGML v1.0//EN
CALSCALE:GREGORIAN
METHOD:PUBLISH
X-ORIGINAL-URL:https://csuaoa.org
X-WR-CALDESC:Events for Auxiliary Organizations Association (AOA)
REFRESH-INTERVAL;VALUE=DURATION:PT1H
X-Robots-Tag:noindex
X-PUBLISHED-TTL:PT1H
BEGIN:VTIMEZONE
TZID:America/Los_Angeles
BEGIN:DAYLIGHT
TZOFFSETFROM:-0800
TZOFFSETTO:-0700
TZNAME:PDT
DTSTART:20210314T100000
END:DAYLIGHT
BEGIN:STANDARD
TZOFFSETFROM:-0700
TZOFFSETTO:-0800
TZNAME:PST
DTSTART:20211107T090000
END:STANDARD
BEGIN:DAYLIGHT
TZOFFSETFROM:-0800
TZOFFSETTO:-0700
TZNAME:PDT
DTSTART:20220313T100000
END:DAYLIGHT
BEGIN:STANDARD
TZOFFSETFROM:-0700
TZOFFSETTO:-0800
TZNAME:PST
DTSTART:20221106T090000
END:STANDARD
BEGIN:DAYLIGHT
TZOFFSETFROM:-0800
TZOFFSETTO:-0700
TZNAME:PDT
DTSTART:20230312T100000
END:DAYLIGHT
BEGIN:STANDARD
TZOFFSETFROM:-0700
TZOFFSETTO:-0800
TZNAME:PST
DTSTART:20231105T090000
END:STANDARD
END:VTIMEZONE
BEGIN:VEVENT
DTSTART;VALUE=DATE:20220109
DTEND;VALUE=DATE:20220112
DTSTAMP:20260420T112150
CREATED:20210402T185715Z
LAST-MODIFIED:20220104T201926Z
UID:5179-1641686400-1641945599@csuaoa.org
SUMMARY:AOA 2022 Annual Conference - CANCELLED
DESCRIPTION:
URL:https://csuaoa.org/event/aoa-2022-annual-conference/
LOCATION:Hyatt Regency Indian Wells Resort & Spa\, 44-600 Indian Wells Lane\, Indian Wells\, CA\, 92210\, United States
ORGANIZER;CN="Richard Jackson":MAILTO:rtjackson@csuchico.edu
END:VEVENT
BEGIN:VEVENT
DTSTART;TZID=America/Los_Angeles:20220111T100000
DTEND;TZID=America/Los_Angeles:20220111T113000
DTSTAMP:20260420T112150
CREATED:20210402T194222Z
LAST-MODIFIED:20230302T012311Z
UID:5205-1641895200-1641900600@csuaoa.org
SUMMARY:AOA Executive Committee Meeting
DESCRIPTION:Download the full agenda here. Download the Minutes of the Meeting here
URL:https://csuaoa.org/event/aoa-executive-committee-meeting-7/
LOCATION:Zoom/Conference Call
CATEGORIES:Meeting
ORGANIZER;CN="Richard Jackson":MAILTO:rtjackson@csuchico.edu
END:VEVENT
BEGIN:VEVENT
DTSTART;TZID=America/Los_Angeles:20220111T140000
DTEND;TZID=America/Los_Angeles:20220111T150000
DTSTAMP:20260420T112150
CREATED:20220106T213947Z
LAST-MODIFIED:20220111T084500Z
UID:5684-1641909600-1641913200@csuaoa.org
SUMMARY:AOA Standing Committee Meeting - Associated Students/Student Unions/Recreation Centers
DESCRIPTION:Due to the cancellation of the 2022 AOA Annual Conference\, The ASI/SU/REC standing committee will hold its meeting and elections on Tuesday\, January 11\, 2022.Download the full agenda here. 
URL:https://csuaoa.org/event/aoa-standing-committee-meeting-associated-students-student-unions-recreation-centers-3/
LOCATION:Zoom/Conference Call
CATEGORIES:Meeting
ORGANIZER;CN="Iraida Venegas":MAILTO:iraida.venegas@csulb.edu
END:VEVENT
END:VCALENDAR