BEGIN:VCALENDAR
VERSION:2.0
PRODID:-//Auxiliary Organizations Association (AOA) - ECPv6.15.13//NONSGML v1.0//EN
CALSCALE:GREGORIAN
METHOD:PUBLISH
X-ORIGINAL-URL:https://csuaoa.org
X-WR-CALDESC:Events for Auxiliary Organizations Association (AOA)
REFRESH-INTERVAL;VALUE=DURATION:PT1H
X-Robots-Tag:noindex
X-PUBLISHED-TTL:PT1H
BEGIN:VTIMEZONE
TZID:America/Los_Angeles
BEGIN:DAYLIGHT
TZOFFSETFROM:-0800
TZOFFSETTO:-0700
TZNAME:PDT
DTSTART:20210314T100000
END:DAYLIGHT
BEGIN:STANDARD
TZOFFSETFROM:-0700
TZOFFSETTO:-0800
TZNAME:PST
DTSTART:20211107T090000
END:STANDARD
BEGIN:DAYLIGHT
TZOFFSETFROM:-0800
TZOFFSETTO:-0700
TZNAME:PDT
DTSTART:20220313T100000
END:DAYLIGHT
BEGIN:STANDARD
TZOFFSETFROM:-0700
TZOFFSETTO:-0800
TZNAME:PST
DTSTART:20221106T090000
END:STANDARD
BEGIN:DAYLIGHT
TZOFFSETFROM:-0800
TZOFFSETTO:-0700
TZNAME:PDT
DTSTART:20230312T100000
END:DAYLIGHT
BEGIN:STANDARD
TZOFFSETFROM:-0700
TZOFFSETTO:-0800
TZNAME:PST
DTSTART:20231105T090000
END:STANDARD
END:VTIMEZONE
BEGIN:VEVENT
DTSTART;TZID=America/Los_Angeles:20220527T140000
DTEND;TZID=America/Los_Angeles:20220527T153000
DTSTAMP:20260420T053930
CREATED:20220427T193930Z
LAST-MODIFIED:20220427T194012Z
UID:6148-1653660000-1653665400@csuaoa.org
SUMMARY:AOA Standing Committee Meeting - Human Resources
DESCRIPTION:Join Zoom Meetinghttps://csulb.zoom.us/j/88694877775 Meeting ID: 886 9487 7775One tap mobile+16699006833\,\,88694877775# US (San Jose)+16692192599\,\,88694877775# US (San Jose) Dial by your location+1 669 900 6833 US (San Jose)+1 669 219 2599 US (San Jose)+1 346 248 7799 US (Houston)+1 253 215 8782 US (Tacoma)+1 312 626 6799 US (Chicago)+1 646 518 9805 US (New York)+1 646 876 9923 US (New York)+1 301 715 8592 US (Washington DC)Meeting ID: 886 9487 7775
URL:https://csuaoa.org/event/aoa-standing-committee-meeting-human-resources-12/
LOCATION:Zoom/Conference Call
CATEGORIES:Meeting
ORGANIZER;CN="Rosa Hernandez":MAILTO:rosa.hernandez@csulb.edu
END:VEVENT
END:VCALENDAR