BEGIN:VCALENDAR
VERSION:2.0
PRODID:-//Auxiliary Organizations Association (AOA) - ECPv6.15.13//NONSGML v1.0//EN
CALSCALE:GREGORIAN
METHOD:PUBLISH
X-ORIGINAL-URL:https://csuaoa.org
X-WR-CALDESC:Events for Auxiliary Organizations Association (AOA)
REFRESH-INTERVAL;VALUE=DURATION:PT1H
X-Robots-Tag:noindex
X-PUBLISHED-TTL:PT1H
BEGIN:VTIMEZONE
TZID:America/Los_Angeles
BEGIN:DAYLIGHT
TZOFFSETFROM:-0800
TZOFFSETTO:-0700
TZNAME:PDT
DTSTART:20220313T100000
END:DAYLIGHT
BEGIN:STANDARD
TZOFFSETFROM:-0700
TZOFFSETTO:-0800
TZNAME:PST
DTSTART:20221106T090000
END:STANDARD
BEGIN:DAYLIGHT
TZOFFSETFROM:-0800
TZOFFSETTO:-0700
TZNAME:PDT
DTSTART:20230312T100000
END:DAYLIGHT
BEGIN:STANDARD
TZOFFSETFROM:-0700
TZOFFSETTO:-0800
TZNAME:PST
DTSTART:20231105T090000
END:STANDARD
BEGIN:DAYLIGHT
TZOFFSETFROM:-0800
TZOFFSETTO:-0700
TZNAME:PDT
DTSTART:20240310T100000
END:DAYLIGHT
BEGIN:STANDARD
TZOFFSETFROM:-0700
TZOFFSETTO:-0800
TZNAME:PST
DTSTART:20241103T090000
END:STANDARD
END:VTIMEZONE
BEGIN:VEVENT
DTSTART;TZID=America/Los_Angeles:20230425T080000
DTEND;TZID=America/Los_Angeles:20230427T170000
DTSTAMP:20260419T130722
CREATED:20230222T223104Z
LAST-MODIFIED:20230222T223104Z
UID:6769-1682409600-1682614800@csuaoa.org
SUMMARY:CSU Business Conference
DESCRIPTION:
URL:https://csuaoa.org/event/csu-business-conference/
LOCATION:Anaheim Marriott\, 700 W. Convention Way\, Anaheim\, CA\, 92802\, United States
CATEGORIES:Conference
END:VEVENT
BEGIN:VEVENT
DTSTART;TZID=America/Los_Angeles:20230426T080000
DTEND;TZID=America/Los_Angeles:20230427T170000
DTSTAMP:20260419T130722
CREATED:20230222T223504Z
LAST-MODIFIED:20230222T223504Z
UID:6777-1682496000-1682614800@csuaoa.org
SUMMARY:CSU Chief Administrators And Business Officers (CABO) Meeting
DESCRIPTION:
URL:https://csuaoa.org/event/csu-chief-administrators-and-business-officers-cabo-meeting-2/
CATEGORIES:Meeting
END:VEVENT
END:VCALENDAR