BEGIN:VCALENDAR
VERSION:2.0
PRODID:-//Auxiliary Organizations Association (AOA) - ECPv6.15.13//NONSGML v1.0//EN
CALSCALE:GREGORIAN
METHOD:PUBLISH
X-WR-CALNAME:Auxiliary Organizations Association (AOA)
X-ORIGINAL-URL:https://csuaoa.org
X-WR-CALDESC:Events for Auxiliary Organizations Association (AOA)
REFRESH-INTERVAL;VALUE=DURATION:PT1H
X-Robots-Tag:noindex
X-PUBLISHED-TTL:PT1H
BEGIN:VTIMEZONE
TZID:America/Los_Angeles
BEGIN:DAYLIGHT
TZOFFSETFROM:-0800
TZOFFSETTO:-0700
TZNAME:PDT
DTSTART:20220313T100000
END:DAYLIGHT
BEGIN:STANDARD
TZOFFSETFROM:-0700
TZOFFSETTO:-0800
TZNAME:PST
DTSTART:20221106T090000
END:STANDARD
BEGIN:DAYLIGHT
TZOFFSETFROM:-0800
TZOFFSETTO:-0700
TZNAME:PDT
DTSTART:20230312T100000
END:DAYLIGHT
BEGIN:STANDARD
TZOFFSETFROM:-0700
TZOFFSETTO:-0800
TZNAME:PST
DTSTART:20231105T090000
END:STANDARD
BEGIN:DAYLIGHT
TZOFFSETFROM:-0800
TZOFFSETTO:-0700
TZNAME:PDT
DTSTART:20240310T100000
END:DAYLIGHT
BEGIN:STANDARD
TZOFFSETFROM:-0700
TZOFFSETTO:-0800
TZNAME:PST
DTSTART:20241103T090000
END:STANDARD
END:VTIMEZONE
BEGIN:VEVENT
DTSTART;TZID=America/Los_Angeles:20230428T100000
DTEND;TZID=America/Los_Angeles:20230428T113000
DTSTAMP:20260419T130556
CREATED:20230410T230400Z
LAST-MODIFIED:20230606T162737Z
UID:6987-1682676000-1682681400@csuaoa.org
SUMMARY:AOA Standing Committee Meeting Philanthropy Committee
DESCRIPTION:This will be a zoom meeting \n\nDownload the full agenda here
URL:https://csuaoa.org/event/aoa-standing-committee-meeting-philanthropy-committee-5/
LOCATION:Zoom/Conference Call
CATEGORIES:Meeting
ORGANIZER;CN="Ian Hannah":MAILTO:Ian.hannah@sonoma.edu
END:VEVENT
BEGIN:VEVENT
DTSTART;TZID=America/Los_Angeles:20230428T140000
DTEND;TZID=America/Los_Angeles:20230428T153000
DTSTAMP:20260419T130556
CREATED:20230127T191415Z
LAST-MODIFIED:20230127T194351Z
UID:6609-1682690400-1682695800@csuaoa.org
SUMMARY:AOA Standing Committee Meeting - Human Resources
DESCRIPTION:Contact Maddison Burton\, Chair for zoom link.
URL:https://csuaoa.org/event/aoa-standing-committee-meeting-human-resources-17/
LOCATION:Zoom/Conference Call
CATEGORIES:Meeting
ORGANIZER;CN="Maddison Burton":MAILTO:mburton@csumb.edu
END:VEVENT
END:VCALENDAR