BEGIN:VCALENDAR
VERSION:2.0
PRODID:-//Auxiliary Organizations Association (AOA) - ECPv6.15.13//NONSGML v1.0//EN
CALSCALE:GREGORIAN
METHOD:PUBLISH
X-WR-CALNAME:Auxiliary Organizations Association (AOA)
X-ORIGINAL-URL:https://csuaoa.org
X-WR-CALDESC:Events for Auxiliary Organizations Association (AOA)
REFRESH-INTERVAL;VALUE=DURATION:PT1H
X-Robots-Tag:noindex
X-PUBLISHED-TTL:PT1H
BEGIN:VTIMEZONE
TZID:America/Los_Angeles
BEGIN:DAYLIGHT
TZOFFSETFROM:-0800
TZOFFSETTO:-0700
TZNAME:PDT
DTSTART:20230312T100000
END:DAYLIGHT
BEGIN:STANDARD
TZOFFSETFROM:-0700
TZOFFSETTO:-0800
TZNAME:PST
DTSTART:20231105T090000
END:STANDARD
BEGIN:DAYLIGHT
TZOFFSETFROM:-0800
TZOFFSETTO:-0700
TZNAME:PDT
DTSTART:20240310T100000
END:DAYLIGHT
BEGIN:STANDARD
TZOFFSETFROM:-0700
TZOFFSETTO:-0800
TZNAME:PST
DTSTART:20241103T090000
END:STANDARD
BEGIN:DAYLIGHT
TZOFFSETFROM:-0800
TZOFFSETTO:-0700
TZNAME:PDT
DTSTART:20250309T100000
END:DAYLIGHT
BEGIN:STANDARD
TZOFFSETFROM:-0700
TZOFFSETTO:-0800
TZNAME:PST
DTSTART:20251102T090000
END:STANDARD
END:VTIMEZONE
BEGIN:VEVENT
DTSTART;TZID=America/Los_Angeles:20240404T140000
DTEND;TZID=America/Los_Angeles:20240404T160000
DTSTAMP:20260419T191550
CREATED:20240301T205524Z
LAST-MODIFIED:20240607T161947Z
UID:7695-1712239200-1712246400@csuaoa.org
SUMMARY:AOA Standing Committee Meeting - Information Technology
DESCRIPTION:Download the full agenda from hereDownload the Minutes of the Meeting here
URL:https://csuaoa.org/event/aoa-standing-committee-meeting-information-technology-6/
LOCATION:Zoom/Conference Call
CATEGORIES:Meeting
ORGANIZER;CN="Alexander Gonzales":MAILTO:agonzale@csun.edu
END:VEVENT
BEGIN:VEVENT
DTSTART;TZID=America/Los_Angeles:20240417T100000
DTEND;TZID=America/Los_Angeles:20240417T113000
DTSTAMP:20260419T191550
CREATED:20240126T233054Z
LAST-MODIFIED:20240126T233446Z
UID:7548-1713348000-1713353400@csuaoa.org
SUMMARY:AOA Standing Committee Meeting - Philanthropy Committee
DESCRIPTION:This meeting will be virtual/zoom.  URL:  https://calpoly.zoom.us/j/87455281555.Meeting ID:  874 5528 1555
URL:https://csuaoa.org/event/aoa-standing-committee-meeting-philanthropy-committee-8/
LOCATION:Zoom/Conference Call
CATEGORIES:Meeting
ORGANIZER;CN="Ericka Scott":MAILTO:eascott@calpoly.edu
END:VEVENT
BEGIN:VEVENT
DTSTART;TZID=America/Los_Angeles:20240425T083000
DTEND;TZID=America/Los_Angeles:20240425T143000
DTSTAMP:20260419T191550
CREATED:20240216T201818Z
LAST-MODIFIED:20240227T001535Z
UID:7639-1714033800-1714055400@csuaoa.org
SUMMARY:AOA Conference Planning Committee Meeting
DESCRIPTION:
URL:https://csuaoa.org/event/aoa-conference-planning-committee-meeting-45/
LOCATION:Hyatt Centric\, 285 Bay Street\, Long Beach\, CA\, United States
CATEGORIES:Meeting
ORGANIZER;CN="Cecilia Ortiz":MAILTO:cortiz@csudh.edu
END:VEVENT
BEGIN:VEVENT
DTSTART;TZID=America/Los_Angeles:20240425T140000
DTEND;TZID=America/Los_Angeles:20240425T150000
DTSTAMP:20260419T191550
CREATED:20240127T183451Z
LAST-MODIFIED:20240127T183451Z
UID:7564-1714053600-1714057200@csuaoa.org
SUMMARY:AOA Standing Committee Meeting - Business And Financial Services Steering Committee
DESCRIPTION:Contact Shailendra Baghel\, Chair for additional information
URL:https://csuaoa.org/event/aoa-standing-committee-meeting-business-and-financial-services-steering-committee-22/
LOCATION:Zoom/Conference Call
CATEGORIES:Meeting
ORGANIZER;CN="Shailendra Baghel":MAILTO:shailendra.baghel@sjsu.edu
END:VEVENT
BEGIN:VEVENT
DTSTART;TZID=America/Los_Angeles:20240426T083000
DTEND;TZID=America/Los_Angeles:20240426T140000
DTSTAMP:20260419T191550
CREATED:20240119T175610Z
LAST-MODIFIED:20240624T204214Z
UID:7427-1714120200-1714140000@csuaoa.org
SUMMARY:AOA Executive Committee Meeting
DESCRIPTION:Download the full agenda from hereDownload the Minutes of the Meeting here
URL:https://csuaoa.org/event/aoa-executive-committee-meeting-18/
LOCATION:Long Beach\, CA\, United States
CATEGORIES:Meeting
ORGANIZER;CN="Heather Cairns%2C 2024 AOA President":MAILTO:heather.cairns@csun.edu
END:VEVENT
BEGIN:VEVENT
DTSTART;TZID=America/Los_Angeles:20240426T140000
DTEND;TZID=America/Los_Angeles:20240426T150000
DTSTAMP:20260419T191550
CREATED:20240123T193217Z
LAST-MODIFIED:20240425T234948Z
UID:7461-1714140000-1714143600@csuaoa.org
SUMMARY:AOA Standing Committee Meeting - Human Resources
DESCRIPTION:Monthly meeting of the AOA Human Resources standing committee.Download the full agenda from here
URL:https://csuaoa.org/event/aoa-standing-committee-meeting-human-resources-26/
LOCATION:Zoom/Conference Call
CATEGORIES:Meeting
ORGANIZER;CN="Yvonne Bermudez":MAILTO:yvonne.bermudez@csulb.edu
END:VEVENT
BEGIN:VEVENT
DTSTART;TZID=America/Los_Angeles:20240430T150000
DTEND;TZID=America/Los_Angeles:20240430T163000
DTSTAMP:20260419T191550
CREATED:20240424T183135Z
LAST-MODIFIED:20241029T140205Z
UID:7817-1714489200-1714494600@csuaoa.org
SUMMARY:AOA Standing Committee Meeting - Philanthropy
DESCRIPTION:Download the full agenda from hereDownload the Minutes of the Meeting here
URL:https://csuaoa.org/event/aoa-standing-committee-meeting-philanthropy-2/
LOCATION:Zoom/Conference Call
CATEGORIES:Meeting
ORGANIZER;CN="Ian Hannah":MAILTO:Ian.hannah@sonoma.edu
END:VEVENT
END:VCALENDAR