BEGIN:VCALENDAR
VERSION:2.0
PRODID:-//Auxiliary Organizations Association (AOA) - ECPv6.15.13//NONSGML v1.0//EN
CALSCALE:GREGORIAN
METHOD:PUBLISH
X-ORIGINAL-URL:https://csuaoa.org
X-WR-CALDESC:Events for Auxiliary Organizations Association (AOA)
REFRESH-INTERVAL;VALUE=DURATION:PT1H
X-Robots-Tag:noindex
X-PUBLISHED-TTL:PT1H
BEGIN:VTIMEZONE
TZID:America/Los_Angeles
BEGIN:DAYLIGHT
TZOFFSETFROM:-0800
TZOFFSETTO:-0700
TZNAME:PDT
DTSTART:20230312T100000
END:DAYLIGHT
BEGIN:STANDARD
TZOFFSETFROM:-0700
TZOFFSETTO:-0800
TZNAME:PST
DTSTART:20231105T090000
END:STANDARD
BEGIN:DAYLIGHT
TZOFFSETFROM:-0800
TZOFFSETTO:-0700
TZNAME:PDT
DTSTART:20240310T100000
END:DAYLIGHT
BEGIN:STANDARD
TZOFFSETFROM:-0700
TZOFFSETTO:-0800
TZNAME:PST
DTSTART:20241103T090000
END:STANDARD
BEGIN:DAYLIGHT
TZOFFSETFROM:-0800
TZOFFSETTO:-0700
TZNAME:PDT
DTSTART:20250309T100000
END:DAYLIGHT
BEGIN:STANDARD
TZOFFSETFROM:-0700
TZOFFSETTO:-0800
TZNAME:PST
DTSTART:20251102T090000
END:STANDARD
END:VTIMEZONE
BEGIN:VEVENT
DTSTART;TZID=America/Los_Angeles:20240502T133000
DTEND;TZID=America/Los_Angeles:20240502T163000
DTSTAMP:20260419T175814
CREATED:20240125T184102Z
LAST-MODIFIED:20240125T192817Z
UID:7516-1714656600-1714667400@csuaoa.org
SUMMARY:Auxiliary Organization Risk Management Alliance (AORMA) Meeting
DESCRIPTION:For meeting details and agendas\, visit the CSURMA/AORMA website – www.csurma.org.
URL:https://csuaoa.org/event/auxiliary-organization-risk-management-alliance-aorma-meeting/
LOCATION:Long Beach\, CA\, United States
CATEGORIES:Meeting
ORGANIZER;CN="Mimi Long":MAILTO:mlong@alliant.com
END:VEVENT
BEGIN:VEVENT
DTSTART;VALUE=DATE:20240503
DTEND;VALUE=DATE:20240504
DTSTAMP:20260419T175814
CREATED:20240125T181340Z
LAST-MODIFIED:20240125T181340Z
UID:7500-1714694400-1714780799@csuaoa.org
SUMMARY:California State University Risk Management Authority (CSURMA) Meeting - Board of Directors
DESCRIPTION:For meeting details and agendas\, visit the CSURMA website – www.csurma.org.
URL:https://csuaoa.org/event/california-state-university-risk-management-authority-csurma-meeting-board-of-directors-4/
LOCATION:CA
CATEGORIES:Meeting
ORGANIZER;CN="Mimi Long":MAILTO:mlong@alliant.com
END:VEVENT
BEGIN:VEVENT
DTSTART;VALUE=DATE:20240506
DTEND;VALUE=DATE:20240507
DTSTAMP:20260419T175814
CREATED:20240125T183848Z
LAST-MODIFIED:20240125T183848Z
UID:7514-1714953600-1715039999@csuaoa.org
SUMMARY:California State University Risk Management Authority (CSURMA) Meeting - AIME Committee
DESCRIPTION:For meeting details and agendas\, visit the CSURMA/AORMA website – www.csurma.org.
URL:https://csuaoa.org/event/california-state-university-risk-management-authority-csurma-meeting-aime-committee-5/
LOCATION:CA
CATEGORIES:Meeting
ORGANIZER;CN="Mimi Long":MAILTO:mlong@alliant.com
END:VEVENT
BEGIN:VEVENT
DTSTART;TZID=America/Los_Angeles:20240513T130000
DTEND;TZID=America/Los_Angeles:20240513T143000
DTSTAMP:20260419T175814
CREATED:20240424T174703Z
LAST-MODIFIED:20240424T174703Z
UID:7808-1715605200-1715610600@csuaoa.org
SUMMARY:AOA Standing Committee Meeting - ASI/SU/REC Advisory Group
DESCRIPTION:
URL:https://csuaoa.org/event/aoa-standing-committee-meeting-asi-su-rec-advisory-group/
LOCATION:Zoom/Conference Call
CATEGORIES:Meeting
ORGANIZER;CN="Jeffrey Rensel":MAILTO:jrensel@csumb.edu
END:VEVENT
BEGIN:VEVENT
DTSTART;TZID=America/Los_Angeles:20240516T133000
DTEND;TZID=America/Los_Angeles:20240516T150000
DTSTAMP:20260419T175814
CREATED:20240216T201916Z
LAST-MODIFIED:20240216T201916Z
UID:7641-1715866200-1715871600@csuaoa.org
SUMMARY:AOA Conference Planning Committee Meeting
DESCRIPTION:
URL:https://csuaoa.org/event/aoa-conference-planning-committee-meeting-46/
LOCATION:Zoom/Conference Call
CATEGORIES:Meeting
ORGANIZER;CN="Cecilia Ortiz":MAILTO:cortiz@csudh.edu
END:VEVENT
BEGIN:VEVENT
DTSTART;VALUE=DATE:20240519
DTEND;VALUE=DATE:20240523
DTSTAMP:20260419T175814
CREATED:20240124T202125Z
LAST-MODIFIED:20240124T202125Z
UID:7488-1716076800-1716422399@csuaoa.org
SUMMARY:CSU Board of Trustees Meeting
DESCRIPTION:
URL:https://csuaoa.org/event/csu-board-of-trustees-meeting-37/
LOCATION:CSU Office of the Chancellor\, 401 Golden Shore\, Long Beach\, CA\, 90802\, United States
CATEGORIES:Meeting
END:VEVENT
BEGIN:VEVENT
DTSTART;TZID=America/Los_Angeles:20240521T080000
DTEND;TZID=America/Los_Angeles:20240522T170000
DTSTAMP:20260419T175814
CREATED:20240305T232914Z
LAST-MODIFIED:20240520T190151Z
UID:7716-1716278400-1716397200@csuaoa.org
SUMMARY:AOA Standing Committee Meeting - Research Administration
DESCRIPTION:Download the full agenda from here
URL:https://csuaoa.org/event/aoa-standing-committee-meeting-research-administration-23/
LOCATION:CSU Long Beach\, 1250 Bellflower Blvd.\, Long Beach\, CA\, 90840\, United States
CATEGORIES:Meeting
ORGANIZER;CN="Chantal Ebarle":MAILTO:chantal.ebarle@csueastbay.edu
END:VEVENT
BEGIN:VEVENT
DTSTART;TZID=America/Los_Angeles:20240523T140000
DTEND;TZID=America/Los_Angeles:20240523T150000
DTSTAMP:20260419T175814
CREATED:20240127T183613Z
LAST-MODIFIED:20240127T183613Z
UID:7566-1716472800-1716476400@csuaoa.org
SUMMARY:AOA Standing Committee Meeting - Business And Financial Services Steering Committee
DESCRIPTION:Contact Shailendra Baghel\, Chair for additional information.
URL:https://csuaoa.org/event/aoa-standing-committee-meeting-business-and-financial-services-steering-committee-23/
LOCATION:Zoom/Conference Call
CATEGORIES:Meeting
ORGANIZER;CN="Shailendra Baghel":MAILTO:shailendra.baghel@sjsu.edu
END:VEVENT
BEGIN:VEVENT
DTSTART;TZID=America/Los_Angeles:20240531T140000
DTEND;TZID=America/Los_Angeles:20240531T150000
DTSTAMP:20260419T175814
CREATED:20240123T193341Z
LAST-MODIFIED:20240530T164051Z
UID:7463-1717164000-1717167600@csuaoa.org
SUMMARY:AOA Standing Committee Meeting - Human Resources
DESCRIPTION:Monthly meeting of the AOA Human Resources Standing Committee.Download the full agenda from here
URL:https://csuaoa.org/event/aoa-standing-committee-meeting-human-resources-27/
LOCATION:Zoom/Conference Call
CATEGORIES:Meeting
ORGANIZER;CN="Yvonne Bermudez":MAILTO:yvonne.bermudez@csulb.edu
END:VEVENT
END:VCALENDAR