BEGIN:VCALENDAR
VERSION:2.0
PRODID:-//Auxiliary Organizations Association (AOA) - ECPv6.15.13//NONSGML v1.0//EN
CALSCALE:GREGORIAN
METHOD:PUBLISH
X-WR-CALNAME:Auxiliary Organizations Association (AOA)
X-ORIGINAL-URL:https://csuaoa.org
X-WR-CALDESC:Events for Auxiliary Organizations Association (AOA)
REFRESH-INTERVAL;VALUE=DURATION:PT1H
X-Robots-Tag:noindex
X-PUBLISHED-TTL:PT1H
BEGIN:VTIMEZONE
TZID:America/Los_Angeles
BEGIN:DAYLIGHT
TZOFFSETFROM:-0800
TZOFFSETTO:-0700
TZNAME:PDT
DTSTART:20230312T100000
END:DAYLIGHT
BEGIN:STANDARD
TZOFFSETFROM:-0700
TZOFFSETTO:-0800
TZNAME:PST
DTSTART:20231105T090000
END:STANDARD
BEGIN:DAYLIGHT
TZOFFSETFROM:-0800
TZOFFSETTO:-0700
TZNAME:PDT
DTSTART:20240310T100000
END:DAYLIGHT
BEGIN:STANDARD
TZOFFSETFROM:-0700
TZOFFSETTO:-0800
TZNAME:PST
DTSTART:20241103T090000
END:STANDARD
BEGIN:DAYLIGHT
TZOFFSETFROM:-0800
TZOFFSETTO:-0700
TZNAME:PDT
DTSTART:20250309T100000
END:DAYLIGHT
BEGIN:STANDARD
TZOFFSETFROM:-0700
TZOFFSETTO:-0800
TZNAME:PST
DTSTART:20251102T090000
END:STANDARD
END:VTIMEZONE
BEGIN:VEVENT
DTSTART;TZID=America/Los_Angeles:20240606T140000
DTEND;TZID=America/Los_Angeles:20240606T153000
DTSTAMP:20260419T162411
CREATED:20240301T205617Z
LAST-MODIFIED:20240617T173130Z
UID:7697-1717682400-1717687800@csuaoa.org
SUMMARY:AOA Standing Committee Meeting - Information Technology
DESCRIPTION:Download the full agenda from hereDownload the Minutes of the Meeting here
URL:https://csuaoa.org/event/aoa-standing-committee-meeting-information-technology-7/
LOCATION:Zoom/Conference Call
CATEGORIES:Meeting
ORGANIZER;CN="Alexander Gonzales":MAILTO:agonzale@csun.edu
END:VEVENT
BEGIN:VEVENT
DTSTART;TZID=America/Los_Angeles:20240618T093000
DTEND;TZID=America/Los_Angeles:20240618T110000
DTSTAMP:20260419T162411
CREATED:20240424T174810Z
LAST-MODIFIED:20240424T174810Z
UID:7810-1718703000-1718708400@csuaoa.org
SUMMARY:AOA Standing Committee Meeting - ASI/SU/REC Advisory Group
DESCRIPTION:
URL:https://csuaoa.org/event/aoa-standing-committee-meeting-asi-su-rec-advisory-group-2/
LOCATION:Zoom/Conference Call
CATEGORIES:Meeting
ORGANIZER;CN="Jeffrey Rensel":MAILTO:jrensel@csumb.edu
END:VEVENT
BEGIN:VEVENT
DTSTART;TZID=America/Los_Angeles:20240620T133000
DTEND;TZID=America/Los_Angeles:20240620T150000
DTSTAMP:20260419T162411
CREATED:20240216T202018Z
LAST-MODIFIED:20240216T202018Z
UID:7643-1718890200-1718895600@csuaoa.org
SUMMARY:AOA Conference Planning Committee Meeting
DESCRIPTION:
URL:https://csuaoa.org/event/aoa-conference-planning-committee-meeting-47/
LOCATION:Zoom/Conference Call
CATEGORIES:Meeting
ORGANIZER;CN="Cecilia Ortiz":MAILTO:cortiz@csudh.edu
END:VEVENT
BEGIN:VEVENT
DTSTART;TZID=America/Los_Angeles:20240621T120000
DTEND;TZID=America/Los_Angeles:20240621T140000
DTSTAMP:20260419T162411
CREATED:20240119T175817Z
LAST-MODIFIED:20240715T202243Z
UID:7429-1718971200-1718978400@csuaoa.org
SUMMARY:AOA Executive Committee Meeting
DESCRIPTION:This will be a virtual meeting.   Time of meeting to be determined.Download the full agenda from hereDownload the Minutes of the Meeting here
URL:https://csuaoa.org/event/aoa-executive-committee-meeting-19/
LOCATION:Zoom/Conference Call
CATEGORIES:Meeting
ORGANIZER;CN="Heather Cairns%2C 2024 AOA President":MAILTO:heather.cairns@csun.edu
END:VEVENT
BEGIN:VEVENT
DTSTART;TZID=America/Los_Angeles:20240627T140000
DTEND;TZID=America/Los_Angeles:20240627T150000
DTSTAMP:20260419T162411
CREATED:20240127T185423Z
LAST-MODIFIED:20240127T185423Z
UID:7581-1719496800-1719500400@csuaoa.org
SUMMARY:AOA Standing Committee Meeting - Business and Financial Services Steering Committee
DESCRIPTION:Contact Shailendra Baghel\, Chair for additional information.
URL:https://csuaoa.org/event/aoa-standing-committee-meeting-business-and-financial-services-steering-committee-29/
LOCATION:Zoom/Conference Call
CATEGORIES:Meeting
ORGANIZER;CN="Shailendra Baghel":MAILTO:shailendra.baghel@sjsu.edu
END:VEVENT
BEGIN:VEVENT
DTSTART;TZID=America/Los_Angeles:20240628T140000
DTEND;TZID=America/Los_Angeles:20240628T150000
DTSTAMP:20260419T162411
CREATED:20240123T193516Z
LAST-MODIFIED:20240123T193516Z
UID:7465-1719583200-1719586800@csuaoa.org
SUMMARY:AOA Standing Committee Meeting - Human Resources
DESCRIPTION:Monthly meeting of the AOA Human Resources standing committee.
URL:https://csuaoa.org/event/aoa-standing-committee-meeting-human-resources-28/
LOCATION:Zoom/Conference Call
CATEGORIES:Meeting
ORGANIZER;CN="Yvonne Bermudez":MAILTO:yvonne.bermudez@csulb.edu
END:VEVENT
END:VCALENDAR