BEGIN:VCALENDAR
VERSION:2.0
PRODID:-//Auxiliary Organizations Association (AOA) - ECPv6.15.13//NONSGML v1.0//EN
CALSCALE:GREGORIAN
METHOD:PUBLISH
X-WR-CALNAME:Auxiliary Organizations Association (AOA)
X-ORIGINAL-URL:https://csuaoa.org
X-WR-CALDESC:Events for Auxiliary Organizations Association (AOA)
REFRESH-INTERVAL;VALUE=DURATION:PT1H
X-Robots-Tag:noindex
X-PUBLISHED-TTL:PT1H
BEGIN:VTIMEZONE
TZID:America/Los_Angeles
BEGIN:DAYLIGHT
TZOFFSETFROM:-0800
TZOFFSETTO:-0700
TZNAME:PDT
DTSTART:20230312T100000
END:DAYLIGHT
BEGIN:STANDARD
TZOFFSETFROM:-0700
TZOFFSETTO:-0800
TZNAME:PST
DTSTART:20231105T090000
END:STANDARD
BEGIN:DAYLIGHT
TZOFFSETFROM:-0800
TZOFFSETTO:-0700
TZNAME:PDT
DTSTART:20240310T100000
END:DAYLIGHT
BEGIN:STANDARD
TZOFFSETFROM:-0700
TZOFFSETTO:-0800
TZNAME:PST
DTSTART:20241103T090000
END:STANDARD
BEGIN:DAYLIGHT
TZOFFSETFROM:-0800
TZOFFSETTO:-0700
TZNAME:PDT
DTSTART:20250309T100000
END:DAYLIGHT
BEGIN:STANDARD
TZOFFSETFROM:-0700
TZOFFSETTO:-0800
TZNAME:PST
DTSTART:20251102T090000
END:STANDARD
END:VTIMEZONE
BEGIN:VEVENT
DTSTART;TZID=America/Los_Angeles:20240715T130000
DTEND;TZID=America/Los_Angeles:20240715T143000
DTSTAMP:20260419T162421
CREATED:20240424T174916Z
LAST-MODIFIED:20240424T174916Z
UID:7812-1721048400-1721053800@csuaoa.org
SUMMARY:AOA Standing Committee Meeting - ASI/SU/REC Advisory Group
DESCRIPTION:
URL:https://csuaoa.org/event/aoa-standing-committee-meeting-asi-su-rec-advisory-group-3/
LOCATION:Zoom/Conference Call
CATEGORIES:Meeting
ORGANIZER;CN="Jeffrey Rensel":MAILTO:jrensel@csumb.edu
END:VEVENT
BEGIN:VEVENT
DTSTART;TZID=America/Los_Angeles:20240718T133000
DTEND;TZID=America/Los_Angeles:20240718T150000
DTSTAMP:20260419T162421
CREATED:20240216T202119Z
LAST-MODIFIED:20240216T202119Z
UID:7645-1721309400-1721314800@csuaoa.org
SUMMARY:AOA Conference Planning Committee Meeting
DESCRIPTION:
URL:https://csuaoa.org/event/aoa-conference-planning-committee-meeting-48/
LOCATION:Zoom/Conference Call
CATEGORIES:Meeting
ORGANIZER;CN="Cecilia Ortiz":MAILTO:cortiz@csudh.edu
END:VEVENT
BEGIN:VEVENT
DTSTART;VALUE=DATE:20240722
DTEND;VALUE=DATE:20240725
DTSTAMP:20260419T162421
CREATED:20240124T202744Z
LAST-MODIFIED:20240124T202744Z
UID:7490-1721606400-1721865599@csuaoa.org
SUMMARY:CSU Board of Trustees Meeting
DESCRIPTION:
URL:https://csuaoa.org/event/csu-board-of-trustees-meeting-38/
LOCATION:CSU Office of the Chancellor\, 401 Golden Shore\, Long Beach\, CA\, 90802\, United States
CATEGORIES:Meeting
END:VEVENT
BEGIN:VEVENT
DTSTART;TZID=America/Los_Angeles:20240725T140000
DTEND;TZID=America/Los_Angeles:20240725T150000
DTSTAMP:20260419T162421
CREATED:20240127T183726Z
LAST-MODIFIED:20240127T183726Z
UID:7568-1721916000-1721919600@csuaoa.org
SUMMARY:AOA Standing Committee Meeting - Business And Financial Services Steering Committee
DESCRIPTION:Contact Shailendra Baghel\, Chair for additional information.
URL:https://csuaoa.org/event/aoa-standing-committee-meeting-business-and-financial-services-steering-committee-24/
LOCATION:Zoom/Conference Call
CATEGORIES:Meeting
ORGANIZER;CN="Shailendra Baghel":MAILTO:shailendra.baghel@sjsu.edu
END:VEVENT
BEGIN:VEVENT
DTSTART;TZID=America/Los_Angeles:20240726T140000
DTEND;TZID=America/Los_Angeles:20240726T150000
DTSTAMP:20260419T162421
CREATED:20240123T193643Z
LAST-MODIFIED:20240726T232716Z
UID:7467-1722002400-1722006000@csuaoa.org
SUMMARY:AOA Standing Committee Meeting - Human Resources
DESCRIPTION:Monthly meeting of the AOA Human Resources standing committee.   Download the full agenda from here
URL:https://csuaoa.org/event/aoa-standing-committee-meeting-human-resources-29/
LOCATION:Zoom/Conference Call
CATEGORIES:Meeting
ORGANIZER;CN="Yvonne Bermudez":MAILTO:yvonne.bermudez@csulb.edu
END:VEVENT
BEGIN:VEVENT
DTSTART;TZID=America/Los_Angeles:20240729T150000
DTEND;TZID=America/Los_Angeles:20240729T170000
DTSTAMP:20260419T162421
CREATED:20240424T174414Z
LAST-MODIFIED:20240424T174414Z
UID:7804-1722265200-1722272400@csuaoa.org
SUMMARY:AOA Standing Committee Meeting - Associated Students/Student Unions/Recreation Centers
DESCRIPTION:
URL:https://csuaoa.org/event/aoa-standing-committee-meeting-associated-students-student-unions-recreation-centers-6/
LOCATION:Zoom/Conference Call
CATEGORIES:Meeting
ORGANIZER;CN="Jeffrey Rensel":MAILTO:jrensel@csumb.edu
END:VEVENT
END:VCALENDAR