BEGIN:VCALENDAR
VERSION:2.0
PRODID:-//Auxiliary Organizations Association (AOA) - ECPv6.15.13//NONSGML v1.0//EN
CALSCALE:GREGORIAN
METHOD:PUBLISH
X-ORIGINAL-URL:https://csuaoa.org
X-WR-CALDESC:Events for Auxiliary Organizations Association (AOA)
REFRESH-INTERVAL;VALUE=DURATION:PT1H
X-Robots-Tag:noindex
X-PUBLISHED-TTL:PT1H
BEGIN:VTIMEZONE
TZID:America/Los_Angeles
BEGIN:DAYLIGHT
TZOFFSETFROM:-0800
TZOFFSETTO:-0700
TZNAME:PDT
DTSTART:20230312T100000
END:DAYLIGHT
BEGIN:STANDARD
TZOFFSETFROM:-0700
TZOFFSETTO:-0800
TZNAME:PST
DTSTART:20231105T090000
END:STANDARD
BEGIN:DAYLIGHT
TZOFFSETFROM:-0800
TZOFFSETTO:-0700
TZNAME:PDT
DTSTART:20240310T100000
END:DAYLIGHT
BEGIN:STANDARD
TZOFFSETFROM:-0700
TZOFFSETTO:-0800
TZNAME:PST
DTSTART:20241103T090000
END:STANDARD
BEGIN:DAYLIGHT
TZOFFSETFROM:-0800
TZOFFSETTO:-0700
TZNAME:PDT
DTSTART:20250309T100000
END:DAYLIGHT
BEGIN:STANDARD
TZOFFSETFROM:-0700
TZOFFSETTO:-0800
TZNAME:PST
DTSTART:20251102T090000
END:STANDARD
END:VTIMEZONE
BEGIN:VEVENT
DTSTART;TZID=America/Los_Angeles:20241114T083000
DTEND;TZID=America/Los_Angeles:20241114T143000
DTSTAMP:20260419T084545
CREATED:20240216T202404Z
LAST-MODIFIED:20240216T202404Z
UID:7651-1731573000-1731594600@csuaoa.org
SUMMARY:AOA Conference Planning Committee Meeting
DESCRIPTION:
URL:https://csuaoa.org/event/aoa-conference-planning-committee-meeting-51/
LOCATION:Sheraton San Diego Hotel & Marina\, 1380 Harbor Drive\, San Diego\, CA\, 92101\, United States
CATEGORIES:Meeting
ORGANIZER;CN="Cecilia Ortiz":MAILTO:cortiz@csudh.edu
END:VEVENT
BEGIN:VEVENT
DTSTART;TZID=America/Los_Angeles:20241115T083000
DTEND;TZID=America/Los_Angeles:20241115T143000
DTSTAMP:20260419T084545
CREATED:20240119T180119Z
LAST-MODIFIED:20250605T190313Z
UID:7433-1731659400-1731681000@csuaoa.org
SUMMARY:AOA Executive Committee Meeting
DESCRIPTION:THIS WILL BE A VIRTUAL MEETING. \n\nDownload the full agenda from here.Download the minutes of the meeting from here.
URL:https://csuaoa.org/event/aoa-executive-committee-meeting-21/
LOCATION:Zoom/Conference Call
CATEGORIES:Meeting
ORGANIZER;CN="Heather Cairns%2C 2024 AOA President":MAILTO:heather.cairns@csun.edu
END:VEVENT
BEGIN:VEVENT
DTSTART;VALUE=DATE:20241119
DTEND;VALUE=DATE:20241121
DTSTAMP:20260419T084545
CREATED:20240124T202917Z
LAST-MODIFIED:20240124T202917Z
UID:7494-1731974400-1732147199@csuaoa.org
SUMMARY:CSU Board of Trustees Meeting
DESCRIPTION:
URL:https://csuaoa.org/event/csu-board-of-trustees-meeting-40/
LOCATION:CSU Office of the Chancellor\, 401 Golden Shore\, Long Beach\, CA\, 90802\, United States
CATEGORIES:Meeting
END:VEVENT
BEGIN:VEVENT
DTSTART;TZID=America/Los_Angeles:20241121T140000
DTEND;TZID=America/Los_Angeles:20241121T150000
DTSTAMP:20260419T084545
CREATED:20240127T184316Z
LAST-MODIFIED:20240127T184316Z
UID:7576-1732197600-1732201200@csuaoa.org
SUMMARY:AOA Standing Committee Meeting - Business And Financial Services Steering Committee
DESCRIPTION:Contact Shailendra Baghel\, Chair for additional information.
URL:https://csuaoa.org/event/aoa-standing-committee-meeting-business-and-financial-services-steering-committee-28/
LOCATION:Zoom/Conference Call
CATEGORIES:Meeting
ORGANIZER;CN="Shailendra Baghel":MAILTO:shailendra.baghel@sjsu.edu
END:VEVENT
BEGIN:VEVENT
DTSTART;TZID=America/Los_Angeles:20241121T140000
DTEND;TZID=America/Los_Angeles:20241121T160000
DTSTAMP:20260419T084545
CREATED:20240301T205859Z
LAST-MODIFIED:20240301T210039Z
UID:7703-1732197600-1732204800@csuaoa.org
SUMMARY:AOA Standing Committee Meeting - Information Technology
DESCRIPTION:
URL:https://csuaoa.org/event/aoa-standing-committee-meeting-information-technology-10/
LOCATION:Zoom/Conference Call
CATEGORIES:Meeting
ORGANIZER;CN="Alexander Gonzales":MAILTO:agonzale@csun.edu
END:VEVENT
END:VCALENDAR