BEGIN:VCALENDAR
VERSION:2.0
PRODID:-//Auxiliary Organizations Association (AOA) - ECPv6.15.13//NONSGML v1.0//EN
CALSCALE:GREGORIAN
METHOD:PUBLISH
X-ORIGINAL-URL:https://csuaoa.org
X-WR-CALDESC:Events for Auxiliary Organizations Association (AOA)
REFRESH-INTERVAL;VALUE=DURATION:PT1H
X-Robots-Tag:noindex
X-PUBLISHED-TTL:PT1H
BEGIN:VTIMEZONE
TZID:America/Los_Angeles
BEGIN:DAYLIGHT
TZOFFSETFROM:-0800
TZOFFSETTO:-0700
TZNAME:PDT
DTSTART:20230312T100000
END:DAYLIGHT
BEGIN:STANDARD
TZOFFSETFROM:-0700
TZOFFSETTO:-0800
TZNAME:PST
DTSTART:20231105T090000
END:STANDARD
BEGIN:DAYLIGHT
TZOFFSETFROM:-0800
TZOFFSETTO:-0700
TZNAME:PDT
DTSTART:20240310T100000
END:DAYLIGHT
BEGIN:STANDARD
TZOFFSETFROM:-0700
TZOFFSETTO:-0800
TZNAME:PST
DTSTART:20241103T090000
END:STANDARD
BEGIN:DAYLIGHT
TZOFFSETFROM:-0800
TZOFFSETTO:-0700
TZNAME:PDT
DTSTART:20250309T100000
END:DAYLIGHT
BEGIN:STANDARD
TZOFFSETFROM:-0700
TZOFFSETTO:-0800
TZNAME:PST
DTSTART:20251102T090000
END:STANDARD
END:VTIMEZONE
BEGIN:VEVENT
DTSTART;VALUE=DATE:20240912
DTEND;VALUE=DATE:20240914
DTSTAMP:20260419T131352
CREATED:20240424T174541Z
LAST-MODIFIED:20240424T175349Z
UID:7806-1726099200-1726271999@csuaoa.org
SUMMARY:AOA Standing Committee Meeting - Associated Students/Student Unions/Recreation Centers
DESCRIPTION:This meeting will be held at the Donald P. and Katherine\nB Loker University Student Union.  LSU-131
URL:https://csuaoa.org/event/aoa-standing-committee-meeting-associated-students-student-unions-recreation-centers-7/
LOCATION:CSU Dominguez Hills\, 1000 E. Victoria Street\, Carson\, CA\, 90747\, United States
CATEGORIES:Meeting
ORGANIZER;CN="Jeffrey Rensel":MAILTO:jrensel@csumb.edu
END:VEVENT
BEGIN:VEVENT
DTSTART;TZID=America/Los_Angeles:20240912T133000
DTEND;TZID=America/Los_Angeles:20240912T150000
DTSTAMP:20260419T131352
CREATED:20240227T001746Z
LAST-MODIFIED:20240227T001746Z
UID:7683-1726147800-1726153200@csuaoa.org
SUMMARY:AOA Conference Planning Committee
DESCRIPTION:
URL:https://csuaoa.org/event/aoa-conference-planning-committee/
LOCATION:Zoom/Conference Call
CATEGORIES:Meeting
ORGANIZER;CN="Cecilia Ortiz":MAILTO:cortiz@csudh.edu
END:VEVENT
END:VCALENDAR