BEGIN:VCALENDAR
VERSION:2.0
PRODID:-//Auxiliary Organizations Association (AOA) - ECPv6.15.13//NONSGML v1.0//EN
CALSCALE:GREGORIAN
METHOD:PUBLISH
X-ORIGINAL-URL:https://csuaoa.org
X-WR-CALDESC:Events for Auxiliary Organizations Association (AOA)
REFRESH-INTERVAL;VALUE=DURATION:PT1H
X-Robots-Tag:noindex
X-PUBLISHED-TTL:PT1H
BEGIN:VTIMEZONE
TZID:America/Los_Angeles
BEGIN:DAYLIGHT
TZOFFSETFROM:-0800
TZOFFSETTO:-0700
TZNAME:PDT
DTSTART:20230312T100000
END:DAYLIGHT
BEGIN:STANDARD
TZOFFSETFROM:-0700
TZOFFSETTO:-0800
TZNAME:PST
DTSTART:20231105T090000
END:STANDARD
BEGIN:DAYLIGHT
TZOFFSETFROM:-0800
TZOFFSETTO:-0700
TZNAME:PDT
DTSTART:20240310T100000
END:DAYLIGHT
BEGIN:STANDARD
TZOFFSETFROM:-0700
TZOFFSETTO:-0800
TZNAME:PST
DTSTART:20241103T090000
END:STANDARD
BEGIN:DAYLIGHT
TZOFFSETFROM:-0800
TZOFFSETTO:-0700
TZNAME:PDT
DTSTART:20250309T100000
END:DAYLIGHT
BEGIN:STANDARD
TZOFFSETFROM:-0700
TZOFFSETTO:-0800
TZNAME:PST
DTSTART:20251102T090000
END:STANDARD
END:VTIMEZONE
BEGIN:VEVENT
DTSTART;VALUE=DATE:20241206
DTEND;VALUE=DATE:20241207
DTSTAMP:20260419T084944
CREATED:20240125T183445Z
LAST-MODIFIED:20240125T192627Z
UID:7510-1733443200-1733529599@csuaoa.org
SUMMARY:California State University Risk Management Authority (CSURMA) Meeting - Executive Committee
DESCRIPTION:For meeting details and agendas\, visit the CSURMA/AORMA website – www.csurma.org.
URL:https://csuaoa.org/event/california-state-university-risk-management-authority-csurma-meeting-executive-committee-17/
LOCATION:CA
CATEGORIES:Meeting
ORGANIZER;CN="Mimi Long":MAILTO:mlong@alliant.com
END:VEVENT
BEGIN:VEVENT
DTSTART;TZID=America/Los_Angeles:20241206T140000
DTEND;TZID=America/Los_Angeles:20241206T150000
DTSTAMP:20260419T084944
CREATED:20240123T194233Z
LAST-MODIFIED:20241224T203325Z
UID:7475-1733493600-1733497200@csuaoa.org
SUMMARY:AOA Standing Committee Meeting - Human Resources
DESCRIPTION:Meeting of the AOA Human Resources standing committee. \n\n\nDownload the full agenda from here.
URL:https://csuaoa.org/event/aoa-standing-committee-meeting-human-resources-33/
LOCATION:Zoom/Conference Call
CATEGORIES:Meeting
ORGANIZER;CN="Yvonne Bermudez":MAILTO:yvonne.bermudez@csulb.edu
END:VEVENT
END:VCALENDAR