BEGIN:VCALENDAR
VERSION:2.0
PRODID:-//Auxiliary Organizations Association (AOA) - ECPv6.15.13//NONSGML v1.0//EN
CALSCALE:GREGORIAN
METHOD:PUBLISH
X-WR-CALNAME:Auxiliary Organizations Association (AOA)
X-ORIGINAL-URL:https://csuaoa.org
X-WR-CALDESC:Events for Auxiliary Organizations Association (AOA)
REFRESH-INTERVAL;VALUE=DURATION:PT1H
X-Robots-Tag:noindex
X-PUBLISHED-TTL:PT1H
BEGIN:VTIMEZONE
TZID:America/Los_Angeles
BEGIN:DAYLIGHT
TZOFFSETFROM:-0800
TZOFFSETTO:-0700
TZNAME:PDT
DTSTART:20240310T100000
END:DAYLIGHT
BEGIN:STANDARD
TZOFFSETFROM:-0700
TZOFFSETTO:-0800
TZNAME:PST
DTSTART:20241103T090000
END:STANDARD
BEGIN:DAYLIGHT
TZOFFSETFROM:-0800
TZOFFSETTO:-0700
TZNAME:PDT
DTSTART:20250309T100000
END:DAYLIGHT
BEGIN:STANDARD
TZOFFSETFROM:-0700
TZOFFSETTO:-0800
TZNAME:PST
DTSTART:20251102T090000
END:STANDARD
BEGIN:DAYLIGHT
TZOFFSETFROM:-0800
TZOFFSETTO:-0700
TZNAME:PDT
DTSTART:20260308T100000
END:DAYLIGHT
BEGIN:STANDARD
TZOFFSETFROM:-0700
TZOFFSETTO:-0800
TZNAME:PST
DTSTART:20261101T090000
END:STANDARD
END:VTIMEZONE
BEGIN:VEVENT
DTSTART;TZID=America/Los_Angeles:20250111T150000
DTEND;TZID=America/Los_Angeles:20250111T170000
DTSTAMP:20260419T071605
CREATED:20240119T181403Z
LAST-MODIFIED:20250414T114516Z
UID:7439-1736607600-1736614800@csuaoa.org
SUMMARY:AOA Executive Committee Meeting
DESCRIPTION:This meeting will be held in Tidepool 2.Download the full agenda from here.Download the full Minutes of the meeting from here
URL:https://csuaoa.org/event/aoa-executive-committee-meeting-22/
LOCATION:Sheraton San Diego Hotel & Marina\, 1380 Harbor Drive\, San Diego\, CA\, 92101\, United States
CATEGORIES:Meeting
ORGANIZER;CN="Heather Cairns%2C 2024 AOA President":MAILTO:heather.cairns@csun.edu
END:VEVENT
END:VCALENDAR