BEGIN:VCALENDAR
VERSION:2.0
PRODID:-//Auxiliary Organizations Association (AOA) - ECPv6.15.13//NONSGML v1.0//EN
CALSCALE:GREGORIAN
METHOD:PUBLISH
X-WR-CALNAME:Auxiliary Organizations Association (AOA)
X-ORIGINAL-URL:https://csuaoa.org
X-WR-CALDESC:Events for Auxiliary Organizations Association (AOA)
REFRESH-INTERVAL;VALUE=DURATION:PT1H
X-Robots-Tag:noindex
X-PUBLISHED-TTL:PT1H
BEGIN:VTIMEZONE
TZID:America/Los_Angeles
BEGIN:DAYLIGHT
TZOFFSETFROM:-0800
TZOFFSETTO:-0700
TZNAME:PDT
DTSTART:20220313T100000
END:DAYLIGHT
BEGIN:STANDARD
TZOFFSETFROM:-0700
TZOFFSETTO:-0800
TZNAME:PST
DTSTART:20221106T090000
END:STANDARD
BEGIN:DAYLIGHT
TZOFFSETFROM:-0800
TZOFFSETTO:-0700
TZNAME:PDT
DTSTART:20230312T100000
END:DAYLIGHT
BEGIN:STANDARD
TZOFFSETFROM:-0700
TZOFFSETTO:-0800
TZNAME:PST
DTSTART:20231105T090000
END:STANDARD
BEGIN:DAYLIGHT
TZOFFSETFROM:-0800
TZOFFSETTO:-0700
TZNAME:PDT
DTSTART:20240310T100000
END:DAYLIGHT
BEGIN:STANDARD
TZOFFSETFROM:-0700
TZOFFSETTO:-0800
TZNAME:PST
DTSTART:20241103T090000
END:STANDARD
END:VTIMEZONE
BEGIN:VEVENT
DTSTART;TZID=America/Los_Angeles:20231019T120000
DTEND;TZID=America/Los_Angeles:20231019T140000
DTSTAMP:20260419T214845
CREATED:20230207T195207Z
LAST-MODIFIED:20230207T195207Z
UID:6690-1697716800-1697724000@csuaoa.org
SUMMARY:AOA Conference Planning Committee Meeting
DESCRIPTION:
URL:https://csuaoa.org/event/aoa-conference-planning-committee-meeting-40/
LOCATION:Zoom/Conference Call
CATEGORIES:Meeting
ORGANIZER;CN="Heather Cairns%2C 2024 AOA President":MAILTO:heather.cairns@csun.edu
END:VEVENT
BEGIN:VEVENT
DTSTART;TZID=America/Los_Angeles:20231010T080000
DTEND;TZID=America/Los_Angeles:20231010T170000
DTSTAMP:20260419T214845
CREATED:20230222T214056Z
LAST-MODIFIED:20230222T214056Z
UID:6745-1696924800-1696957200@csuaoa.org
SUMMARY:California State University Risk Management Authority (CSURMA) Meeting - AIME Committee
DESCRIPTION:
URL:https://csuaoa.org/event/california-state-university-risk-management-authority-csurma-meeting-aime-committee-3/
CATEGORIES:Meeting
ORGANIZER;CN="Mimi Long":MAILTO:mlong@alliant.com
END:VEVENT
BEGIN:VEVENT
DTSTART;TZID=America/Los_Angeles:20230929T140000
DTEND;TZID=America/Los_Angeles:20230929T153000
DTSTAMP:20260419T214845
CREATED:20230127T191912Z
LAST-MODIFIED:20230127T194035Z
UID:6617-1695996000-1696001400@csuaoa.org
SUMMARY:AOA Standing Committee Meeting - Human Resources
DESCRIPTION:Contact Maddison Burton\, Chair for zoom link.
URL:https://csuaoa.org/event/aoa-standing-committee-meeting-human-resources-21/
LOCATION:Zoom/Conference Call
CATEGORIES:Meeting
ORGANIZER;CN="Maddison Burton":MAILTO:mburton@csumb.edu
END:VEVENT
BEGIN:VEVENT
DTSTART;TZID=America/Los_Angeles:20230921T140000
DTEND;TZID=America/Los_Angeles:20230921T150000
DTSTAMP:20260419T214845
CREATED:20230327T174622Z
LAST-MODIFIED:20230327T174622Z
UID:6934-1695304800-1695308400@csuaoa.org
SUMMARY:AOA Standing Committee Meeting - Business And Financial Services Steering Committee
DESCRIPTION:This will be a zoom meeting.Contact Dena Florez\, Chair for call-in instructions.
URL:https://csuaoa.org/event/aoa-standing-committee-meeting-business-and-financial-services-steering-committee-18/
LOCATION:Zoom/Conference Call
CATEGORIES:Meeting
ORGANIZER;CN="Dena Florez":MAILTO:dflorez3@calstatela.edu
END:VEVENT
BEGIN:VEVENT
DTSTART;TZID=America/Los_Angeles:20230921T120000
DTEND;TZID=America/Los_Angeles:20230921T140000
DTSTAMP:20260419T214845
CREATED:20230207T195100Z
LAST-MODIFIED:20230207T195100Z
UID:6688-1695297600-1695304800@csuaoa.org
SUMMARY:AOA Conference Planning Committee Meeting
DESCRIPTION:
URL:https://csuaoa.org/event/aoa-conference-planning-committee-meeting-39/
LOCATION:Zoom/Conference Call
CATEGORIES:Meeting
ORGANIZER;CN="Heather Cairns%2C 2024 AOA President":MAILTO:heather.cairns@csun.edu
END:VEVENT
BEGIN:VEVENT
DTSTART;TZID=America/Los_Angeles:20230919T140000
DTEND;TZID=America/Los_Angeles:20230919T160000
DTSTAMP:20260419T214845
CREATED:20230816T213227Z
LAST-MODIFIED:20230816T213227Z
UID:7205-1695132000-1695139200@csuaoa.org
SUMMARY:AOA Standing Committee - Information Technology
DESCRIPTION:
URL:https://csuaoa.org/event/aoa-standing-committee-information-technology/
LOCATION:Virutal
CATEGORIES:Meeting
ORGANIZER;CN="Matthew Sparks":MAILTO:matthew.sparks@csus.edu
END:VEVENT
BEGIN:VEVENT
DTSTART;TZID=America/Los_Angeles:20230912T080000
DTEND;TZID=America/Los_Angeles:20230913T160000
DTSTAMP:20260419T214845
CREATED:20230222T221409Z
LAST-MODIFIED:20230222T222235Z
UID:6757-1694505600-1694620800@csuaoa.org
SUMMARY:CSU Board of Trustees Meeting
DESCRIPTION:
URL:https://csuaoa.org/event/csu-board-of-trustees-meeting-33/
LOCATION:CSU Office of the Chancellor\, 401 Golden Shore\, Long Beach\, CA\, 90802\, United States
CATEGORIES:Meeting
END:VEVENT
BEGIN:VEVENT
DTSTART;TZID=America/Los_Angeles:20230908T080000
DTEND;TZID=America/Los_Angeles:20230908T170000
DTSTAMP:20260419T214845
CREATED:20230222T213344Z
LAST-MODIFIED:20230222T213344Z
UID:6735-1694160000-1694192400@csuaoa.org
SUMMARY:California State University Risk Management Authority (CSURMA) Meeting - Executive Committee
DESCRIPTION:
URL:https://csuaoa.org/event/california-state-university-risk-management-authority-csurma-meeting-executive-committee-11/
CATEGORIES:Meeting
ORGANIZER;CN="Mimi Long":MAILTO:mlong@alliant.com
END:VEVENT
BEGIN:VEVENT
DTSTART;VALUE=DATE:20230908
DTEND;VALUE=DATE:20230909
DTSTAMP:20260419T214845
CREATED:20230725T182137Z
LAST-MODIFIED:20230725T182137Z
UID:7168-1694131200-1694217599@csuaoa.org
SUMMARY:AOA Standing Committee Meeting - Research Administration
DESCRIPTION:
URL:https://csuaoa.org/event/aoa-standing-committee-meeting-research-administration-18/
LOCATION:San Jose State University\, One Washington Square\, San Jose\, CA\, 95192\, United States
ORGANIZER;CN="Leslie Rodelander":MAILTO:leslie.rodelander@humboldt.edu
END:VEVENT
BEGIN:VEVENT
DTSTART;VALUE=DATE:20230907
DTEND;VALUE=DATE:20230908
DTSTAMP:20260419T214845
CREATED:20230725T181941Z
LAST-MODIFIED:20230725T181941Z
UID:7164-1694044800-1694131199@csuaoa.org
SUMMARY:AOA Standing Committee Meeting - Research Administration
DESCRIPTION:
URL:https://csuaoa.org/event/aoa-standing-committee-meeting-research-administration-17/
LOCATION:San Jose State University\, One Washington Square\, San Jose\, CA\, 95192\, United States
CATEGORIES:Meeting
ORGANIZER;CN="Leslie Rodelander":MAILTO:leslie.rodelander@humboldt.edu
END:VEVENT
BEGIN:VEVENT
DTSTART;TZID=America/Los_Angeles:20230906T080000
DTEND;TZID=America/Los_Angeles:20230907T170000
DTSTAMP:20260419T214845
CREATED:20230222T212708Z
LAST-MODIFIED:20230222T215248Z
UID:6727-1693987200-1694106000@csuaoa.org
SUMMARY:Auxiliary Organizations Risk Management Alliance (AORMA) Meeting - Long Range Planning
DESCRIPTION:
URL:https://csuaoa.org/event/auxiliary-organizations-risk-management-alliance-aorma-meeting-long-range-planning-2/
CATEGORIES:Meeting
ORGANIZER;CN="Mimi Long":MAILTO:mlong@alliant.com
END:VEVENT
BEGIN:VEVENT
DTSTART;TZID=America/Los_Angeles:20230825T140000
DTEND;TZID=America/Los_Angeles:20230825T153000
DTSTAMP:20260419T214845
CREATED:20230127T191759Z
LAST-MODIFIED:20230127T194003Z
UID:6615-1692972000-1692977400@csuaoa.org
SUMMARY:AOA Standing Committee Meeting - Human Resources
DESCRIPTION:Contact Maddison Burton\, Chair for zoom link.
URL:https://csuaoa.org/event/aoa-standing-committee-meeting-human-resources-20/
LOCATION:Zoom/Conference Call
CATEGORIES:Meeting
ORGANIZER;CN="Maddison Burton":MAILTO:mburton@csumb.edu
END:VEVENT
BEGIN:VEVENT
DTSTART;TZID=America/Los_Angeles:20230823T100000
DTEND;TZID=America/Los_Angeles:20230823T223000
DTSTAMP:20260419T214845
CREATED:20230410T230510Z
LAST-MODIFIED:20230410T230510Z
UID:6990-1692784800-1692829800@csuaoa.org
SUMMARY:AOA Standing Committee Meeting Philanthropy Committee
DESCRIPTION:This will be a zoom meeting
URL:https://csuaoa.org/event/aoa-standing-committee-meeting-philanthropy-committee-6/
LOCATION:Zoom/Conference Call
ORGANIZER;CN="Ian Hannah":MAILTO:Ian.hannah@sonoma.edu
END:VEVENT
BEGIN:VEVENT
DTSTART;TZID=America/Los_Angeles:20230823T080000
DTEND;TZID=America/Los_Angeles:20230823T170000
DTSTAMP:20260419T214845
CREATED:20230222T223404Z
LAST-MODIFIED:20230222T223416Z
UID:6774-1692777600-1692810000@csuaoa.org
SUMMARY:CSU Chief Administrators And Business Officers (CABO) Meeting
DESCRIPTION:
URL:https://csuaoa.org/event/csu-chief-administrators-and-business-officers-cabo-meeting/
LOCATION:Virutal
CATEGORIES:Meeting
END:VEVENT
BEGIN:VEVENT
DTSTART;TZID=America/Los_Angeles:20230818T083000
DTEND;TZID=America/Los_Angeles:20230818T140000
DTSTAMP:20260419T214845
CREATED:20230207T183259Z
LAST-MODIFIED:20231116T062903Z
UID:6666-1692347400-1692367200@csuaoa.org
SUMMARY:AOA Executive Committee Meeting
DESCRIPTION:Download the full agenda here Download the Minutes of the Meeting here
URL:https://csuaoa.org/event/aoa-executive-committee-meeting-15/
LOCATION:Hyatt Regency Indian Wells Resort & Spa\, 44-600 Indian Wells Lane\, Indian Wells\, CA\, 92210\, United States
CATEGORIES:Meeting
ORGANIZER;CN="Richard Jackson":MAILTO:rtjackson@csuchico.edu
END:VEVENT
BEGIN:VEVENT
DTSTART;TZID=America/Los_Angeles:20230817T140000
DTEND;TZID=America/Los_Angeles:20230817T150000
DTSTAMP:20260419T214845
CREATED:20230327T174403Z
LAST-MODIFIED:20230327T174458Z
UID:6931-1692280800-1692284400@csuaoa.org
SUMMARY:AOA Standing Committee Meeting - Business And Financial Services
DESCRIPTION:This will be a zoom meeting.Contact Dena Florez\, Chair for call-in instructions.
URL:https://csuaoa.org/event/aoa-standing-committee-meeting-business-and-financial-services-steering-committee-17/
LOCATION:Zoom/Conference Call
CATEGORIES:Meeting
ORGANIZER;CN="Dena Florez":MAILTO:dflorez3@calstatela.edu
END:VEVENT
BEGIN:VEVENT
DTSTART;TZID=America/Los_Angeles:20230817T083000
DTEND;TZID=America/Los_Angeles:20230817T140000
DTSTAMP:20260419T214845
CREATED:20230207T195005Z
LAST-MODIFIED:20230207T195005Z
UID:6686-1692261000-1692280800@csuaoa.org
SUMMARY:AOA Conference Planning Committee Meeting
DESCRIPTION:
URL:https://csuaoa.org/event/aoa-conference-planning-committee-meeting-38/
LOCATION:Hyatt Regency Indian Wells Resort & Spa\, 44-600 Indian Wells Lane\, Indian Wells\, CA\, 92210\, United States
CATEGORIES:Meeting
ORGANIZER;CN="Heather Cairns%2C 2024 AOA President":MAILTO:heather.cairns@csun.edu
END:VEVENT
BEGIN:VEVENT
DTSTART;TZID=America/Los_Angeles:20230728T140000
DTEND;TZID=America/Los_Angeles:20230728T153000
DTSTAMP:20260419T214845
CREATED:20230127T191647Z
LAST-MODIFIED:20230127T193933Z
UID:6613-1690552800-1690558200@csuaoa.org
SUMMARY:AOA Standing Committee Meeting - Human Resources
DESCRIPTION:Contact Maddison Burton\, Chair for zoom link.
URL:https://csuaoa.org/event/aoa-standing-committee-meeting-human-resources-19/
LOCATION:Zoom/Conference Call
CATEGORIES:Meeting
ORGANIZER;CN="Maddison Burton":MAILTO:mburton@csumb.edu
END:VEVENT
BEGIN:VEVENT
DTSTART;TZID=America/Los_Angeles:20230728T120000
DTEND;TZID=America/Los_Angeles:20230728T140000
DTSTAMP:20260419T214845
CREATED:20230207T194913Z
LAST-MODIFIED:20230614T210105Z
UID:6684-1690545600-1690552800@csuaoa.org
SUMMARY:AOA Conference Planning Committee Meeting
DESCRIPTION:Rescheduled To July 28\, 2023
URL:https://csuaoa.org/event/aoa-conference-planning-committee-meeting-37/
LOCATION:Zoom/Conference Call
CATEGORIES:Meeting
ORGANIZER;CN="Heather Cairns%2C 2024 AOA President":MAILTO:heather.cairns@csun.edu
END:VEVENT
BEGIN:VEVENT
DTSTART;TZID=America/Los_Angeles:20230726T080000
DTEND;TZID=America/Los_Angeles:20230728T170000
DTSTAMP:20260419T214845
CREATED:20230814T205226Z
LAST-MODIFIED:20230814T205226Z
UID:7191-1690358400-1690563600@csuaoa.org
SUMMARY:AOA Standing Committee Meeting - Mini Human Resources Conference
DESCRIPTION:
URL:https://csuaoa.org/event/aoa-standing-committee-meeting-mini-human-resources-conference/
LOCATION:Long Beach\, CA\, United States
CATEGORIES:Meeting
ORGANIZER;CN="Maddison Burton":MAILTO:mburton@csumb.edu
END:VEVENT
BEGIN:VEVENT
DTSTART;TZID=America/Los_Angeles:20230720T140000
DTEND;TZID=America/Los_Angeles:20230720T150000
DTSTAMP:20260419T214845
CREATED:20230327T174220Z
LAST-MODIFIED:20230327T174220Z
UID:6929-1689861600-1689865200@csuaoa.org
SUMMARY:AOA Standing Committee Meeting - Business And Financial Services Steering Committee
DESCRIPTION:This will be a zoom meeting.Contact Dena Florez\, Chair for call-in instructions.
URL:https://csuaoa.org/event/aoa-standing-committee-meeting-business-and-financial-services-steering-committee-16/
LOCATION:Zoom/Conference Call
CATEGORIES:Meeting
ORGANIZER;CN="Dena Florez":MAILTO:dflorez3@calstatela.edu
END:VEVENT
BEGIN:VEVENT
DTSTART;TZID=America/Los_Angeles:20230718T140000
DTEND;TZID=America/Los_Angeles:20230718T160000
DTSTAMP:20260419T214845
CREATED:20230816T212855Z
LAST-MODIFIED:20230818T201054Z
UID:7200-1689688800-1689696000@csuaoa.org
SUMMARY:AOA Standing Committee Meeting - Information Technology
DESCRIPTION:Download the Minutes of the Meeting here
URL:https://csuaoa.org/event/aoa-standing-committee-meeting-information-technology-4/
LOCATION:Virutal
CATEGORIES:Meeting
ORGANIZER;CN="Alexander Gonzales":MAILTO:agonzale@csun.edu
END:VEVENT
BEGIN:VEVENT
DTSTART;TZID=America/Los_Angeles:20230710T080000
DTEND;TZID=America/Los_Angeles:20230712T160000
DTSTAMP:20260419T214845
CREATED:20230222T221326Z
LAST-MODIFIED:20230222T221326Z
UID:6755-1688976000-1689177600@csuaoa.org
SUMMARY:CSU Board of Trustees Meeting
DESCRIPTION:
URL:https://csuaoa.org/event/csu-board-of-trustees-meeting-32/
LOCATION:CSU Office of the Chancellor\, 401 Golden Shore\, Long Beach\, CA\, 90802\, United States
CATEGORIES:Meeting
END:VEVENT
BEGIN:VEVENT
DTSTART;TZID=America/Los_Angeles:20230630T140000
DTEND;TZID=America/Los_Angeles:20230630T153000
DTSTAMP:20260419T214845
CREATED:20230127T191542Z
LAST-MODIFIED:20230127T193854Z
UID:6611-1688133600-1688139000@csuaoa.org
SUMMARY:AOA Standing Committee Meeting - Human Resources
DESCRIPTION:Contact Maddison Burton\, Chair for zoom link.
URL:https://csuaoa.org/event/aoa-standing-committee-meeting-human-resources-18/
LOCATION:Zoom/Conference Call
CATEGORIES:Meeting
ORGANIZER;CN="Maddison Burton":MAILTO:mburton@csumb.edu
END:VEVENT
BEGIN:VEVENT
DTSTART;TZID=America/Los_Angeles:20230628T080000
DTEND;TZID=America/Los_Angeles:20230628T170000
DTSTAMP:20260419T214845
CREATED:20230222T223650Z
LAST-MODIFIED:20230222T223650Z
UID:6781-1687939200-1687971600@csuaoa.org
SUMMARY:CSU Chief Administrators And Business Officers (CABO) Meeting
DESCRIPTION:
URL:https://csuaoa.org/event/csu-chief-administrators-and-business-officers-cabo-meeting-4/
LOCATION:Virutal
CATEGORIES:Meeting
END:VEVENT
BEGIN:VEVENT
DTSTART;TZID=America/Los_Angeles:20230616T120000
DTEND;TZID=America/Los_Angeles:20230616T140000
DTSTAMP:20260419T214845
CREATED:20230207T183140Z
LAST-MODIFIED:20230817T203709Z
UID:6664-1686916800-1686924000@csuaoa.org
SUMMARY:AOA Executive Committee Meeting
DESCRIPTION:Download the full agenda hereDownload the Minutes of the Meeting here
URL:https://csuaoa.org/event/aoa-executive-committee-meeting-14/
LOCATION:Zoom/Conference Call
CATEGORIES:Meeting
ORGANIZER;CN="Richard Jackson":MAILTO:rtjackson@csuchico.edu
END:VEVENT
BEGIN:VEVENT
DTSTART;TZID=America/Los_Angeles:20230614T120000
DTEND;TZID=America/Los_Angeles:20230614T140000
DTSTAMP:20260419T214845
CREATED:20230207T194811Z
LAST-MODIFIED:20230522T202629Z
UID:6682-1686744000-1686751200@csuaoa.org
SUMMARY:AOA Conference Planning Committee Meeting
DESCRIPTION:Rescheduled to June 14\, 2023
URL:https://csuaoa.org/event/aoa-conference-planning-committee-meeting-36/
LOCATION:Zoom/Conference Call
CATEGORIES:Meeting
ORGANIZER;CN="Heather Cairns%2C 2024 AOA President":MAILTO:heather.cairns@csun.edu
END:VEVENT
BEGIN:VEVENT
DTSTART;TZID=America/Los_Angeles:20230612T130000
DTEND;TZID=America/Los_Angeles:20230612T160000
DTSTAMP:20260419T214845
CREATED:20230522T202425Z
LAST-MODIFIED:20230522T202425Z
UID:7046-1686574800-1686585600@csuaoa.org
SUMMARY:AOA Standing Committee Meeting - Associated Students/Student Union/Recreation Centers
DESCRIPTION:
URL:https://csuaoa.org/event/aoa-standing-committee-meeting-associated-students-student-union-recreation-centers/
LOCATION:Zoom/Conference Call
CATEGORIES:Meeting
END:VEVENT
BEGIN:VEVENT
DTSTART;VALUE=DATE:20230601
DTEND;VALUE=DATE:20230602
DTSTAMP:20260419T214845
CREATED:20230324T203604Z
LAST-MODIFIED:20230324T203604Z
UID:6910-1685577600-1685663999@csuaoa.org
SUMMARY:AOA Standing Committee Meeting - Research Administration
DESCRIPTION:This meeting will be a joint meeting with AOA RAC and CCRO
URL:https://csuaoa.org/event/aoa-standing-committee-meeting-research-administration-16/
LOCATION:CSU Dominguez Hills\, 1000 E. Victoria Street\, Carson\, CA\, 90747\, United States
CATEGORIES:Meeting
ORGANIZER;CN="Leslie Rodelander":MAILTO:leslie.rodelander@humboldt.edu
END:VEVENT
BEGIN:VEVENT
DTSTART;VALUE=DATE:20230531
DTEND;VALUE=DATE:20230601
DTSTAMP:20260419T214845
CREATED:20230324T203432Z
LAST-MODIFIED:20230324T203432Z
UID:6906-1685491200-1685577599@csuaoa.org
SUMMARY:AOA Standing Committee Meeting - Research Administration
DESCRIPTION:
URL:https://csuaoa.org/event/aoa-standing-committee-meeting-research-administration-15/
LOCATION:CSU Dominguez Hills\, 1000 E. Victoria Street\, Carson\, CA\, 90747\, United States
CATEGORIES:Meeting
ORGANIZER;CN="Leslie Rodelander":MAILTO:leslie.rodelander@humboldt.edu
END:VEVENT
END:VCALENDAR