BEGIN:VCALENDAR
VERSION:2.0
PRODID:-//Auxiliary Organizations Association (AOA) - ECPv6.15.13//NONSGML v1.0//EN
CALSCALE:GREGORIAN
METHOD:PUBLISH
X-WR-CALNAME:Auxiliary Organizations Association (AOA)
X-ORIGINAL-URL:https://csuaoa.org
X-WR-CALDESC:Events for Auxiliary Organizations Association (AOA)
REFRESH-INTERVAL;VALUE=DURATION:PT1H
X-Robots-Tag:noindex
X-PUBLISHED-TTL:PT1H
BEGIN:VTIMEZONE
TZID:America/Los_Angeles
BEGIN:DAYLIGHT
TZOFFSETFROM:-0800
TZOFFSETTO:-0700
TZNAME:PDT
DTSTART:20200308T100000
END:DAYLIGHT
BEGIN:STANDARD
TZOFFSETFROM:-0700
TZOFFSETTO:-0800
TZNAME:PST
DTSTART:20201101T090000
END:STANDARD
BEGIN:DAYLIGHT
TZOFFSETFROM:-0800
TZOFFSETTO:-0700
TZNAME:PDT
DTSTART:20210314T100000
END:DAYLIGHT
BEGIN:STANDARD
TZOFFSETFROM:-0700
TZOFFSETTO:-0800
TZNAME:PST
DTSTART:20211107T090000
END:STANDARD
BEGIN:DAYLIGHT
TZOFFSETFROM:-0800
TZOFFSETTO:-0700
TZNAME:PDT
DTSTART:20220313T100000
END:DAYLIGHT
BEGIN:STANDARD
TZOFFSETFROM:-0700
TZOFFSETTO:-0800
TZNAME:PST
DTSTART:20221106T090000
END:STANDARD
BEGIN:DAYLIGHT
TZOFFSETFROM:-0800
TZOFFSETTO:-0700
TZNAME:PDT
DTSTART:20230312T100000
END:DAYLIGHT
BEGIN:STANDARD
TZOFFSETFROM:-0700
TZOFFSETTO:-0800
TZNAME:PST
DTSTART:20231105T090000
END:STANDARD
END:VTIMEZONE
BEGIN:VEVENT
DTSTART;VALUE=DATE:20220125
DTEND;VALUE=DATE:20220126
DTSTAMP:20260420T005938
CREATED:20220404T202330Z
LAST-MODIFIED:20220404T202330Z
UID:6044-1643068800-1643155199@csuaoa.org
SUMMARY:CSU Board of Trustees Meeting
DESCRIPTION:
URL:https://csuaoa.org/event/csu-board-of-trustees-meeting-20/
END:VEVENT
BEGIN:VEVENT
DTSTART;TZID=America/Los_Angeles:20220124T090000
DTEND;TZID=America/Los_Angeles:20220124T120000
DTSTAMP:20260420T005938
CREATED:20220404T202252Z
LAST-MODIFIED:20220404T202252Z
UID:6042-1643014800-1643025600@csuaoa.org
SUMMARY:CSU Board Of Trustees Meeting
DESCRIPTION:
URL:https://csuaoa.org/event/csu-board-of-trustees-meeting-19/
END:VEVENT
BEGIN:VEVENT
DTSTART;TZID=America/Los_Angeles:20220120T153000
DTEND;TZID=America/Los_Angeles:20220120T163000
DTSTAMP:20260420T005938
CREATED:20220118T232041Z
LAST-MODIFIED:20220118T232041Z
UID:5750-1642692600-1642696200@csuaoa.org
SUMMARY:AOA Standing Committee Meeting - Commercial Services
DESCRIPTION:
URL:https://csuaoa.org/event/aoa-standing-committee-meeting-commercial-services-2/
LOCATION:Zoom/Conference Call
ORGANIZER;CN="Aaron Neilson":MAILTO:apneilson@cpp.edu
END:VEVENT
BEGIN:VEVENT
DTSTART;TZID=America/Los_Angeles:20220111T140000
DTEND;TZID=America/Los_Angeles:20220111T150000
DTSTAMP:20260420T005938
CREATED:20220106T213947Z
LAST-MODIFIED:20220111T084500Z
UID:5684-1641909600-1641913200@csuaoa.org
SUMMARY:AOA Standing Committee Meeting - Associated Students/Student Unions/Recreation Centers
DESCRIPTION:Due to the cancellation of the 2022 AOA Annual Conference\, The ASI/SU/REC standing committee will hold its meeting and elections on Tuesday\, January 11\, 2022.Download the full agenda here. 
URL:https://csuaoa.org/event/aoa-standing-committee-meeting-associated-students-student-unions-recreation-centers-3/
LOCATION:Zoom/Conference Call
CATEGORIES:Meeting
ORGANIZER;CN="Iraida Venegas":MAILTO:iraida.venegas@csulb.edu
END:VEVENT
BEGIN:VEVENT
DTSTART;TZID=America/Los_Angeles:20220111T100000
DTEND;TZID=America/Los_Angeles:20220111T113000
DTSTAMP:20260420T005938
CREATED:20210402T194222Z
LAST-MODIFIED:20230302T012311Z
UID:5205-1641895200-1641900600@csuaoa.org
SUMMARY:AOA Executive Committee Meeting
DESCRIPTION:Download the full agenda here. Download the Minutes of the Meeting here
URL:https://csuaoa.org/event/aoa-executive-committee-meeting-7/
LOCATION:Zoom/Conference Call
CATEGORIES:Meeting
ORGANIZER;CN="Richard Jackson":MAILTO:rtjackson@csuchico.edu
END:VEVENT
BEGIN:VEVENT
DTSTART;TZID=America/Los_Angeles:20220110T100000
DTEND;TZID=America/Los_Angeles:20220110T123000
DTSTAMP:20260420T005938
CREATED:20220107T182959Z
LAST-MODIFIED:20220110T171622Z
UID:5692-1641808800-1641817800@csuaoa.org
SUMMARY:AOA Standing Committee - Human Resources:  Presentation:  Legal Update With Richard Bromley
DESCRIPTION:The AOA Human Resources standing committee will be meeting on Monday\, January 10th\, and will feature a legal update with Richard Bromley.   All are invited to attend.Meeting ID: 817 6982 6068 Passcode: 173530 One tap mobile +16699006833\,\,81769826068#\,\,\,\,*173530# US (San Jose) +12532158782\,\,81769826068#\,\,\,\,*173530# US (Tacoma)   Dial by your location         +1 669 900 6833 US (San Jose)         +1 253 215 8782 US (Tacoma)         +1 346 248 7799 US (Houston)         +1 646 558 8656 US (New York)         +1 301 715 8592 US (Washington DC)         +1 312 626 6799 US (Chicago) Meeting ID: 817 6982 6068 Passcode: 173530 Find your local number: https://csun.zoom.us/u/kgtzk52MF   Join by SIP 81769826068@zoomcrc.com   Join by H.323 162.255.37.11 (US West) 162.255.36.11 (US East) 115.114.131.7 (India Mumbai) 115.114.115.7 (India Hyderabad) 213.19.144.110 (Amsterdam Netherlands) 213.244.140.110 (Germany) 103.122.166.55 (Australia Sydney) 103.122.167.55 (Australia Melbourne) 149.137.40.110 (Singapore) 64.211.144.160 (Brazil) 149.137.68.253 (Mexico) 69.174.57.160 (Canada Toronto) 65.39.152.160 (Canada Vancouver) 207.226.132.110 (Japan Tokyo) 149.137.24.110 (Japan Osaka) Meeting ID: 817 6982 6068 Passcode: 173530    
URL:https://csuaoa.org/event/aoa-standing-committee-human-resources/
LOCATION:Zoom/Conference Call
CATEGORIES:Meeting
ORGANIZER;CN="John Doebler":MAILTO:john.doebler@csun.edu
END:VEVENT
BEGIN:VEVENT
DTSTART;TZID=America/Los_Angeles:20220110T090000
DTEND;TZID=America/Los_Angeles:20220110T110000
DTSTAMP:20260420T005938
CREATED:20220106T231545Z
LAST-MODIFIED:20220111T083428Z
UID:5687-1641805200-1641812400@csuaoa.org
SUMMARY:AOA Standing Committee Meeting - Research Administration
DESCRIPTION:The AOA Research Administration meeting previously scheduled for Sunday\, January 9th has been rescheduled to Monday\, January 10\, 2022. Download the full agenda here. 
URL:https://csuaoa.org/event/aoa-standing-committee-meeting-research-administration-9/
LOCATION:Zoom/Conference Call
CATEGORIES:Meeting
ORGANIZER;CN="Jennifer Sneed":MAILTO:jsneed@sdsu.edu
END:VEVENT
BEGIN:VEVENT
DTSTART;VALUE=DATE:20220109
DTEND;VALUE=DATE:20220112
DTSTAMP:20260420T005938
CREATED:20210402T185715Z
LAST-MODIFIED:20220104T201926Z
UID:5179-1641686400-1641945599@csuaoa.org
SUMMARY:AOA 2022 Annual Conference - CANCELLED
DESCRIPTION:
URL:https://csuaoa.org/event/aoa-2022-annual-conference/
LOCATION:Hyatt Regency Indian Wells Resort & Spa\, 44-600 Indian Wells Lane\, Indian Wells\, CA\, 92210\, United States
ORGANIZER;CN="Richard Jackson":MAILTO:rtjackson@csuchico.edu
END:VEVENT
BEGIN:VEVENT
DTSTART;TZID=America/Los_Angeles:20211216T140000
DTEND;TZID=America/Los_Angeles:20211216T160000
DTSTAMP:20260420T005938
CREATED:20210402T191727Z
LAST-MODIFIED:20210402T191727Z
UID:5201-1639663200-1639670400@csuaoa.org
SUMMARY:AOA Conference Planning Committee Meeting
DESCRIPTION:
URL:https://csuaoa.org/event/aoa-conference-planning-committee-meeting-25/
LOCATION:Zoom/Conference Call
CATEGORIES:Meeting
END:VEVENT
BEGIN:VEVENT
DTSTART;VALUE=DATE:20211203
DTEND;VALUE=DATE:20211204
DTSTAMP:20260420T005938
CREATED:20210409T225733Z
LAST-MODIFIED:20210409T225733Z
UID:5295-1638489600-1638575999@csuaoa.org
SUMMARY:California State University Risk Management Authority (CSURMA) Meeting
DESCRIPTION:
URL:https://csuaoa.org/event/california-state-university-risk-management-authority-csurma-meeting-3/
CATEGORIES:Meeting
END:VEVENT
BEGIN:VEVENT
DTSTART;TZID=America/Los_Angeles:20211202T080000
DTEND;TZID=America/Los_Angeles:20211202T170000
DTSTAMP:20260420T005938
CREATED:20210409T225255Z
LAST-MODIFIED:20210409T225255Z
UID:5285-1638432000-1638464400@csuaoa.org
SUMMARY:Auxiliary Organizations Risk Management Alliance (AORMA) Meeting
DESCRIPTION:
URL:https://csuaoa.org/event/auxiliary-organizations-risk-management-alliance-aorma-meeting-2/
CATEGORIES:Meeting
END:VEVENT
BEGIN:VEVENT
DTSTART;TZID=America/Los_Angeles:20211119T083000
DTEND;TZID=America/Los_Angeles:20211119T150000
DTSTAMP:20260420T005938
CREATED:20210402T185225Z
LAST-MODIFIED:20230302T012452Z
UID:5177-1637310600-1637334000@csuaoa.org
SUMMARY:AOA Executive Committee Meeting
DESCRIPTION:Download the full agenda here. Download the Minutes of the Meeting here
URL:https://csuaoa.org/event/aoa-executive-committee-meeting-6/
LOCATION:Hyatt Regency Indian Wells Resort & Spa\, 44-600 Indian Wells Lane\, Indian Wells\, CA\, 92210\, United States
CATEGORIES:Meeting
ORGANIZER;CN="Richard Jackson":MAILTO:rtjackson@csuchico.edu
END:VEVENT
BEGIN:VEVENT
DTSTART;TZID=America/Los_Angeles:20211118T083000
DTEND;TZID=America/Los_Angeles:20211118T150000
DTSTAMP:20260420T005938
CREATED:20210402T191637Z
LAST-MODIFIED:20210402T193731Z
UID:5199-1637224200-1637247600@csuaoa.org
SUMMARY:AOA Conference Planning Committee Meeting
DESCRIPTION:
URL:https://csuaoa.org/event/aoa-conference-planning-committee-meeting-24/
LOCATION:Hyatt Regency Indian Wells Resort & Spa\, 44-600 Indian Wells Lane\, Indian Wells\, CA\, 92210\, United States
CATEGORIES:Meeting
END:VEVENT
BEGIN:VEVENT
DTSTART;TZID=America/Los_Angeles:20211109T080000
DTEND;TZID=America/Los_Angeles:20211110T170000
DTSTAMP:20260420T005938
CREATED:20210408T225246Z
LAST-MODIFIED:20210408T225246Z
UID:5264-1636444800-1636563600@csuaoa.org
SUMMARY:CSU Board of Trustees Meeting
DESCRIPTION:
URL:https://csuaoa.org/event/csu-board-of-trustees-meeting-18/
LOCATION:CSU Office of the Chancellor\, 401 Golden Shore\, Long Beach\, CA\, 90802\, United States
CATEGORIES:Meeting
END:VEVENT
BEGIN:VEVENT
DTSTART;VALUE=DATE:20211029
DTEND;VALUE=DATE:20211030
DTSTAMP:20260420T005938
CREATED:20210409T225658Z
LAST-MODIFIED:20210409T225658Z
UID:5293-1635465600-1635551999@csuaoa.org
SUMMARY:California State University Risk Management Authority (CSURMA) Meeting
DESCRIPTION:
URL:https://csuaoa.org/event/california-state-university-risk-management-authority-csurma-meeting-2/
CATEGORIES:Meeting
END:VEVENT
BEGIN:VEVENT
DTSTART;TZID=America/Los_Angeles:20211028T090000
DTEND;TZID=America/Los_Angeles:20211028T100000
DTSTAMP:20260420T005938
CREATED:20210406T001719Z
LAST-MODIFIED:20220130T193938Z
UID:5223-1635411600-1635415200@csuaoa.org
SUMMARY:AOA Standing Committee Meeting - Philanthropy Committee
DESCRIPTION:
URL:https://csuaoa.org/event/aoa-philanthropic-committee-meeting-4/
LOCATION:Zoom/Conference Call
CATEGORIES:Meeting
ORGANIZER;CN="Monica Alejandre":MAILTO:malejandre@csusb.edu
END:VEVENT
BEGIN:VEVENT
DTSTART;TZID=America/Los_Angeles:20211021T140000
DTEND;TZID=America/Los_Angeles:20211021T160000
DTSTAMP:20260420T005938
CREATED:20210402T191551Z
LAST-MODIFIED:20210402T191551Z
UID:5197-1634824800-1634832000@csuaoa.org
SUMMARY:AOA Conference Planning Committee Meeting
DESCRIPTION:
URL:https://csuaoa.org/event/aoa-conference-planning-committee-meeting-23/
LOCATION:Zoom/Conference Call
CATEGORIES:Meeting
END:VEVENT
BEGIN:VEVENT
DTSTART;VALUE=DATE:20211012
DTEND;VALUE=DATE:20211013
DTSTAMP:20260420T005938
CREATED:20210816T204823Z
LAST-MODIFIED:20210816T204823Z
UID:5532-1633996800-1634083199@csuaoa.org
SUMMARY:AOA Standing Committee Meeting - Research Administration
DESCRIPTION:
URL:https://csuaoa.org/event/aoa-standing-committee-meeting-research-administration-8/
LOCATION:Zoom/Conference Call
CATEGORIES:Meeting
ORGANIZER;CN="Jennifer Sneed":MAILTO:jsneed@sdsu.edu
END:VEVENT
BEGIN:VEVENT
DTSTART;VALUE=DATE:20211011
DTEND;VALUE=DATE:20211012
DTSTAMP:20260420T005938
CREATED:20210816T204308Z
LAST-MODIFIED:20210816T204854Z
UID:5529-1633910400-1633996799@csuaoa.org
SUMMARY:AOA Standing Committee Meeting - Research Administration
DESCRIPTION:
URL:https://csuaoa.org/event/aoa-standing-committee-meeting-research-administration-7/
LOCATION:Zoom/Conference Call
CATEGORIES:Meeting
ORGANIZER;CN="Jennifer Sneed":MAILTO:jsneed@sdsu.edu
END:VEVENT
BEGIN:VEVENT
DTSTART;TZID=America/Los_Angeles:20210916T140000
DTEND;TZID=America/Los_Angeles:20210916T160000
DTSTAMP:20260420T005938
CREATED:20210402T192431Z
LAST-MODIFIED:20210402T192431Z
UID:5203-1631800800-1631808000@csuaoa.org
SUMMARY:AOA Conference Planning Committee Meeting
DESCRIPTION:
URL:https://csuaoa.org/event/aoa-conference-planning-committee-meeting-14/
LOCATION:Zoom/Conference Call
CATEGORIES:Meeting
END:VEVENT
BEGIN:VEVENT
DTSTART;TZID=America/Los_Angeles:20210916T140000
DTEND;TZID=America/Los_Angeles:20210916T150000
DTSTAMP:20260420T005938
CREATED:20210520T180417Z
LAST-MODIFIED:20210520T181506Z
UID:5402-1631800800-1631804400@csuaoa.org
SUMMARY:AOA Standing Committee Meeting - Business And Financial Services Steering Committee Meeting
DESCRIPTION:
URL:https://csuaoa.org/event/aoa-standing-committee-meeting-business-and-financial-services-steering-committee-meeting-5/
LOCATION:Zoom/Conference Call
CATEGORIES:Meeting
END:VEVENT
BEGIN:VEVENT
DTSTART;TZID=America/Los_Angeles:20210914T080000
DTEND;TZID=America/Los_Angeles:20210915T170000
DTSTAMP:20260420T005938
CREATED:20210408T225211Z
LAST-MODIFIED:20210408T225211Z
UID:5262-1631606400-1631725200@csuaoa.org
SUMMARY:CSU Board of Trustees Meeting
DESCRIPTION:
URL:https://csuaoa.org/event/csu-board-of-trustees-meeting-17/
LOCATION:CSU Office of the Chancellor\, 401 Golden Shore\, Long Beach\, CA\, 90802\, United States
CATEGORIES:Meeting
END:VEVENT
BEGIN:VEVENT
DTSTART;VALUE=DATE:20210910
DTEND;VALUE=DATE:20210911
DTSTAMP:20260420T005938
CREATED:20210409T225620Z
LAST-MODIFIED:20210409T225620Z
UID:5291-1631232000-1631318399@csuaoa.org
SUMMARY:California State University Risk Management Authority (CSURMA) Meeting
DESCRIPTION:
URL:https://csuaoa.org/event/california-state-university-risk-management-authority-csurma-meeting/
CATEGORIES:Meeting
END:VEVENT
BEGIN:VEVENT
DTSTART;TZID=America/Los_Angeles:20210908T000000
DTEND;TZID=America/Los_Angeles:20210909T235900
DTSTAMP:20260420T005938
CREATED:20210409T225043Z
LAST-MODIFIED:20210409T225210Z
UID:5282-1631059200-1631231940@csuaoa.org
SUMMARY:Auxiliary Organizations Association Risk Management Alliance (AORMA) Meeting
DESCRIPTION:
URL:https://csuaoa.org/event/auxiliary-organizations-association-risk-management-alliance-aorma-meeting-officers-retreat/
END:VEVENT
BEGIN:VEVENT
DTSTART;TZID=America/Los_Angeles:20210826T093000
DTEND;TZID=America/Los_Angeles:20210826T103000
DTSTAMP:20260420T005938
CREATED:20210406T001623Z
LAST-MODIFIED:20220130T193907Z
UID:5221-1629970200-1629973800@csuaoa.org
SUMMARY:AOA Standing Committee Meeting - Philanthropy Committee
DESCRIPTION:
URL:https://csuaoa.org/event/aoa-philanthropic-committee-meeting-3/
LOCATION:Zoom/Conference Call
CATEGORIES:Meeting
ORGANIZER;CN="Monica Alejandre":MAILTO:malejandre@csusb.edu
END:VEVENT
BEGIN:VEVENT
DTSTART;TZID=America/Los_Angeles:20210820T083000
DTEND;TZID=America/Los_Angeles:20210820T140000
DTSTAMP:20260420T005938
CREATED:20210402T185141Z
LAST-MODIFIED:20230303T114631Z
UID:5175-1629448200-1629468000@csuaoa.org
SUMMARY:AOA Executive Committee Meeting
DESCRIPTION:Download the full agenda here. Download the Minutes of the Meeting here
URL:https://csuaoa.org/event/aoa-executive-committee-meeting-5/
LOCATION:Hyatt Regency Indian Wells Resort & Spa\, 44-600 Indian Wells Lane\, Indian Wells\, CA\, 92210\, United States
CATEGORIES:Meeting
ORGANIZER;CN="Richard Jackson":MAILTO:rtjackson@csuchico.edu
END:VEVENT
BEGIN:VEVENT
DTSTART;TZID=America/Los_Angeles:20210819T140000
DTEND;TZID=America/Los_Angeles:20210819T150000
DTSTAMP:20260420T005938
CREATED:20210520T180302Z
LAST-MODIFIED:20230327T172508Z
UID:5400-1629381600-1629385200@csuaoa.org
SUMMARY:AOA Standing Committee Meeting - Business And Financial Services Steering Committee
DESCRIPTION:
URL:https://csuaoa.org/event/aoa-standing-committee-meeting-business-and-financial-services-steering-committee-meeting-4/
LOCATION:Zoom/Conference Call
CATEGORIES:Meeting
END:VEVENT
BEGIN:VEVENT
DTSTART;TZID=America/Los_Angeles:20210819T083000
DTEND;TZID=America/Los_Angeles:20210819T150000
DTSTAMP:20260420T005938
CREATED:20210402T191456Z
LAST-MODIFIED:20210819T043644Z
UID:5195-1629361800-1629385200@csuaoa.org
SUMMARY:AOA Conference Planning Committee Meeting
DESCRIPTION:Download the full agenda here. 
URL:https://csuaoa.org/event/aoa-conference-planning-committee-meeting-22/
LOCATION:Hyatt Regency Indian Wells Resort & Spa\, 44-600 Indian Wells Lane\, Indian Wells\, CA\, 92210\, United States
CATEGORIES:Meeting
END:VEVENT
BEGIN:VEVENT
DTSTART;TZID=America/Los_Angeles:20210715T140000
DTEND;TZID=America/Los_Angeles:20210715T160000
DTSTAMP:20260420T005938
CREATED:20210520T180148Z
LAST-MODIFIED:20210520T181247Z
UID:5398-1626357600-1626364800@csuaoa.org
SUMMARY:AOA Standing Committee Meeting - Business And Financial Services
DESCRIPTION:
URL:https://csuaoa.org/event/aoa-standing-committee-meeting-business-and-financial-services-5/
LOCATION:Zoom/Conference Call
CATEGORIES:Meeting
END:VEVENT
BEGIN:VEVENT
DTSTART;TZID=America/Los_Angeles:20210715T140000
DTEND;TZID=America/Los_Angeles:20210715T160000
DTSTAMP:20260420T005938
CREATED:20210402T191319Z
LAST-MODIFIED:20210402T191319Z
UID:5191-1626357600-1626364800@csuaoa.org
SUMMARY:AOA Conference Planning Committee Meeting
DESCRIPTION:
URL:https://csuaoa.org/event/aoa-conference-planning-committee-meeting-20/
LOCATION:Zoom/Conference Call
CATEGORIES:Meeting
END:VEVENT
END:VCALENDAR