BEGIN:VCALENDAR
VERSION:2.0
PRODID:-//Auxiliary Organizations Association (AOA) - ECPv6.15.13//NONSGML v1.0//EN
CALSCALE:GREGORIAN
METHOD:PUBLISH
X-WR-CALNAME:Auxiliary Organizations Association (AOA)
X-ORIGINAL-URL:https://csuaoa.org
X-WR-CALDESC:Events for Auxiliary Organizations Association (AOA)
REFRESH-INTERVAL;VALUE=DURATION:PT1H
X-Robots-Tag:noindex
X-PUBLISHED-TTL:PT1H
BEGIN:VTIMEZONE
TZID:America/Los_Angeles
BEGIN:DAYLIGHT
TZOFFSETFROM:-0800
TZOFFSETTO:-0700
TZNAME:PDT
DTSTART:20190310T100000
END:DAYLIGHT
BEGIN:STANDARD
TZOFFSETFROM:-0700
TZOFFSETTO:-0800
TZNAME:PST
DTSTART:20191103T090000
END:STANDARD
BEGIN:DAYLIGHT
TZOFFSETFROM:-0800
TZOFFSETTO:-0700
TZNAME:PDT
DTSTART:20200308T100000
END:DAYLIGHT
BEGIN:STANDARD
TZOFFSETFROM:-0700
TZOFFSETTO:-0800
TZNAME:PST
DTSTART:20201101T090000
END:STANDARD
BEGIN:DAYLIGHT
TZOFFSETFROM:-0800
TZOFFSETTO:-0700
TZNAME:PDT
DTSTART:20210314T100000
END:DAYLIGHT
BEGIN:STANDARD
TZOFFSETFROM:-0700
TZOFFSETTO:-0800
TZNAME:PST
DTSTART:20211107T090000
END:STANDARD
BEGIN:DAYLIGHT
TZOFFSETFROM:-0800
TZOFFSETTO:-0700
TZNAME:PDT
DTSTART:20220313T100000
END:DAYLIGHT
BEGIN:STANDARD
TZOFFSETFROM:-0700
TZOFFSETTO:-0800
TZNAME:PST
DTSTART:20221106T090000
END:STANDARD
END:VTIMEZONE
BEGIN:VEVENT
DTSTART;VALUE=DATE:20210517
DTEND;VALUE=DATE:20210520
DTSTAMP:20260420T063636
CREATED:20210408T225055Z
LAST-MODIFIED:20210408T225055Z
UID:5258-1621209600-1621468799@csuaoa.org
SUMMARY:CSU Board of Trustees Meeting
DESCRIPTION:
URL:https://csuaoa.org/event/csu-board-of-trustees-meeting-15/
LOCATION:CSU Office of the Chancellor\, 401 Golden Shore\, Long Beach\, CA\, 90802\, United States
CATEGORIES:Meeting
END:VEVENT
BEGIN:VEVENT
DTSTART;VALUE=DATE:20210507
DTEND;VALUE=DATE:20210508
DTSTAMP:20260420T063636
CREATED:20210409T225532Z
LAST-MODIFIED:20210409T225532Z
UID:5289-1620345600-1620431999@csuaoa.org
SUMMARY:California State University Risk Management Authority (CSURMA) Meeting - Board of Directors
DESCRIPTION:
URL:https://csuaoa.org/event/california-state-university-risk-management-authority-csurma-meeting-board-of-directors-2/
LOCATION:CA
CATEGORIES:Meeting
END:VEVENT
BEGIN:VEVENT
DTSTART;VALUE=DATE:20210506
DTEND;VALUE=DATE:20210507
DTSTAMP:20260420T063636
CREATED:20210409T224533Z
LAST-MODIFIED:20210409T224533Z
UID:5267-1620259200-1620345599@csuaoa.org
SUMMARY:Auxiliary Organizations Risk Management Alliance (AORMA) Meeting
DESCRIPTION:
URL:https://csuaoa.org/event/auxiliary-organizations-risk-management-alliance-aorma-meeting/
LOCATION:Zoom/Conference Call
CATEGORIES:Meeting
END:VEVENT
BEGIN:VEVENT
DTSTART;TZID=America/Los_Angeles:20210504T090000
DTEND;TZID=America/Los_Angeles:20210504T123000
DTSTAMP:20260420T063636
CREATED:20210407T174503Z
LAST-MODIFIED:20220130T201348Z
UID:5240-1620118800-1620131400@csuaoa.org
SUMMARY:AOA Standing Committee Meeting - Research Administration
DESCRIPTION:
URL:https://csuaoa.org/event/aoa-standing-committee-meeting-research-administration-6/
LOCATION:Zoom/Conference Call
CATEGORIES:Meeting
ORGANIZER;CN="Jennifer Sneed":MAILTO:jsneed@sdsu.edu
END:VEVENT
BEGIN:VEVENT
DTSTART;TZID=America/Los_Angeles:20210503T090000
DTEND;TZID=America/Los_Angeles:20210503T123000
DTSTAMP:20260420T063636
CREATED:20210407T174343Z
LAST-MODIFIED:20220130T200955Z
UID:5237-1620032400-1620045000@csuaoa.org
SUMMARY:AOA Standing Committee Meeting - Research Administration
DESCRIPTION:Download the full agenda here. 
URL:https://csuaoa.org/event/aoa-standing-committee-meeting-research-administration-5/
LOCATION:Zoom/Conference Call
CATEGORIES:Meeting
ORGANIZER;CN="Jennifer Sneed":MAILTO:jsneed@sdsu.edu
END:VEVENT
BEGIN:VEVENT
DTSTART;TZID=America/Los_Angeles:20210422T140000
DTEND;TZID=America/Los_Angeles:20210422T150000
DTSTAMP:20260420T063636
CREATED:20210520T175927Z
LAST-MODIFIED:20210520T181348Z
UID:5394-1619100000-1619103600@csuaoa.org
SUMMARY:AOA Standing Committee Meeting - Business And Financial Services Steering Committee Meeting
DESCRIPTION:
URL:https://csuaoa.org/event/aoa-standing-committee-meeting-business-and-financial-services-steering-committee-meeting-2/
LOCATION:Zoom/Conference Call
CATEGORIES:Meeting
END:VEVENT
BEGIN:VEVENT
DTSTART;TZID=America/Los_Angeles:20210422T090000
DTEND;TZID=America/Los_Angeles:20210422T103000
DTSTAMP:20260420T063636
CREATED:20210406T001526Z
LAST-MODIFIED:20220130T194112Z
UID:5219-1619082000-1619087400@csuaoa.org
SUMMARY:AOA Standing Committee Meeting - Philanthropy Committee
DESCRIPTION:
URL:https://csuaoa.org/event/aoa-philanthropic-committee-meeting-2/
LOCATION:Zoom/Conference Call
CATEGORIES:Meeting
ORGANIZER;CN="Monica Alejandre":MAILTO:malejandre@csusb.edu
END:VEVENT
BEGIN:VEVENT
DTSTART;TZID=America/Los_Angeles:20210416T110000
DTEND;TZID=America/Los_Angeles:20210416T133000
DTSTAMP:20260420T063636
CREATED:20210402T185052Z
LAST-MODIFIED:20230302T012823Z
UID:5173-1618570800-1618579800@csuaoa.org
SUMMARY:AOA Executive Committee Meeting
DESCRIPTION:Download the full agenda here.Download the Minutes of the Meeting here
URL:https://csuaoa.org/event/aoa-executive-committee-meeting-4/
LOCATION:Zoom/Conference Call
CATEGORIES:Meeting
ORGANIZER;CN="Richard Jackson":MAILTO:rtjackson@csuchico.edu
END:VEVENT
BEGIN:VEVENT
DTSTART;TZID=America/Los_Angeles:20210415T140000
DTEND;TZID=America/Los_Angeles:20210415T160000
DTSTAMP:20260420T063636
CREATED:20210402T191048Z
LAST-MODIFIED:20210402T191048Z
UID:5185-1618495200-1618502400@csuaoa.org
SUMMARY:AOA Conference Planning Committee Meeting
DESCRIPTION:
URL:https://csuaoa.org/event/aoa-conference-planning-committee-meeting-17/
LOCATION:Zoom/Conference Call
CATEGORIES:Meeting
END:VEVENT
BEGIN:VEVENT
DTSTART;TZID=America/Los_Angeles:20210406T150000
DTEND;TZID=America/Los_Angeles:20210406T160000
DTSTAMP:20260420T063636
CREATED:20210406T001421Z
LAST-MODIFIED:20220130T194030Z
UID:5216-1617721200-1617724800@csuaoa.org
SUMMARY:AOA Standing Committee Meeting - Philanthropy Committee
DESCRIPTION:Download the full agenda here. 
URL:https://csuaoa.org/event/aoa-philanthropic-committee-meeting/
LOCATION:Zoom/Conference Call
CATEGORIES:Meeting
ORGANIZER;CN="Monica Alejandre":MAILTO:malejandre@csusb.edu
END:VEVENT
BEGIN:VEVENT
DTSTART;VALUE=DATE:20210323
DTEND;VALUE=DATE:20210324
DTSTAMP:20260420T063636
CREATED:20210408T225015Z
LAST-MODIFIED:20210408T225015Z
UID:5256-1616457600-1616543999@csuaoa.org
SUMMARY:CSU Board of Trustees Meeting
DESCRIPTION:
URL:https://csuaoa.org/event/csu-board-of-trustees-meeting-14/
LOCATION:CSU Office of the Chancellor\, 401 Golden Shore\, Long Beach\, CA\, 90802\, United States
CATEGORIES:Meeting
END:VEVENT
BEGIN:VEVENT
DTSTART;TZID=America/Los_Angeles:20210318T140000
DTEND;TZID=America/Los_Angeles:20210318T160000
DTSTAMP:20260420T063636
CREATED:20210402T190956Z
LAST-MODIFIED:20210402T190956Z
UID:5183-1616076000-1616083200@csuaoa.org
SUMMARY:AOA Conference Planning Committee Meeting
DESCRIPTION:
URL:https://csuaoa.org/event/aoa-conference-planning-committee-meeting-16/
LOCATION:Zoom/Conference Call
CATEGORIES:Meeting
END:VEVENT
BEGIN:VEVENT
DTSTART;TZID=America/Los_Angeles:20210311T140000
DTEND;TZID=America/Los_Angeles:20210311T150000
DTSTAMP:20260420T063636
CREATED:20210520T175632Z
LAST-MODIFIED:20210520T181317Z
UID:5392-1615471200-1615474800@csuaoa.org
SUMMARY:AOA Standing Committee Meeting - Business And Financial Services Steering Committee Meeting
DESCRIPTION:
URL:https://csuaoa.org/event/aoa-standing-committee-meeting-business-and-financial-services-steering-committee-meeting/
LOCATION:Zoom/Conference Call
CATEGORIES:Meeting
END:VEVENT
BEGIN:VEVENT
DTSTART;TZID=America/Los_Angeles:20210305T083000
DTEND;TZID=America/Los_Angeles:20210305T113000
DTSTAMP:20260420T063636
CREATED:20210412T191002Z
LAST-MODIFIED:20210412T191002Z
UID:5304-1614933000-1614943800@csuaoa.org
SUMMARY:California State University Risk Management Authority (CSURMA) Meeting
DESCRIPTION:
URL:https://csuaoa.org/event/california-state-university-risk-management-authority-csurma-meeting-4/
LOCATION:Zoom/Conference Call
CATEGORIES:Meeting
ORGANIZER;CN="Mimi Long":MAILTO:mlong@alliant.com
END:VEVENT
BEGIN:VEVENT
DTSTART;TZID=America/Los_Angeles:20210304T143000
DTEND;TZID=America/Los_Angeles:20210304T170000
DTSTAMP:20260420T063636
CREATED:20210409T225438Z
LAST-MODIFIED:20210412T190727Z
UID:5287-1614868200-1614877200@csuaoa.org
SUMMARY:California State University Risk Management Authority (CSURMA) Meeting Long Range Planning
DESCRIPTION:
URL:https://csuaoa.org/event/california-state-university-risk-management-authority-csurma-meeting-long-range-planning/
LOCATION:Zoom/Conference Call
CATEGORIES:Meeting
ORGANIZER;CN="Mimi Long":MAILTO:mlong@alliant.com
END:VEVENT
BEGIN:VEVENT
DTSTART;TZID=America/Los_Angeles:20210217T110000
DTEND;TZID=America/Los_Angeles:20210217T130000
DTSTAMP:20260420T063636
CREATED:20210402T190901Z
LAST-MODIFIED:20210402T190901Z
UID:5181-1613559600-1613566800@csuaoa.org
SUMMARY:AOA Conference Planning Committee Meeting
DESCRIPTION:
URL:https://csuaoa.org/event/aoa-conference-planning-committee-meeting-15/
LOCATION:Zoom/Conference Call
CATEGORIES:Meeting
END:VEVENT
BEGIN:VEVENT
DTSTART;VALUE=DATE:20210126
DTEND;VALUE=DATE:20210128
DTSTAMP:20260420T063636
CREATED:20210408T224940Z
LAST-MODIFIED:20210408T225332Z
UID:5254-1611619200-1611791999@csuaoa.org
SUMMARY:CSU Board of Trustees Meeting
DESCRIPTION:
URL:https://csuaoa.org/event/csu-board-of-trustees-meeting-13/
LOCATION:CSU Office of the Chancellor\, 401 Golden Shore\, Long Beach\, CA\, 90802\, United States
CATEGORIES:Meeting
END:VEVENT
BEGIN:VEVENT
DTSTART;VALUE=DATE:20210110
DTEND;VALUE=DATE:20210114
DTSTAMP:20260420T063636
CREATED:20200130T215308Z
LAST-MODIFIED:20200130T232804Z
UID:4154-1610236800-1610582399@csuaoa.org
SUMMARY:AOA 2021 Annual Conference
DESCRIPTION:
URL:https://csuaoa.org/event/aoa-annual-conference-3/
LOCATION:The Hyatt Regency\, Sacramento\, 1209 J Street\, Sacramento\, 95814\, United States
CATEGORIES:Conference
END:VEVENT
BEGIN:VEVENT
DTSTART;TZID=America/Los_Angeles:20210109T083000
DTEND;TZID=America/Los_Angeles:20210109T120000
DTSTAMP:20260420T063636
CREATED:20200222T195537Z
LAST-MODIFIED:20200624T185914Z
UID:4417-1610181000-1610193600@csuaoa.org
SUMMARY:AOA Conference Planning Committee Meeting
DESCRIPTION:
URL:https://csuaoa.org/event/aoa-conference-planning-committee-meeting-13/
LOCATION:Zoom/Conference Call
CATEGORIES:Conference,Meeting
ORGANIZER;CN="Monica Kauppinen":MAILTO:mkauppi@csus.edu
END:VEVENT
BEGIN:VEVENT
DTSTART;TZID=America/Los_Angeles:20210108T140000
DTEND;TZID=America/Los_Angeles:20210108T170000
DTSTAMP:20260420T063636
CREATED:20200130T223057Z
LAST-MODIFIED:20200624T185519Z
UID:4171-1610114400-1610125200@csuaoa.org
SUMMARY:AOA Executive Committee Meeting
DESCRIPTION:
URL:https://csuaoa.org/event/executive-committee-meeting-3/
LOCATION:Zoom/Conference Call
CATEGORIES:Meeting
ORGANIZER;CN="Richard Jackson":MAILTO:rtjackson@csuchico.edu
END:VEVENT
BEGIN:VEVENT
DTSTART;TZID=America/Los_Angeles:20201217T130000
DTEND;TZID=America/Los_Angeles:20201217T150000
DTSTAMP:20260420T063636
CREATED:20200222T195258Z
LAST-MODIFIED:20200222T195258Z
UID:4413-1608210000-1608217200@csuaoa.org
SUMMARY:AOA Conference Planning Committee Meeting
DESCRIPTION:
URL:https://csuaoa.org/event/aoa-conference-planning-committee-meeting-12/
LOCATION:Zoom/Conference Call
CATEGORIES:Conference,Meeting
ORGANIZER;CN="Monica Kauppinen":MAILTO:mkauppi@csus.edu
END:VEVENT
BEGIN:VEVENT
DTSTART;TZID=America/Los_Angeles:20201211T140000
DTEND;TZID=America/Los_Angeles:20201211T150000
DTSTAMP:20260420T063636
CREATED:20200929T214845Z
LAST-MODIFIED:20200929T214845Z
UID:4868-1607695200-1607698800@csuaoa.org
SUMMARY:AOA Standing Committee Meeting - Human Resources
DESCRIPTION:Topic:\nWrap of Year;\nPlanning for 2021;\nExpressions of Appreciation
URL:https://csuaoa.org/event/aoa-standing-committee-meeting-human-resources-9/
LOCATION:Zoom/Conference Call
CATEGORIES:Meeting
ORGANIZER;CN="Kristen Pichler":MAILTO:kristen.pichler@csun.edu
END:VEVENT
BEGIN:VEVENT
DTSTART;TZID=America/Los_Angeles:20201204T080000
DTEND;TZID=America/Los_Angeles:20201204T170000
DTSTAMP:20260420T063636
CREATED:20200508T183709Z
LAST-MODIFIED:20200508T183709Z
UID:4667-1607068800-1607101200@csuaoa.org
SUMMARY:California State University Risk Management Authority (CSURMA) Meeting - Executive Committee
DESCRIPTION:
URL:https://csuaoa.org/event/california-state-university-risk-management-authority-csurma-meeting-executive-committee-4/
LOCATION:CA
END:VEVENT
BEGIN:VEVENT
DTSTART;VALUE=DATE:20201203
DTEND;VALUE=DATE:20201204
DTSTAMP:20260420T063636
CREATED:20200222T200516Z
LAST-MODIFIED:20210409T224931Z
UID:4424-1606953600-1607039999@csuaoa.org
SUMMARY:Auxiliary Organizations Risk Management Alliance (AORMA) Meeting
DESCRIPTION:
URL:https://csuaoa.org/event/auxiliary-organizations-risk-management-authority-aorma-meeting-3/
LOCATION:Sacramento\, CA
CATEGORIES:Meeting
END:VEVENT
BEGIN:VEVENT
DTSTART;TZID=America/Los_Angeles:20201120T120000
DTEND;TZID=America/Los_Angeles:20201120T143000
DTSTAMP:20260420T063636
CREATED:20200130T222957Z
LAST-MODIFIED:20230302T014020Z
UID:4169-1605873600-1605882600@csuaoa.org
SUMMARY:AOA Executive Committee Meeting
DESCRIPTION:Download the full agenda here. Download the Minutes of the Meeting here
URL:https://csuaoa.org/event/aoa-executive-committee-meeting-2/
LOCATION:Zoom/Conference Call
CATEGORIES:Meeting
ORGANIZER;CN="Richard Jackson":MAILTO:rtjackson@csuchico.edu
END:VEVENT
BEGIN:VEVENT
DTSTART;TZID=America/Los_Angeles:20201119T130000
DTEND;TZID=America/Los_Angeles:20201119T150000
DTSTAMP:20260420T063636
CREATED:20200222T195159Z
LAST-MODIFIED:20200624T190136Z
UID:4411-1605790800-1605798000@csuaoa.org
SUMMARY:AOA Conference Planning Committee Meeting
DESCRIPTION:
URL:https://csuaoa.org/event/aoa-conference-planning-committee-meeting-11/
LOCATION:Zoom/Conference Call
CATEGORIES:Conference,Meeting
ORGANIZER;CN="Monica Kauppinen":MAILTO:mkauppi@csus.edu
END:VEVENT
BEGIN:VEVENT
DTSTART;VALUE=DATE:20201117
DTEND;VALUE=DATE:20201119
DTSTAMP:20260420T063636
CREATED:20200130T225110Z
LAST-MODIFIED:20200130T225110Z
UID:4186-1605571200-1605743999@csuaoa.org
SUMMARY:CSU Board of Trustees Meeting
DESCRIPTION:
URL:https://csuaoa.org/event/csu-board-of-trustees-meeting-11/
LOCATION:CSU Office of the Chancellor\, 401 Golden Shore\, Long Beach\, CA\, 90802\, United States
CATEGORIES:Meeting
END:VEVENT
BEGIN:VEVENT
DTSTART;TZID=America/Los_Angeles:20201113T140000
DTEND;TZID=America/Los_Angeles:20201113T150000
DTSTAMP:20260420T063636
CREATED:20200929T214727Z
LAST-MODIFIED:20200929T214727Z
UID:4866-1605276000-1605279600@csuaoa.org
SUMMARY:AOA Standing Committee Meeting - Human Resources
DESCRIPTION:Topic:\n\nMember Q and A on relevant topics;\nElection for 2021 Leadership Positions
URL:https://csuaoa.org/event/aoa-standing-committee-meeting-human-resources-8/
LOCATION:Zoom/Conference Call
CATEGORIES:Meeting
ORGANIZER;CN="Kristen Pichler":MAILTO:kristen.pichler@csun.edu
END:VEVENT
BEGIN:VEVENT
DTSTART;VALUE=DATE:20201108
DTEND;VALUE=DATE:20201112
DTSTAMP:20260420T063636
CREATED:20200210T204009Z
LAST-MODIFIED:20200210T204009Z
UID:4306-1604793600-1605139199@csuaoa.org
SUMMARY:NACAS C3-X Annual Conference
DESCRIPTION:
URL:https://csuaoa.org/event/nacas-c3-x-annual-conference-2/
LOCATION:Anaheim\, CA\, United States
END:VEVENT
BEGIN:VEVENT
DTSTART;TZID=America/Los_Angeles:20201030T140000
DTEND;TZID=America/Los_Angeles:20201030T150000
DTSTAMP:20260420T063636
CREATED:20200929T214551Z
LAST-MODIFIED:20201017T180204Z
UID:4864-1604066400-1604070000@csuaoa.org
SUMMARY:AOA Standing Committee Meeting - Human Resources
DESCRIPTION:Topic:\nPart 2:  Retirement Plan Services Presentation with Peter Dunn. See his bio below:\nPeter Dunn a.k.a. Pete the Planner® is an award-winning financial expert. He’s a USA TODAY columnist\, the author of ten books\, and the CEO and Founder of Your Money Line and Hey Money. \nPete is also the host of a popular radio show and podcast The Pete the Planner Show\, and appears regularly on TV and nationally syndicated radio programs. Pete is regularly considered one of the foremost experts on financial wellness.
URL:https://csuaoa.org/event/aoa-standing-committee-meeting-human-resources-7/
LOCATION:Zoom/Conference Call
CATEGORIES:Meeting
ORGANIZER;CN="Kristen Pichler":MAILTO:kristen.pichler@csun.edu
END:VEVENT
END:VCALENDAR