BEGIN:VCALENDAR
VERSION:2.0
PRODID:-//Auxiliary Organizations Association (AOA) - ECPv6.15.13//NONSGML v1.0//EN
CALSCALE:GREGORIAN
METHOD:PUBLISH
X-WR-CALNAME:Auxiliary Organizations Association (AOA)
X-ORIGINAL-URL:https://csuaoa.org
X-WR-CALDESC:Events for Auxiliary Organizations Association (AOA)
REFRESH-INTERVAL;VALUE=DURATION:PT1H
X-Robots-Tag:noindex
X-PUBLISHED-TTL:PT1H
BEGIN:VTIMEZONE
TZID:America/Los_Angeles
BEGIN:DAYLIGHT
TZOFFSETFROM:-0800
TZOFFSETTO:-0700
TZNAME:PDT
DTSTART:20190310T100000
END:DAYLIGHT
BEGIN:STANDARD
TZOFFSETFROM:-0700
TZOFFSETTO:-0800
TZNAME:PST
DTSTART:20191103T090000
END:STANDARD
BEGIN:DAYLIGHT
TZOFFSETFROM:-0800
TZOFFSETTO:-0700
TZNAME:PDT
DTSTART:20200308T100000
END:DAYLIGHT
BEGIN:STANDARD
TZOFFSETFROM:-0700
TZOFFSETTO:-0800
TZNAME:PST
DTSTART:20201101T090000
END:STANDARD
BEGIN:DAYLIGHT
TZOFFSETFROM:-0800
TZOFFSETTO:-0700
TZNAME:PDT
DTSTART:20210314T100000
END:DAYLIGHT
BEGIN:STANDARD
TZOFFSETFROM:-0700
TZOFFSETTO:-0800
TZNAME:PST
DTSTART:20211107T090000
END:STANDARD
END:VTIMEZONE
BEGIN:VEVENT
DTSTART;TZID=America/Los_Angeles:20201016T140000
DTEND;TZID=America/Los_Angeles:20201016T150000
DTSTAMP:20260420T180110
CREATED:20200929T214428Z
LAST-MODIFIED:20200929T214428Z
UID:4862-1602856800-1602860400@csuaoa.org
SUMMARY:AOA Standing Committee Meeting - Human Resources
DESCRIPTION:Topic:\n\nPart 1: Retirement Plan Services Presentation
URL:https://csuaoa.org/event/aoa-standing-committee-meeting-human-resources-6/
LOCATION:Zoom/Conference Call
CATEGORIES:Meeting
ORGANIZER;CN="Kristen Pichler":MAILTO:kristen.pichler@csun.edu
END:VEVENT
BEGIN:VEVENT
DTSTART;TZID=America/Los_Angeles:20201015T130000
DTEND;TZID=America/Los_Angeles:20201015T150000
DTSTAMP:20260420T180110
CREATED:20200222T195049Z
LAST-MODIFIED:20200222T195049Z
UID:4409-1602766800-1602774000@csuaoa.org
SUMMARY:AOA Conference Planning Committee Meeting
DESCRIPTION:
URL:https://csuaoa.org/event/aoa-conference-planning-committee-meeting-10/
LOCATION:Zoom/Conference Call
CATEGORIES:Conference,Meeting
ORGANIZER;CN="Monica Kauppinen":MAILTO:mkauppi@csus.edu
END:VEVENT
BEGIN:VEVENT
DTSTART;TZID=America/Los_Angeles:20201006T090000
DTEND;TZID=America/Los_Angeles:20201006T120000
DTSTAMP:20260420T180110
CREATED:20200529T165924Z
LAST-MODIFIED:20200529T165924Z
UID:4728-1601974800-1601985600@csuaoa.org
SUMMARY:AOA Standing Committee Meeting - Research Administration
DESCRIPTION:
URL:https://csuaoa.org/event/aoa-standing-committee-meeting-research-administration-4/
LOCATION:Zoom/Conference Call
CATEGORIES:Meeting
ORGANIZER;CN="Diane Trujillo":MAILTO:dianet@csusb.edu
END:VEVENT
BEGIN:VEVENT
DTSTART;TZID=America/Los_Angeles:20201005T090000
DTEND;TZID=America/Los_Angeles:20201005T120000
DTSTAMP:20260420T180110
CREATED:20200529T165817Z
LAST-MODIFIED:20200529T165817Z
UID:4726-1601888400-1601899200@csuaoa.org
SUMMARY:AOA Standing Committee Meeting - Research Administration
DESCRIPTION:
URL:https://csuaoa.org/event/aoa-standing-committee-meeting-research-administration-3/
LOCATION:Zoom/Conference Call
CATEGORIES:Meeting
ORGANIZER;CN="Diane Trujillo":MAILTO:dianet@csusb.edu
END:VEVENT
BEGIN:VEVENT
DTSTART;TZID=America/Los_Angeles:20201002T140000
DTEND;TZID=America/Los_Angeles:20201002T150000
DTSTAMP:20260420T180110
CREATED:20200929T180920Z
LAST-MODIFIED:20200929T214246Z
UID:4858-1601647200-1601650800@csuaoa.org
SUMMARY:AOA Standing Committee Meeting - Human Resources
DESCRIPTION:Topic:\nMember Q&A on relevant topics;\nPossible guest speaker from Equifax re: Unemployment Insurance Claims
URL:https://csuaoa.org/event/aoa-standing-committee-meeting-human-resources-5/
LOCATION:Zoom/Conference Call
CATEGORIES:Meeting
ORGANIZER;CN="Kristen Pichler":MAILTO:kristen.pichler@csun.edu
END:VEVENT
BEGIN:VEVENT
DTSTART;VALUE=DATE:20200922
DTEND;VALUE=DATE:20200924
DTSTAMP:20260420T180110
CREATED:20200130T225833Z
LAST-MODIFIED:20200130T225833Z
UID:4188-1600732800-1600905599@csuaoa.org
SUMMARY:CSU Board of Trustees Meeting
DESCRIPTION:
URL:https://csuaoa.org/event/csu-board-of-trustees-meeting-12/
LOCATION:CSU Office of the Chancellor\, 401 Golden Shore\, Long Beach\, CA\, 90802\, United States
CATEGORIES:Meeting
END:VEVENT
BEGIN:VEVENT
DTSTART;TZID=America/Los_Angeles:20200917T130000
DTEND;TZID=America/Los_Angeles:20200917T150000
DTSTAMP:20260420T180110
CREATED:20200222T194950Z
LAST-MODIFIED:20200222T194950Z
UID:4407-1600347600-1600354800@csuaoa.org
SUMMARY:AOA Conference Planning Committee Meeting
DESCRIPTION:
URL:https://csuaoa.org/event/aoa-conference-planning-committee-meeting-9/
LOCATION:Zoom/Conference Call
CATEGORIES:Conference,Meeting
ORGANIZER;CN="Monica Kauppinen":MAILTO:mkauppi@csus.edu
END:VEVENT
BEGIN:VEVENT
DTSTART;TZID=America/Los_Angeles:20200917T130000
DTEND;TZID=America/Los_Angeles:20200917T140000
DTSTAMP:20260420T180110
CREATED:20200204T190125Z
LAST-MODIFIED:20200414T161408Z
UID:4245-1600347600-1600351200@csuaoa.org
SUMMARY:AOA Standing Committee Meeting - Business And Financial Services Steering Committee
DESCRIPTION:
URL:https://csuaoa.org/event/aoa-standing-committee-meeting-business-and-financial-services-steering-committee-6/
LOCATION:Zoom/Conference Call
CATEGORIES:Meeting
ORGANIZER;CN="Carlos Careaga":MAILTO:ccareaga@sdsu.edu
END:VEVENT
BEGIN:VEVENT
DTSTART;TZID=America/Los_Angeles:20200910T080000
DTEND;TZID=America/Los_Angeles:20200910T170000
DTSTAMP:20260420T180110
CREATED:20200508T183549Z
LAST-MODIFIED:20200508T183549Z
UID:4663-1599724800-1599757200@csuaoa.org
SUMMARY:California State University Risk Management Authority (CSURMA) Meeting - Executive Committee
DESCRIPTION:
URL:https://csuaoa.org/event/california-state-university-risk-management-authority-csurma-meeting-executive-committee-2/
END:VEVENT
BEGIN:VEVENT
DTSTART;VALUE=DATE:20200910
DTEND;VALUE=DATE:20200911
DTSTAMP:20260420T180110
CREATED:20200508T182800Z
LAST-MODIFIED:20210409T224748Z
UID:4644-1599696000-1599782399@csuaoa.org
SUMMARY:Auxiliary Organizations Risk Management Alliance (AORMA) Meeting
DESCRIPTION:
URL:https://csuaoa.org/event/auxiliary-organizations-risk-management-authority-aorma-meeting-4/
END:VEVENT
BEGIN:VEVENT
DTSTART;TZID=America/Los_Angeles:20200909T000000
DTEND;TZID=America/Los_Angeles:20200909T235900
DTSTAMP:20260420T180110
CREATED:20200222T200339Z
LAST-MODIFIED:20210409T224921Z
UID:4422-1599609600-1599695940@csuaoa.org
SUMMARY:Auxiliary Organizations Risk Management Alliance (AORMA) Meeting - Long Range Planning
DESCRIPTION:
URL:https://csuaoa.org/event/auxiliary-organizations-risk-management-authority-aorma-meeting-2/
LOCATION:Sacramento\, CA
CATEGORIES:Meeting
END:VEVENT
BEGIN:VEVENT
DTSTART;TZID=America/Los_Angeles:20200821T110000
DTEND;TZID=America/Los_Angeles:20200821T133000
DTSTAMP:20260420T180111
CREATED:20200130T222917Z
LAST-MODIFIED:20230303T114828Z
UID:4167-1598007600-1598016600@csuaoa.org
SUMMARY:AOA Executive Committee Meeting
DESCRIPTION:Click here to download the full agenda.  Download the Minutes of the Meeting here\nVirtual Meeting Zoom Connection:\nhttps://humboldtstate.zoom.us/j/96182963292 \nMeeting ID: 961 8296 3292
URL:https://csuaoa.org/event/aoa-executive-committee-meeting/
LOCATION:Zoom/Conference Call
CATEGORIES:Meeting
ORGANIZER;CN="Richard Jackson":MAILTO:rtjackson@csuchico.edu
END:VEVENT
BEGIN:VEVENT
DTSTART;TZID=America/Los_Angeles:20200820T130000
DTEND;TZID=America/Los_Angeles:20200820T140000
DTSTAMP:20260420T180111
CREATED:20200204T190026Z
LAST-MODIFIED:20200414T161339Z
UID:4243-1597928400-1597932000@csuaoa.org
SUMMARY:AOA Standing Committee Meeting - Business And Financial Services Steering Committee
DESCRIPTION:
URL:https://csuaoa.org/event/aoa-standing-committee-meeting-business-and-financial-services-steering-committee-5/
LOCATION:Zoom/Conference Call
CATEGORIES:Meeting
ORGANIZER;CN="Carlos Careaga":MAILTO:ccareaga@sdsu.edu
END:VEVENT
BEGIN:VEVENT
DTSTART;TZID=America/Los_Angeles:20200820T120000
DTEND;TZID=America/Los_Angeles:20200820T140000
DTSTAMP:20260420T180111
CREATED:20200222T194844Z
LAST-MODIFIED:20200817T204201Z
UID:4405-1597924800-1597932000@csuaoa.org
SUMMARY:AOA Conference Planning Committee Meeting
DESCRIPTION:Join Zoom Meeting \nhttps://csus.zoom.us/j/91536957124\nCall 669-900-6833\nMeeting ID: 915 3695 7124 \n\nOne tap mobile \n+16699006833\,\,91536957124# US (San Jose)
URL:https://csuaoa.org/event/aoa-conference-planning-committee-meeting-8/
LOCATION:Zoom/Conference Call
CATEGORIES:Conference,Meeting
ORGANIZER;CN="Monica Kauppinen":MAILTO:mkauppi@csus.edu
END:VEVENT
BEGIN:VEVENT
DTSTART;TZID=America/Los_Angeles:20200813T140000
DTEND;TZID=America/Los_Angeles:20200813T153000
DTSTAMP:20260420T180111
CREATED:20200213T231348Z
LAST-MODIFIED:20200812T195537Z
UID:4360-1597327200-1597332600@csuaoa.org
SUMMARY:AOA Standing Committee Meeting - Information Technology
DESCRIPTION:
URL:https://csuaoa.org/event/aoa-standing-committee-meeting-information-technology-2/
LOCATION:Zoom/Conference Call
CATEGORIES:Meeting
ORGANIZER;CN="Rachel Raynoha":MAILTO:rraynoha@sdsu.edu
END:VEVENT
BEGIN:VEVENT
DTSTART;VALUE=DATE:20200721
DTEND;VALUE=DATE:20200723
DTSTAMP:20260420T180111
CREATED:20200130T225025Z
LAST-MODIFIED:20200130T225025Z
UID:4184-1595289600-1595462399@csuaoa.org
SUMMARY:CSU Board of Trustees Meeting
DESCRIPTION:
URL:https://csuaoa.org/event/csu-board-of-trustees-meeting-10/
LOCATION:CSU Office of the Chancellor\, 401 Golden Shore\, Long Beach\, CA\, 90802\, United States
CATEGORIES:Meeting
END:VEVENT
BEGIN:VEVENT
DTSTART;TZID=America/Los_Angeles:20200716T130000
DTEND;TZID=America/Los_Angeles:20200716T150000
DTSTAMP:20260420T180111
CREATED:20200222T194627Z
LAST-MODIFIED:20200222T194627Z
UID:4403-1594904400-1594911600@csuaoa.org
SUMMARY:AOA Conference Planning Committee Meeting
DESCRIPTION:
URL:https://csuaoa.org/event/aoa-conference-planning-committee-meeting-7/
LOCATION:Zoom/Conference Call
CATEGORIES:Conference,Meeting
ORGANIZER;CN="Monica Kauppinen":MAILTO:mkauppi@csus.edu
END:VEVENT
BEGIN:VEVENT
DTSTART;TZID=America/Los_Angeles:20200716T130000
DTEND;TZID=America/Los_Angeles:20200716T140000
DTSTAMP:20260420T180111
CREATED:20200204T185321Z
LAST-MODIFIED:20200414T161148Z
UID:4232-1594904400-1594908000@csuaoa.org
SUMMARY:AOA Standing Committee Meeting - Business And Financial Services
DESCRIPTION:
URL:https://csuaoa.org/event/aoa-standing-committee-meeting-business-and-financial-services-2/
LOCATION:Zoom/Conference Call
CATEGORIES:Meeting
ORGANIZER;CN="Carlos Careaga":MAILTO:ccareaga@sdsu.edu
END:VEVENT
BEGIN:VEVENT
DTSTART;VALUE=DATE:20200713
DTEND;VALUE=DATE:20200715
DTSTAMP:20260420T180111
CREATED:20200508T182700Z
LAST-MODIFIED:20210409T224939Z
UID:4642-1594598400-1594771199@csuaoa.org
SUMMARY:Auxiliary Organizations Risk Management Alliance (AORMA) Meeting - Officers Retreat
DESCRIPTION:
URL:https://csuaoa.org/event/auxiliary-organizations-risk-management-authority-aorma-meeting-officers-retreat/
END:VEVENT
BEGIN:VEVENT
DTSTART;TZID=America/Los_Angeles:20200710T140000
DTEND;TZID=America/Los_Angeles:20200710T150000
DTSTAMP:20260420T180111
CREATED:20200706T195011Z
LAST-MODIFIED:20200706T195011Z
UID:4783-1594389600-1594393200@csuaoa.org
SUMMARY:AOA Standing Committee Meeting - Human Resources
DESCRIPTION:
URL:https://csuaoa.org/event/aoa-standing-committee-meeting-human-resources-4/
LOCATION:Zoom/Conference Call
ORGANIZER;CN="Kristen Pichler":MAILTO:kristen.pichler@csun.edu
END:VEVENT
BEGIN:VEVENT
DTSTART;TZID=America/Los_Angeles:20200623T140000
DTEND;TZID=America/Los_Angeles:20200623T160000
DTSTAMP:20260420T180111
CREATED:20200623T211246Z
LAST-MODIFIED:20230303T120719Z
UID:4776-1592920800-1592928000@csuaoa.org
SUMMARY:AOA Executive Committee Meeting
DESCRIPTION:Download the full agenda here. Download the Minutes of the Meeting here
URL:https://csuaoa.org/event/aoa-executive-committee-meeting-3/
LOCATION:Zoom/Conference Call
CATEGORIES:Meeting
ORGANIZER;CN="Richard Jackson":MAILTO:rtjackson@csuchico.edu
END:VEVENT
BEGIN:VEVENT
DTSTART;VALUE=DATE:20200619
DTEND;VALUE=DATE:20200620
DTSTAMP:20260420T180111
CREATED:20200508T183057Z
LAST-MODIFIED:20210409T224640Z
UID:4652-1592524800-1592611199@csuaoa.org
SUMMARY:Auxiliary Organizations Risk Management Alliance (AORMA) Meeting - Benefits Committee
DESCRIPTION:
URL:https://csuaoa.org/event/auxiliary-organizations-risk-management-authority-aorma-meeting-benefits-committee-2/
END:VEVENT
BEGIN:VEVENT
DTSTART;TZID=America/Los_Angeles:20200618T150000
DTEND;TZID=America/Los_Angeles:20200618T160000
DTSTAMP:20260420T180111
CREATED:20200521T231942Z
LAST-MODIFIED:20220427T192839Z
UID:4716-1592492400-1592496000@csuaoa.org
SUMMARY:AOA Standing Committee Meeting - Research Administration
DESCRIPTION:The RAC chat hosted by CSUCO\, system-wide sponsored programs administration and the research administration committee officers.\n\nPhone one-tap:\nUS: +16699006833\,\,91538258582#\,\,1#\,445762# or +12532158782\,\,91538258582#\,\,1#\,445762#\nMeeting URL:\nhttps://calstate.zoom.us/j/91538258582?pwd=MEYrZlhnTEh3ZExVMy83NVpWMloyZz09\nMeeting ID:\n915 3825 8582\nPassword:\nresearch
URL:https://csuaoa.org/event/aoa-standing-committee-research-administration-6/
LOCATION:Zoom/Conference Call
ORGANIZER;CN="Diane Trujillo":MAILTO:dianet@csusb.edu
END:VEVENT
BEGIN:VEVENT
DTSTART;TZID=America/Los_Angeles:20200618T130000
DTEND;TZID=America/Los_Angeles:20200618T150000
DTSTAMP:20260420T180111
CREATED:20200222T194526Z
LAST-MODIFIED:20200222T194526Z
UID:4401-1592485200-1592492400@csuaoa.org
SUMMARY:AOA Conference Planning Committee Meeting
DESCRIPTION:
URL:https://csuaoa.org/event/aoa-conference-planning-committee-meeting-6/
LOCATION:Zoom/Conference Call
CATEGORIES:Conference,Meeting
ORGANIZER;CN="Monica Kauppinen":MAILTO:mkauppi@csus.edu
END:VEVENT
BEGIN:VEVENT
DTSTART;TZID=America/Los_Angeles:20200618T130000
DTEND;TZID=America/Los_Angeles:20200618T140000
DTSTAMP:20260420T180111
CREATED:20200204T185928Z
LAST-MODIFIED:20200414T161310Z
UID:4241-1592485200-1592488800@csuaoa.org
SUMMARY:AOA Standing Committee Meeting - Business And Financial Services Steering Committee
DESCRIPTION:
URL:https://csuaoa.org/event/aoa-standing-committee-meeting-business-and-financial-services-steering-committee-4/
LOCATION:Zoom/Conference Call
CATEGORIES:Meeting
ORGANIZER;CN="Carlos Careaga":MAILTO:ccareaga@sdsu.edu
END:VEVENT
BEGIN:VEVENT
DTSTART;TZID=America/Los_Angeles:20200604T150000
DTEND;TZID=America/Los_Angeles:20200604T160000
DTSTAMP:20260420T180111
CREATED:20200521T231821Z
LAST-MODIFIED:20220427T192756Z
UID:4714-1591282800-1591286400@csuaoa.org
SUMMARY:AOA Standing Committee Meeting - Research Administration
DESCRIPTION:The RAC chat\, hosted by CSUCO\, system-wide sponsored programs administration and the research administration committee officers\n\nPhone one-tap:\nUS: +16699006833\,\,91538258582#\,\,1#\,445762# or +12532158782\,\,91538258582#\,\,1#\,445762#\nMeeting URL:\nhttps://calstate.zoom.us/j/91538258582?pwd=MEYrZlhnTEh3ZExVMy83NVpWMloyZz09\nMeeting ID:\n915 3825 8582\nPassword:\nresearch
URL:https://csuaoa.org/event/aoa-standing-committee-research-administration-5/
LOCATION:Zoom/Conference Call
ORGANIZER;CN="Diane Trujillo":MAILTO:dianet@csusb.edu
END:VEVENT
BEGIN:VEVENT
DTSTART;VALUE=DATE:20200531
DTEND;VALUE=DATE:20200603
DTSTAMP:20260420T180111
CREATED:20200211T172418Z
LAST-MODIFIED:20200508T180617Z
UID:4332-1590883200-1591142399@csuaoa.org
SUMMARY:NACAS West CX 2020 Conference - Cancelled
DESCRIPTION:
URL:https://csuaoa.org/event/nacas-west-cx-2020-conference/
LOCATION:University of British Columbia\, Vancouver\, British Columbia\, Canada
CATEGORIES:Conference
ORGANIZER;CN="Tariq Marji":MAILTO:tmarji@calstatela.edu
END:VEVENT
BEGIN:VEVENT
DTSTART;TZID=America/Los_Angeles:20200529T140000
DTEND;TZID=America/Los_Angeles:20200529T150000
DTSTAMP:20260420T180111
CREATED:20200521T210019Z
LAST-MODIFIED:20200706T194916Z
UID:4691-1590760800-1590764400@csuaoa.org
SUMMARY:AOA Standing Committee Meeting - Human Resources
DESCRIPTION:Meeting ID: 973 7392 4362\nOne tap mobile\n+16699006833\,\,97373924362# US (San Jose)\n+12532158782\,\,97373924362# US (Tacoma)\n \nDial by your location\n        +1 669 900 6833 US (San Jose)\n        +1 253 215 8782 US (Tacoma)\n        +1 346 248 7799 US (Houston)\n        +1 646 558 8656 US (New York)\n        +1 301 715 8592 US (Germantown)\n        +1 312 626 6799 US (Chicago)\nMeeting ID: 973 7392 4362\nFind your local number: https://csun.zoom.us/u/abeRNoLoXU\n \nJoin by SIP\n97373924362@zoomcrc.com
URL:https://csuaoa.org/event/aoa-standing-committee-meeting-human-resources-3/
LOCATION:Zoom/Conference Call
ORGANIZER;CN="Kristen Pichler":MAILTO:kristen.pichler@csun.edu
END:VEVENT
BEGIN:VEVENT
DTSTART;TZID=America/Los_Angeles:20200521T150000
DTEND;TZID=America/Los_Angeles:20200521T160000
DTSTAMP:20260420T180111
CREATED:20200521T205031Z
LAST-MODIFIED:20220427T192704Z
UID:4689-1590073200-1590076800@csuaoa.org
SUMMARY:AOA Standing Committee Meeting - Research Administration
DESCRIPTION:The RAC chat\, hosted by CSUCO system-wide sponsored programs administration and the research administration committee officers.
URL:https://csuaoa.org/event/aoa-standing-committee-research-administration-4/
LOCATION:Teleconference
ORGANIZER;CN="Diane Trujillo":MAILTO:dianet@csusb.edu
END:VEVENT
BEGIN:VEVENT
DTSTART;TZID=America/Los_Angeles:20200521T130000
DTEND;TZID=America/Los_Angeles:20200521T140000
DTSTAMP:20260420T180111
CREATED:20200204T185824Z
LAST-MODIFIED:20200414T161243Z
UID:4239-1590066000-1590069600@csuaoa.org
SUMMARY:AOA Standing Committee Meeting - Business And Financial Services Steering Committee
DESCRIPTION:
URL:https://csuaoa.org/event/aoa-standing-committee-meeting-business-and-financial-services-steering-committee-3/
LOCATION:Zoom/Conference Call
CATEGORIES:Meeting
ORGANIZER;CN="Carlos Careaga":MAILTO:ccareaga@sdsu.edu
END:VEVENT
END:VCALENDAR