BEGIN:VCALENDAR
VERSION:2.0
PRODID:-//Auxiliary Organizations Association (AOA) - ECPv6.15.13//NONSGML v1.0//EN
CALSCALE:GREGORIAN
METHOD:PUBLISH
X-WR-CALNAME:Auxiliary Organizations Association (AOA)
X-ORIGINAL-URL:https://csuaoa.org
X-WR-CALDESC:Events for Auxiliary Organizations Association (AOA)
REFRESH-INTERVAL;VALUE=DURATION:PT1H
X-Robots-Tag:noindex
X-PUBLISHED-TTL:PT1H
BEGIN:VTIMEZONE
TZID:America/Los_Angeles
BEGIN:DAYLIGHT
TZOFFSETFROM:-0800
TZOFFSETTO:-0700
TZNAME:PDT
DTSTART:20190310T100000
END:DAYLIGHT
BEGIN:STANDARD
TZOFFSETFROM:-0700
TZOFFSETTO:-0800
TZNAME:PST
DTSTART:20191103T090000
END:STANDARD
BEGIN:DAYLIGHT
TZOFFSETFROM:-0800
TZOFFSETTO:-0700
TZNAME:PDT
DTSTART:20200308T100000
END:DAYLIGHT
BEGIN:STANDARD
TZOFFSETFROM:-0700
TZOFFSETTO:-0800
TZNAME:PST
DTSTART:20201101T090000
END:STANDARD
BEGIN:DAYLIGHT
TZOFFSETFROM:-0800
TZOFFSETTO:-0700
TZNAME:PDT
DTSTART:20210314T100000
END:DAYLIGHT
BEGIN:STANDARD
TZOFFSETFROM:-0700
TZOFFSETTO:-0800
TZNAME:PST
DTSTART:20211107T090000
END:STANDARD
END:VTIMEZONE
BEGIN:VEVENT
DTSTART;VALUE=DATE:20200512
DTEND;VALUE=DATE:20200514
DTSTAMP:20260420T221253
CREATED:20200130T224950Z
LAST-MODIFIED:20200130T224950Z
UID:4182-1589241600-1589414399@csuaoa.org
SUMMARY:CSU Board of Trustees Meeting
DESCRIPTION:
URL:https://csuaoa.org/event/csu-board-of-trustees-meeting-9/
LOCATION:CSU Office of the Chancellor\, 401 Golden Shore\, Long Beach\, CA\, 90802\, United States
CATEGORIES:Meeting
END:VEVENT
BEGIN:VEVENT
DTSTART;TZID=America/Los_Angeles:20200508T083000
DTEND;TZID=America/Los_Angeles:20200508T103000
DTSTAMP:20260420T221253
CREATED:20200508T184849Z
LAST-MODIFIED:20200508T184849Z
UID:4669-1588926600-1588933800@csuaoa.org
SUMMARY:California State University Risk Management Authority (CSURMA) Meeting - Executive Committee
DESCRIPTION:
URL:https://csuaoa.org/event/california-state-university-risk-management-authority-csurma-meeting-executive-committee-5/
LOCATION:Teleconference
END:VEVENT
BEGIN:VEVENT
DTSTART;VALUE=DATE:20200508
DTEND;VALUE=DATE:20200509
DTSTAMP:20260420T221253
CREATED:20200508T183226Z
LAST-MODIFIED:20220130T201716Z
UID:4654-1588896000-1588982399@csuaoa.org
SUMMARY:California State University Risk Management Authority (CSURMA) Meeting - Board of Directors
DESCRIPTION:
URL:https://csuaoa.org/event/california-state-university-risk-management-authority-meeting-board-of-directors/
LOCATION:Teleconference
END:VEVENT
BEGIN:VEVENT
DTSTART;VALUE=DATE:20200508
DTEND;VALUE=DATE:20200509
DTSTAMP:20260420T221253
CREATED:20200508T183023Z
LAST-MODIFIED:20210409T224717Z
UID:4650-1588896000-1588982399@csuaoa.org
SUMMARY:Auxiliary Organizations Risk Management Alliance (AORMA) Meeting - Benefits Committee
DESCRIPTION:
URL:https://csuaoa.org/event/auxiliary-organizations-risk-management-authority-aorma-meeting-benefits-committee/
END:VEVENT
BEGIN:VEVENT
DTSTART;TZID=America/Los_Angeles:20200507T150000
DTEND;TZID=America/Los_Angeles:20200507T160000
DTSTAMP:20260420T221253
CREATED:20200521T204916Z
LAST-MODIFIED:20220427T192547Z
UID:4687-1588863600-1588867200@csuaoa.org
SUMMARY:AOA Standing Committee Meeting - Research Administration
DESCRIPTION:The RAC chat\, hosted by CSUCO\, system-wide sponsored programs administration and the research administration committee officers.
URL:https://csuaoa.org/event/aoa-standing-committee-research-administration-3/
LOCATION:Teleconference
ORGANIZER;CN="Diane Trujillo":MAILTO:dianet@csusb.edu
END:VEVENT
BEGIN:VEVENT
DTSTART;TZID=America/Los_Angeles:20200507T133000
DTEND;TZID=America/Los_Angeles:20200507T143000
DTSTAMP:20260420T221253
CREATED:20200220T001729Z
LAST-MODIFIED:20210409T224909Z
UID:4381-1588858200-1588861800@csuaoa.org
SUMMARY:Auxiliary Organizations Risk Management Alliance (AORMA) Meeting
DESCRIPTION:
URL:https://csuaoa.org/event/auxiliary-organizations-risk-management-authority-aorma-meeting/
LOCATION:Sacramento\, CA
CATEGORIES:Meeting
END:VEVENT
BEGIN:VEVENT
DTSTART;TZID=America/Los_Angeles:20200504T130000
DTEND;TZID=America/Los_Angeles:20200506T120000
DTSTAMP:20260420T221253
CREATED:20200130T220044Z
LAST-MODIFIED:20200520T210902Z
UID:4159-1588597200-1588766400@csuaoa.org
SUMMARY:AOA Standing Committee Meeting - Research Administration - Postponed
DESCRIPTION:The Research Administration Standing Committee Meeting is cancelled.
URL:https://csuaoa.org/event/research-administration-standing-committee-meeting/
LOCATION:CSU San Bernardino\, 5500 University Parkway\, San Bernardino\, CA\, 92407\, United States
CATEGORIES:Meeting
ORGANIZER;CN="Diane Trujillo":MAILTO:dianet@csusb.edu
END:VEVENT
BEGIN:VEVENT
DTSTART;TZID=America/Los_Angeles:20200423T150000
DTEND;TZID=America/Los_Angeles:20200423T160000
DTSTAMP:20260420T221253
CREATED:20200521T204759Z
LAST-MODIFIED:20220427T192438Z
UID:4685-1587654000-1587657600@csuaoa.org
SUMMARY:AOA Standing Committee Meeting - Research Administration
DESCRIPTION:The RAC chat\, hosted by CSUCO\, system-wide sponsored programs administration and the research administration committee officers
URL:https://csuaoa.org/event/aoa-standing-committee-research-administration-2/
LOCATION:Teleconference
ORGANIZER;CN="Diane Trujillo":MAILTO:dianet@csusb.edu
END:VEVENT
BEGIN:VEVENT
DTSTART;TZID=America/Los_Angeles:20200417T140000
DTEND;TZID=America/Los_Angeles:20200417T150000
DTSTAMP:20260420T221253
CREATED:20200416T175442Z
LAST-MODIFIED:20200416T175442Z
UID:4584-1587132000-1587135600@csuaoa.org
SUMMARY:AOA Standing Committee Meeting - Human Resources
DESCRIPTION:
URL:https://csuaoa.org/event/aoa-standing-committee-meeting-human-resources-2/
LOCATION:Zoom/Conference Call
ORGANIZER;CN="Kristen Pichler":MAILTO:kristen.pichler@csun.edu
END:VEVENT
BEGIN:VEVENT
DTSTART;TZID=America/Los_Angeles:20200417T083000
DTEND;TZID=America/Los_Angeles:20200417T150000
DTSTAMP:20260420T221253
CREATED:20200130T222821Z
LAST-MODIFIED:20200319T185930Z
UID:4164-1587112200-1587135600@csuaoa.org
SUMMARY:AOA Executive Committee Meeting - Cancelled
DESCRIPTION:Update:  March 16\, 2020:The in-person meeting on April 17\, 2020 in Sacramento\, California has been cancelled.    Thank you\,Richard Jackson\, AOA Secretary/Treasurer
URL:https://csuaoa.org/event/executive-committee-meeting-2/
LOCATION:The Hyatt Regency\, Sacramento\, 1209 J Street\, Sacramento\, 95814\, United States
CATEGORIES:Meeting
ORGANIZER;CN="Richard Jackson":MAILTO:rtjackson@csuchico.edu
END:VEVENT
BEGIN:VEVENT
DTSTART;TZID=America/Los_Angeles:20200416T130000
DTEND;TZID=America/Los_Angeles:20200416T140000
DTSTAMP:20260420T221253
CREATED:20200204T184926Z
LAST-MODIFIED:20200414T014829Z
UID:4228-1587042000-1587045600@csuaoa.org
SUMMARY:AOA Standing Committee Meeting - Business And Financial Services
DESCRIPTION:AOA Business and Financial Services Steering Committee Meeting\n\nConference Call In Number: 1.844.800.6000\nMeeting ID:                 543-461-758#The full agenda is available to download here. 
URL:https://csuaoa.org/event/aoa-standing-committee-meeting-business-and-financial-services/
LOCATION:Zoom/Conference Call
CATEGORIES:Meeting
ORGANIZER;CN="Carlos Careaga":MAILTO:ccareaga@sdsu.edu
END:VEVENT
BEGIN:VEVENT
DTSTART;TZID=America/Los_Angeles:20200416T083000
DTEND;TZID=America/Los_Angeles:20200416T140000
DTSTAMP:20260420T221253
CREATED:20200222T194322Z
LAST-MODIFIED:20200311T202443Z
UID:4397-1587025800-1587045600@csuaoa.org
SUMMARY:AOA Conference Planning Committee Meeting
DESCRIPTION:Update March 11\, 2020:AOA is cancelling the in-person meeting on April 16\, 2020 in Sacramento\, California.  The Officers are discussing the pros and cons of doing a virtual meeting in April versus postponing the meeting to sometime in June.  More to come. Thank you\,Richard Jackson\, AOA Secretary/Treasurer
URL:https://csuaoa.org/event/aoa-conference-planning-committee-meeting-4/
LOCATION:The Hyatt Regency\, Sacramento\, 1209 J Street\, Sacramento\, 95814\, United States
CATEGORIES:Conference,Meeting
ORGANIZER;CN="Monica Kauppinen":MAILTO:mkauppi@csus.edu
END:VEVENT
BEGIN:VEVENT
DTSTART;TZID=America/Los_Angeles:20200409T150000
DTEND;TZID=America/Los_Angeles:20200409T160000
DTSTAMP:20260420T221253
CREATED:20200521T204620Z
LAST-MODIFIED:20220130T201119Z
UID:4683-1586444400-1586448000@csuaoa.org
SUMMARY:AOA Standing Committee Meeting - Research Administration
DESCRIPTION:The RAC Chat\, hosted by CSUCO\, system-wide sponsored programs administration and the research administration committee officers.
URL:https://csuaoa.org/event/aoa-standing-committee-research-administration/
LOCATION:Teleconference
ORGANIZER;CN="Diane Trujillo":MAILTO:dianet@csusb.edu
END:VEVENT
BEGIN:VEVENT
DTSTART;TZID=America/Los_Angeles:20200330T100000
DTEND;TZID=America/Los_Angeles:20200330T110000
DTSTAMP:20260420T221253
CREATED:20200327T191317Z
LAST-MODIFIED:20200327T191653Z
UID:4537-1585562400-1585566000@csuaoa.org
SUMMARY:AOA Standing Committee Meeting Associated Students/Student Unions/Recreation Centers
DESCRIPTION:Greetings\,\n\nRasheedah Shakoor\, Chair\, AOA Standing Committee\, Associated Students\, Student Unions\, Recreation Centers is inviting you to a scheduled Zoom meeting.\n\nTopic: Interim Refund Policy\nTime: Mar 30\, 2020 10:00 AM Pacific Time (US and Canada)\nJoin from PC\, Mac\, Linux\, iOS or Android: https://csudh.zoom.us/j/734103757\nOr iPhone one-tap: 16699006833\,734103757# or 13462487799\,734103757#\nOr Telephone (not recommended as toll charges apply):\nDial: +1 669 900 6833 (US Toll) or +1 346 248 7799 (US Toll)\nMeeting ID: 734 103 757\nInternational numbers available: https://csudh.zoom.us/u/adCkthCjjG\nOr a H.323/SIP room system:\nH.323: 162.255.37.11 (US West) or 162.255.36.11 (US East)\nMeeting ID: 734 103 757\nSIP: 734103757@zoomcrc.com
URL:https://csuaoa.org/event/aoa-standing-committee-meeting-associated-students-student-unions-recreation-centers-2/
LOCATION:Zoom/Conference Call
CATEGORIES:Meeting
ORGANIZER;CN="Rasheedah Shakoor":MAILTO:rshakoor@csudh.edu
END:VEVENT
BEGIN:VEVENT
DTSTART;TZID=America/Los_Angeles:20200326T130000
DTEND;TZID=America/Los_Angeles:20200326T150000
DTSTAMP:20260420T221253
CREATED:20200222T194216Z
LAST-MODIFIED:20200222T194216Z
UID:4395-1585227600-1585234800@csuaoa.org
SUMMARY:AOA Conference Planning Committee Meeting
DESCRIPTION:
URL:https://csuaoa.org/event/aoa-conference-planning-committee-meeting-3/
LOCATION:Zoom/Conference Call
CATEGORIES:Conference,Meeting
ORGANIZER;CN="Monica Kauppinen":MAILTO:mkauppi@csus.edu
END:VEVENT
BEGIN:VEVENT
DTSTART;TZID=America/Los_Angeles:20200324T083000
DTEND;TZID=America/Los_Angeles:20200324T130000
DTSTAMP:20260420T221253
CREATED:20200130T224851Z
LAST-MODIFIED:20200319T190801Z
UID:4180-1585038600-1585054800@csuaoa.org
SUMMARY:CSU Board of Trustees Meeting
DESCRIPTION:Virtually Via Teleconference
URL:https://csuaoa.org/event/csu-board-of-trustees-meeting-8/
LOCATION:CSU Office of the Chancellor\, 401 Golden Shore\, Long Beach\, CA\, 90802\, United States
CATEGORIES:Meeting
END:VEVENT
BEGIN:VEVENT
DTSTART;TZID=America/Los_Angeles:20200319T100000
DTEND;TZID=America/Los_Angeles:20200319T110000
DTSTAMP:20260420T221253
CREATED:20200204T185738Z
LAST-MODIFIED:20200204T191150Z
UID:4237-1584612000-1584615600@csuaoa.org
SUMMARY:AOA Standing Committee Meeting - Business And Financial Services Steering Committee
DESCRIPTION:
URL:https://csuaoa.org/event/aoa-standing-committee-meeting-business-and-financial-services-steering-committee-2/
LOCATION:Zoom/Conference Call
CATEGORIES:Meeting
ORGANIZER;CN="Carlos Careaga":MAILTO:ccareaga@sdsu.edu
END:VEVENT
BEGIN:VEVENT
DTSTART;TZID=America/Los_Angeles:20200317T120000
DTEND;TZID=America/Los_Angeles:20200317T140000
DTSTAMP:20260420T221253
CREATED:20200222T194110Z
LAST-MODIFIED:20230207T202341Z
UID:4393-1584446400-1584453600@csuaoa.org
SUMMARY:AOA Conference Planning Committee Meeting - Cancelled
DESCRIPTION:
URL:https://csuaoa.org/event/aoa-conference-planning-committee-meeting-2/
LOCATION:Zoom/Conference Call
CATEGORIES:Meeting
ORGANIZER;CN="Monica Kauppinen":MAILTO:mkauppi@csus.edu
END:VEVENT
BEGIN:VEVENT
DTSTART;TZID=America/Los_Angeles:20200312T143000
DTEND;TZID=America/Los_Angeles:20200312T153000
DTSTAMP:20260420T221253
CREATED:20200213T231238Z
LAST-MODIFIED:20200213T231238Z
UID:4357-1584023400-1584027000@csuaoa.org
SUMMARY:AOA Standing Committee Meeting - Information Technology
DESCRIPTION:
URL:https://csuaoa.org/event/aoa-standing-committee-meeting-information-technology/
LOCATION:Zoom/Conference Call
CATEGORIES:Meeting
ORGANIZER;CN="Rachel Raynoha":MAILTO:rraynoha@sdsu.edu
END:VEVENT
BEGIN:VEVENT
DTSTART;TZID=America/Los_Angeles:20200308T090000
DTEND;TZID=America/Los_Angeles:20200308T160000
DTSTAMP:20260420T221253
CREATED:20200130T215528Z
LAST-MODIFIED:20200207T173502Z
UID:4156-1583658000-1583683200@csuaoa.org
SUMMARY:AOA Standing Committee Meeting - Associated Students/Student Unions/Recreation Centers Advisors Summit
DESCRIPTION:
URL:https://csuaoa.org/event/associated-students-student-unions-recreation-centers/
LOCATION:CSU Sacramento\, 6000 J Street\, Sacramento\, 95819\, United States
CATEGORIES:Meeting
ORGANIZER;CN="Rasheedah Shakoor":MAILTO:rshakoor@csudh.edu
END:VEVENT
BEGIN:VEVENT
DTSTART;TZID=America/Los_Angeles:20200306T080000
DTEND;TZID=America/Los_Angeles:20200306T170000
DTSTAMP:20260420T221253
CREATED:20200508T183507Z
LAST-MODIFIED:20200508T183507Z
UID:4661-1583481600-1583514000@csuaoa.org
SUMMARY:California State University Risk Management Authority (CSURMA) Meeting - Executive Committee/Long Range Planning
DESCRIPTION:
URL:https://csuaoa.org/event/california-state-university-risk-management-authority-csurma-meeting-executive-committee-long-range-planning/
END:VEVENT
BEGIN:VEVENT
DTSTART;VALUE=DATE:20200305
DTEND;VALUE=DATE:20200306
DTSTAMP:20260420T221253
CREATED:20200508T183423Z
LAST-MODIFIED:20200508T183423Z
UID:4659-1583366400-1583452799@csuaoa.org
SUMMARY:California State University Risk Management Authority (CSURMA) Meeting - Executive Committee
DESCRIPTION:
URL:https://csuaoa.org/event/california-state-university-risk-management-authority-csurma-meeting-executive-committee/
END:VEVENT
BEGIN:VEVENT
DTSTART;TZID=America/Los_Angeles:20200220T130000
DTEND;TZID=America/Los_Angeles:20200220T150000
DTSTAMP:20260420T221253
CREATED:20200130T214242Z
LAST-MODIFIED:20200311T201850Z
UID:4144-1582203600-1582210800@csuaoa.org
SUMMARY:AOA Conference Planning Committee Meeting
DESCRIPTION:Update:March 9\, 2020This meeting has been canceled
URL:https://csuaoa.org/event/aoa-conference-planning-committee-meeting/
LOCATION:Zoom/Conference Call
CATEGORIES:Conference,Meeting
ORGANIZER;CN="Monica Kauppinen":MAILTO:mkauppi@csus.edu
END:VEVENT
BEGIN:VEVENT
DTSTART;TZID=America/Los_Angeles:20200220T100000
DTEND;TZID=America/Los_Angeles:20200220T110000
DTSTAMP:20260420T221253
CREATED:20200204T185643Z
LAST-MODIFIED:20200204T191224Z
UID:4235-1582192800-1582196400@csuaoa.org
SUMMARY:AOA Standing Committee Meeting - Business And Financial Services Steering Committee
DESCRIPTION:
URL:https://csuaoa.org/event/aoa-standing-committee-meeting-business-and-financial-services-steering-committee/
LOCATION:Zoom/Conference Call
CATEGORIES:Meeting
ORGANIZER;CN="Carlos Careaga":MAILTO:ccareaga@sdsu.edu
END:VEVENT
BEGIN:VEVENT
DTSTART;VALUE=DATE:20200128
DTEND;VALUE=DATE:20200130
DTSTAMP:20260420T221253
CREATED:20200130T224741Z
LAST-MODIFIED:20200130T224741Z
UID:4176-1580169600-1580342399@csuaoa.org
SUMMARY:CSU Board of Trustees Meeting
DESCRIPTION:
URL:https://csuaoa.org/event/csu-board-of-trustees-meeting-7/
LOCATION:CSU Office of the Chancellor\, 401 Golden Shore\, Long Beach\, CA\, 90802\, United States
END:VEVENT
BEGIN:VEVENT
DTSTART;TZID=America/Los_Angeles:20200115T073000
DTEND;TZID=America/Los_Angeles:20200115T090000
DTSTAMP:20260420T221253
CREATED:20200210T235458Z
LAST-MODIFIED:20200210T235458Z
UID:4325-1579073400-1579078800@csuaoa.org
SUMMARY:AOA Standing Committee Meeting - Past Presidents
DESCRIPTION:
URL:https://csuaoa.org/event/aoa-standing-committee-meeting-past-presidents/
LOCATION:Loews Coronado Bay Resort\, 4000 Coronado Bay Road\, Coronado\, 92118\, United States
CATEGORIES:Meeting
END:VEVENT
BEGIN:VEVENT
DTSTART;TZID=America/Los_Angeles:20200114T170000
DTEND;TZID=America/Los_Angeles:20200114T180000
DTSTAMP:20260420T221253
CREATED:20200108T201903Z
LAST-MODIFIED:20200130T232832Z
UID:4118-1579021200-1579024800@csuaoa.org
SUMMARY:AOA 2020 Annual Business Meeting
DESCRIPTION:
URL:https://csuaoa.org/event/2020-aoa-annual-business-meeting/
LOCATION:Loews Coronado Bay Resort-Avalon\, 4000 Coronado Bay Road\, Coronado\, CA\, 92118\, United States
END:VEVENT
BEGIN:VEVENT
DTSTART;TZID=America/Los_Angeles:20200112T153000
DTEND;TZID=America/Los_Angeles:20200112T170000
DTSTAMP:20260420T221253
CREATED:20200508T184951Z
LAST-MODIFIED:20200508T185320Z
UID:4671-1578843000-1578848400@csuaoa.org
SUMMARY:California State University Risk Management Authority (CSURMA) Meeting - Executive Committee
DESCRIPTION:
URL:https://csuaoa.org/event/california-state-university-risk-management-authority-csurma-meeting-executive-committee-6/
LOCATION:Loews Coronado Bay Resort\, 4000 Coronado Bay Road\, Coronado\, 92118\, United States
END:VEVENT
BEGIN:VEVENT
DTSTART;TZID=America/Los_Angeles:20200112T140000
DTEND;TZID=America/Los_Angeles:20200112T170000
DTSTAMP:20260420T221253
CREATED:20200210T235548Z
LAST-MODIFIED:20200521T224901Z
UID:4328-1578837600-1578848400@csuaoa.org
SUMMARY:AOA Standing Committee Meeting - Research Administration
DESCRIPTION:Click here to download the full agenda. 
URL:https://csuaoa.org/event/aoa-standing-committee-meeting-research-administration-2/
LOCATION:Loews Coronado Bay Resort\, 4000 Coronado Bay Road\, Coronado\, 92118\, United States
CATEGORIES:Meeting
ORGANIZER;CN="Monica Kauppinen":MAILTO:mkauppi@csus.edu
END:VEVENT
BEGIN:VEVENT
DTSTART;TZID=America/Los_Angeles:20200112T140000
DTEND;TZID=America/Los_Angeles:20200112T170000
DTSTAMP:20260420T221253
CREATED:20200210T235408Z
LAST-MODIFIED:20200521T224646Z
UID:4322-1578837600-1578848400@csuaoa.org
SUMMARY:AOA Standing Committee Meeting - Information Technology
DESCRIPTION:Click here to download the full agenda. 
URL:https://csuaoa.org/event/aoa-standing-committee-meeting/
LOCATION:Loews Coronado Bay Resort\, 4000 Coronado Bay Road\, Coronado\, 92118\, United States
CATEGORIES:Meeting
END:VEVENT
END:VCALENDAR