BEGIN:VCALENDAR
VERSION:2.0
PRODID:-//Auxiliary Organizations Association (AOA) - ECPv6.15.13//NONSGML v1.0//EN
CALSCALE:GREGORIAN
METHOD:PUBLISH
X-WR-CALNAME:Auxiliary Organizations Association (AOA)
X-ORIGINAL-URL:https://csuaoa.org
X-WR-CALDESC:Events for Auxiliary Organizations Association (AOA)
REFRESH-INTERVAL;VALUE=DURATION:PT1H
X-Robots-Tag:noindex
X-PUBLISHED-TTL:PT1H
BEGIN:VTIMEZONE
TZID:America/Los_Angeles
BEGIN:DAYLIGHT
TZOFFSETFROM:-0800
TZOFFSETTO:-0700
TZNAME:PDT
DTSTART:20180311T100000
END:DAYLIGHT
BEGIN:STANDARD
TZOFFSETFROM:-0700
TZOFFSETTO:-0800
TZNAME:PST
DTSTART:20181104T090000
END:STANDARD
BEGIN:DAYLIGHT
TZOFFSETFROM:-0800
TZOFFSETTO:-0700
TZNAME:PDT
DTSTART:20190310T100000
END:DAYLIGHT
BEGIN:STANDARD
TZOFFSETFROM:-0700
TZOFFSETTO:-0800
TZNAME:PST
DTSTART:20191103T090000
END:STANDARD
BEGIN:DAYLIGHT
TZOFFSETFROM:-0800
TZOFFSETTO:-0700
TZNAME:PDT
DTSTART:20200308T100000
END:DAYLIGHT
BEGIN:STANDARD
TZOFFSETFROM:-0700
TZOFFSETTO:-0800
TZNAME:PST
DTSTART:20201101T090000
END:STANDARD
BEGIN:DAYLIGHT
TZOFFSETFROM:-0800
TZOFFSETTO:-0700
TZNAME:PDT
DTSTART:20210314T100000
END:DAYLIGHT
BEGIN:STANDARD
TZOFFSETFROM:-0700
TZOFFSETTO:-0800
TZNAME:PST
DTSTART:20211107T090000
END:STANDARD
END:VTIMEZONE
BEGIN:VEVENT
DTSTART;TZID=America/Los_Angeles:20200112T140000
DTEND;TZID=America/Los_Angeles:20200112T170000
DTSTAMP:20260420T221317
CREATED:20200210T235238Z
LAST-MODIFIED:20200521T224532Z
UID:4316-1578837600-1578848400@csuaoa.org
SUMMARY:AOA Standing Committee Meeting - Commercial Services
DESCRIPTION:Click here to download the full agenda. 
URL:https://csuaoa.org/event/aoa-standing-committee-meeting-commercial-services/
LOCATION:Loews Coronado Bay Resort\, 4000 Coronado Bay Road\, Coronado\, 92118\, United States
CATEGORIES:Meeting
END:VEVENT
BEGIN:VEVENT
DTSTART;TZID=America/Los_Angeles:20200112T140000
DTEND;TZID=America/Los_Angeles:20200112T170000
DTSTAMP:20260420T221317
CREATED:20200210T235124Z
LAST-MODIFIED:20200521T224343Z
UID:4313-1578837600-1578848400@csuaoa.org
SUMMARY:AOA Standing Committee Meeting - Business And Financial Services
DESCRIPTION:Click here to download the full agenda. 
URL:https://csuaoa.org/event/aoa-standing-committee-meeting-business-and-financial-services-3/
LOCATION:Loews Coronado Bay Resort\, 4000 Coronado Bay Road\, Coronado\, 92118\, United States
CATEGORIES:Meeting
END:VEVENT
BEGIN:VEVENT
DTSTART;TZID=America/Los_Angeles:20200112T140000
DTEND;TZID=America/Los_Angeles:20200112T170000
DTSTAMP:20260420T221317
CREATED:20200210T235016Z
LAST-MODIFIED:20200521T224008Z
UID:4310-1578837600-1578848400@csuaoa.org
SUMMARY:AOA Standing Committee Meeting - Associated Students/Student Unions/Recreation Centers
DESCRIPTION:Click here to download the full agenda. 
URL:https://csuaoa.org/event/aoa-standing-committee-meeting-associated-students-student-unions-recreation-centers/
LOCATION:Loews Coronado Bay Resort\, 4000 Coronado Bay Road\, Coronado\, 92118\, United States
END:VEVENT
BEGIN:VEVENT
DTSTART;VALUE=DATE:20200112
DTEND;VALUE=DATE:20200116
DTSTAMP:20260420T221317
CREATED:20190515T223517Z
LAST-MODIFIED:20200130T233029Z
UID:3517-1578787200-1579132799@csuaoa.org
SUMMARY:AOA 2020 Annual Conference
DESCRIPTION:
URL:https://csuaoa.org/event/aoa-annual-conference/
LOCATION:Loews Coronado Bay Resort\, 4000 Coronado Bay Road\, Coronado\, 92118\, United States
END:VEVENT
BEGIN:VEVENT
DTSTART;TZID=America/Los_Angeles:20200111T140000
DTEND;TZID=America/Los_Angeles:20200111T170000
DTSTAMP:20260420T221317
CREATED:20190517T201514Z
LAST-MODIFIED:20230303T120824Z
UID:3605-1578751200-1578762000@csuaoa.org
SUMMARY:AOA Executive Committee Meeting
DESCRIPTION:Click here for the EC agenda packet. Download the Minutes of the Meeting here
URL:https://csuaoa.org/event/executive-committee-2/
LOCATION:Loews Coronado Bay Resort-Avalon\, 4000 Coronado Bay Road\, Coronado\, CA\, 92118\, United States
CATEGORIES:Meeting
END:VEVENT
BEGIN:VEVENT
DTSTART;TZID=America/Los_Angeles:20200111T083000
DTEND;TZID=America/Los_Angeles:20200111T120000
DTSTAMP:20260420T221317
CREATED:20190530T193731Z
LAST-MODIFIED:20200204T210119Z
UID:3800-1578731400-1578744000@csuaoa.org
SUMMARY:AOA Conference Planning Committee Meeting
DESCRIPTION:
URL:https://csuaoa.org/event/conference-planning-committee-meeting/
LOCATION:Loews Coronado Bay Resort-Avalon\, 4000 Coronado Bay Road\, Coronado\, CA\, 92118\, United States
CATEGORIES:Conference
END:VEVENT
BEGIN:VEVENT
DTSTART;TZID=America/Los_Angeles:20191219T130000
DTEND;TZID=America/Los_Angeles:20191219T150000
DTSTAMP:20260420T221317
CREATED:20190517T184607Z
LAST-MODIFIED:20200204T191251Z
UID:3570-1576760400-1576767600@csuaoa.org
SUMMARY:AOA Conference Planning Committee Meeting
DESCRIPTION:
URL:https://csuaoa.org/event/conference-planning-committee-2/
LOCATION:Zoom/Conference Call
END:VEVENT
BEGIN:VEVENT
DTSTART;TZID=America/Los_Angeles:20191211T110000
DTEND;TZID=America/Los_Angeles:20191211T120000
DTSTAMP:20260420T221317
CREATED:20190515T230525Z
LAST-MODIFIED:20200204T191313Z
UID:3542-1576062000-1576065600@csuaoa.org
SUMMARY:AOA Standing Committee Meeting - Business And Financial Services
DESCRIPTION:
URL:https://csuaoa.org/event/business-and-financial-services/
LOCATION:Conference Call
END:VEVENT
BEGIN:VEVENT
DTSTART;TZID=America/Los_Angeles:20191207T110000
DTEND;TZID=America/Los_Angeles:20191207T120000
DTSTAMP:20260420T221317
CREATED:20190517T182959Z
LAST-MODIFIED:20200204T191343Z
UID:3561-1575716400-1575720000@csuaoa.org
SUMMARY:AOA Standing Committee Meeting - Business And Financial Services Steering Committee
DESCRIPTION:
URL:https://csuaoa.org/event/business-and-financial-services-steering-committee-6/
LOCATION:Zoom/Conference Call
END:VEVENT
BEGIN:VEVENT
DTSTART;VALUE=DATE:20191205
DTEND;VALUE=DATE:20191206
DTSTAMP:20260420T221317
CREATED:20190515T230152Z
LAST-MODIFIED:20210409T224814Z
UID:3538-1575504000-1575590399@csuaoa.org
SUMMARY:Auxiliary Organizations Risk Management Alliance (AORMA) Meeting
DESCRIPTION:
URL:https://csuaoa.org/event/auxiliary-organizations-risk-management-authority-aorma/
LOCATION:TBD
END:VEVENT
BEGIN:VEVENT
DTSTART;TZID=America/Los_Angeles:20191121T083000
DTEND;TZID=America/Los_Angeles:20191121T150000
DTSTAMP:20260420T221317
CREATED:20190517T202017Z
LAST-MODIFIED:20200130T233217Z
UID:3610-1574325000-1574348400@csuaoa.org
SUMMARY:AOA Executive Committee Meeting
DESCRIPTION:Download the Executive Committee Meeting Agenda for Nov. 21\, 2019.
URL:https://csuaoa.org/event/executive-committee-3/
LOCATION:Loews Coronado Bay Resort-Avalon\, 4000 Coronado Bay Road\, Coronado\, CA\, 92118\, United States
END:VEVENT
BEGIN:VEVENT
DTSTART;TZID=America/Los_Angeles:20191120T083000
DTEND;TZID=America/Los_Angeles:20191120T150000
DTSTAMP:20260420T221317
CREATED:20190517T185247Z
LAST-MODIFIED:20200130T233324Z
UID:3578-1574238600-1574262000@csuaoa.org
SUMMARY:AOA Conference Planning Committee Meeting
DESCRIPTION:
URL:https://csuaoa.org/event/conference-planning-committee-6/
LOCATION:Loews Coronado Bay Resort\, 4000 Coronado Bay Road\, Coronado\, 92118\, United States
END:VEVENT
BEGIN:VEVENT
DTSTART;VALUE=DATE:20191119
DTEND;VALUE=DATE:20191121
DTSTAMP:20260420T221317
CREATED:20190517T201140Z
LAST-MODIFIED:20190517T201140Z
UID:3596-1574121600-1574294399@csuaoa.org
SUMMARY:CSU Board of Trustees Meeting
DESCRIPTION:
URL:https://csuaoa.org/event/csu-board-of-trustees-meeting-3/
LOCATION:CSU Office of the Chancellor\, 401 Golden Shore\, Long Beach\, CA\, 90802\, United States
END:VEVENT
BEGIN:VEVENT
DTSTART;TZID=America/Los_Angeles:20191108T110000
DTEND;TZID=America/Los_Angeles:20191108T120000
DTSTAMP:20260420T221317
CREATED:20190517T182831Z
LAST-MODIFIED:20200204T191410Z
UID:3559-1573210800-1573214400@csuaoa.org
SUMMARY:AOA Standing Committee Meeting - Business And Financial Services Steering Committee
DESCRIPTION:
URL:https://csuaoa.org/event/business-and-financial-services-steering-committee-5/
LOCATION:Zoom/Conference Call
END:VEVENT
BEGIN:VEVENT
DTSTART;VALUE=DATE:20191103
DTEND;VALUE=DATE:20191107
DTSTAMP:20260420T221317
CREATED:20190517T203304Z
LAST-MODIFIED:20190517T203304Z
UID:3628-1572739200-1573084799@csuaoa.org
SUMMARY:NACAS C3-X Annual Conference
DESCRIPTION:
URL:https://csuaoa.org/event/nacas-c3-x-annual-conference/
LOCATION:Phonenix\, AZ\, United States
END:VEVENT
BEGIN:VEVENT
DTSTART;TZID=America/Los_Angeles:20191017T130000
DTEND;TZID=America/Los_Angeles:20191017T150000
DTSTAMP:20260420T221317
CREATED:20190517T185448Z
LAST-MODIFIED:20200204T191436Z
UID:3580-1571317200-1571324400@csuaoa.org
SUMMARY:AOA Conference Planning Committee Meeting
DESCRIPTION:
URL:https://csuaoa.org/event/conference-planning-committee-7/
LOCATION:Zoom/Conference Call
END:VEVENT
BEGIN:VEVENT
DTSTART;VALUE=DATE:20191010
DTEND;VALUE=DATE:20191012
DTSTAMP:20260420T221317
CREATED:20190517T183817Z
LAST-MODIFIED:20200226T211217Z
UID:3564-1570665600-1570838399@csuaoa.org
SUMMARY:AOA 2019 Business and Financial Services Conference
DESCRIPTION:
URL:https://csuaoa.org/event/business-and-financial-services-conference/
LOCATION:Courtyard By Marriott\, 8 MacArthur Place\, Santa Ana\, CA\, 92707\, United States
CATEGORIES:Conference
END:VEVENT
BEGIN:VEVENT
DTSTART;VALUE=DATE:20190930
DTEND;VALUE=DATE:20191003
DTSTAMP:20260420T221317
CREATED:20190828T191150Z
LAST-MODIFIED:20191001T004322Z
UID:3970-1569801600-1570060799@csuaoa.org
SUMMARY:AOA Standing Committee Meeting - Research Administration
DESCRIPTION:Please click here for the agenda to download the meeting agenda.
URL:https://csuaoa.org/event/aoa-standing-committee-meeting-research-administration/
LOCATION:Sonoma State University\, 1801 E. Cotati\, Rohnert Park\, CA\, United States
ORGANIZER;CN="Monica Kauppinen":MAILTO:mkauppi@csus.edu
END:VEVENT
BEGIN:VEVENT
DTSTART;VALUE=DATE:20190924
DTEND;VALUE=DATE:20190926
DTSTAMP:20260420T221317
CREATED:20190517T201227Z
LAST-MODIFIED:20190517T201227Z
UID:3599-1569283200-1569455999@csuaoa.org
SUMMARY:CSU Board of Trustees Meeting
DESCRIPTION:
URL:https://csuaoa.org/event/csu-board-of-trustees-meeting-4/
LOCATION:CSU Office of the Chancellor\, 401 Golden Shore\, Long Beach\, CA\, 90802\, United States
END:VEVENT
BEGIN:VEVENT
DTSTART;TZID=America/Los_Angeles:20190919T130000
DTEND;TZID=America/Los_Angeles:20190919T150000
DTSTAMP:20260420T221317
CREATED:20190517T185719Z
LAST-MODIFIED:20200204T191503Z
UID:3584-1568898000-1568905200@csuaoa.org
SUMMARY:AOA Conference Planning Committee Meeting
DESCRIPTION:
URL:https://csuaoa.org/event/conference-planning-committee-8/
LOCATION:Zoom/Conference Call
END:VEVENT
BEGIN:VEVENT
DTSTART;VALUE=DATE:20190919
DTEND;VALUE=DATE:20190921
DTSTAMP:20260420T221317
CREATED:20190515T225145Z
LAST-MODIFIED:20190530T182812Z
UID:3534-1568851200-1569023999@csuaoa.org
SUMMARY:AOA Standing Committee Meeting - Associated Students/Student Union/Recreation Centers
DESCRIPTION:
URL:https://csuaoa.org/event/associated-students-student-union-recreation-centers/
LOCATION:San Jose\, CA\, United States
END:VEVENT
BEGIN:VEVENT
DTSTART;TZID=America/Los_Angeles:20190909T110000
DTEND;TZID=America/Los_Angeles:20190909T120000
DTSTAMP:20260420T221317
CREATED:20190517T182534Z
LAST-MODIFIED:20200204T191531Z
UID:3557-1568026800-1568030400@csuaoa.org
SUMMARY:AOA Standing Committee Meeting - Business And Financial Services Steering Committee
DESCRIPTION:
URL:https://csuaoa.org/event/business-and-financial-services-steering-committee-4/
LOCATION:Zoom/Conference Call
END:VEVENT
BEGIN:VEVENT
DTSTART;VALUE=DATE:20190904
DTEND;VALUE=DATE:20190906
DTSTAMP:20260420T221317
CREATED:20190517T211214Z
LAST-MODIFIED:20210409T224828Z
UID:3672-1567555200-1567727999@csuaoa.org
SUMMARY:Auxiliary Organizations Risk Management Alliance (AORMA) Meeting
DESCRIPTION:
URL:https://csuaoa.org/event/auxiliary-organizations-risk-management-authority-aorma-2/
LOCATION:Sheraton San Diego Hotel & Marina\, 1380 Harbor Drive\, San Diego\, CA\, 92101\, United States
END:VEVENT
BEGIN:VEVENT
DTSTART;TZID=America/Los_Angeles:20190816T083000
DTEND;TZID=America/Los_Angeles:20190816T150000
DTSTAMP:20260420T221317
CREATED:20190517T201423Z
LAST-MODIFIED:20200130T233129Z
UID:3603-1565944200-1565967600@csuaoa.org
SUMMARY:AOA Executive Committee Meeting
DESCRIPTION:Click here for the full meeting agenda. 
URL:https://csuaoa.org/event/executive-committee/
LOCATION:Hyatt Centric\, 285 Bay Street\, Long Beach\, CA\, United States
END:VEVENT
BEGIN:VEVENT
DTSTART;TZID=America/Los_Angeles:20190815T083000
DTEND;TZID=America/Los_Angeles:20190815T150000
DTSTAMP:20260420T221317
CREATED:20190517T184455Z
LAST-MODIFIED:20200204T191554Z
UID:3568-1565857800-1565881200@csuaoa.org
SUMMARY:AOA Conference Planning Committee Meeting
DESCRIPTION:
URL:https://csuaoa.org/event/conference-planning-committee/
LOCATION:Hyatt Centric\, 285 Bay Street\, Long Beach\, CA\, United States
END:VEVENT
BEGIN:VEVENT
DTSTART;VALUE=DATE:20190815
DTEND;VALUE=DATE:20190817
DTSTAMP:20260420T221317
CREATED:20190515T224517Z
LAST-MODIFIED:20200226T211344Z
UID:3521-1565827200-1565999999@csuaoa.org
SUMMARY:AOA 2019 Leadership Academy
DESCRIPTION:
URL:https://csuaoa.org/event/aoa-leadership-academy/
LOCATION:Hyatt Centric\, 285 Bay Street\, Long Beach\, CA\, United States
CATEGORIES:Leadership Academy
END:VEVENT
BEGIN:VEVENT
DTSTART;VALUE=DATE:20190811
DTEND;VALUE=DATE:20190813
DTSTAMP:20260420T221317
CREATED:20190517T191622Z
LAST-MODIFIED:20190530T192510Z
UID:3586-1565481600-1565654399@csuaoa.org
SUMMARY:CSSA-CSU Unity Conference
DESCRIPTION:
URL:https://csuaoa.org/event/cssa-csu-unity-conference/
LOCATION:Fullerton
END:VEVENT
BEGIN:VEVENT
DTSTART;VALUE=DATE:20190810
DTEND;VALUE=DATE:20190811
DTSTAMP:20260420T221317
CREATED:20190515T224850Z
LAST-MODIFIED:20190530T183238Z
UID:3528-1565395200-1565481599@csuaoa.org
SUMMARY:AOA Standing Committee Meeting - ASI/SU/REC Advisory Group
DESCRIPTION:
URL:https://csuaoa.org/event/asi-su-rec-advisory-group/
LOCATION:Fullerton\, CA\, United States
END:VEVENT
BEGIN:VEVENT
DTSTART;TZID=America/Los_Angeles:20190808T110000
DTEND;TZID=America/Los_Angeles:20190808T120000
DTSTAMP:20260420T221317
CREATED:20190517T182358Z
LAST-MODIFIED:20200204T191625Z
UID:3555-1565262000-1565265600@csuaoa.org
SUMMARY:AOA Standing Committee Meeting - Business And Financial Services Steering Committee
DESCRIPTION:
URL:https://csuaoa.org/event/business-and-financial-services-steering-committee-3/
LOCATION:Zoom/Conference Call
END:VEVENT
BEGIN:VEVENT
DTSTART;VALUE=DATE:20190724
DTEND;VALUE=DATE:20190727
DTSTAMP:20260420T221317
CREATED:20190517T202253Z
LAST-MODIFIED:20190530T183340Z
UID:3614-1563926400-1564185599@csuaoa.org
SUMMARY:AOA Standing Committee Meeting - Human Resources
DESCRIPTION:
URL:https://csuaoa.org/event/human-resources/
LOCATION:San Diego\, CA\, United States
END:VEVENT
END:VCALENDAR