BEGIN:VCALENDAR
VERSION:2.0
PRODID:-//Auxiliary Organizations Association (AOA) - ECPv6.15.13//NONSGML v1.0//EN
CALSCALE:GREGORIAN
METHOD:PUBLISH
X-WR-CALNAME:Auxiliary Organizations Association (AOA)
X-ORIGINAL-URL:https://csuaoa.org
X-WR-CALDESC:Events for Auxiliary Organizations Association (AOA)
REFRESH-INTERVAL;VALUE=DURATION:PT1H
X-Robots-Tag:noindex
X-PUBLISHED-TTL:PT1H
BEGIN:VTIMEZONE
TZID:America/Los_Angeles
BEGIN:DAYLIGHT
TZOFFSETFROM:-0800
TZOFFSETTO:-0700
TZNAME:PDT
DTSTART:20180311T100000
END:DAYLIGHT
BEGIN:STANDARD
TZOFFSETFROM:-0700
TZOFFSETTO:-0800
TZNAME:PST
DTSTART:20181104T090000
END:STANDARD
BEGIN:DAYLIGHT
TZOFFSETFROM:-0800
TZOFFSETTO:-0700
TZNAME:PDT
DTSTART:20190310T100000
END:DAYLIGHT
BEGIN:STANDARD
TZOFFSETFROM:-0700
TZOFFSETTO:-0800
TZNAME:PST
DTSTART:20191103T090000
END:STANDARD
BEGIN:DAYLIGHT
TZOFFSETFROM:-0800
TZOFFSETTO:-0700
TZNAME:PDT
DTSTART:20200308T100000
END:DAYLIGHT
BEGIN:STANDARD
TZOFFSETFROM:-0700
TZOFFSETTO:-0800
TZNAME:PST
DTSTART:20201101T090000
END:STANDARD
END:VTIMEZONE
BEGIN:VEVENT
DTSTART;TZID=America/Los_Angeles:20190314T110000
DTEND;TZID=America/Los_Angeles:20190314T120000
DTSTAMP:20260421T154934
CREATED:20190517T210930Z
LAST-MODIFIED:20200204T192135Z
UID:3668-1552561200-1552564800@csuaoa.org
SUMMARY:AOA Standing Committee Meeting - Business And Financial Services
DESCRIPTION:
URL:https://csuaoa.org/event/business-and-financial-services-3/
LOCATION:Zoom/Conference Call
END:VEVENT
BEGIN:VEVENT
DTSTART;VALUE=DATE:20190310
DTEND;VALUE=DATE:20190311
DTSTAMP:20260421T154934
CREATED:20190517T212020Z
LAST-MODIFIED:20190530T184502Z
UID:3687-1552176000-1552262399@csuaoa.org
SUMMARY:AOA Standing Committee Meeting - ASI/SU/REC Advisory Group
DESCRIPTION:
URL:https://csuaoa.org/event/asi-su-rec-advisory-group-2/
LOCATION:Sacramento\, Sacramento\, CA\, United States
END:VEVENT
BEGIN:VEVENT
DTSTART;TZID=America/Los_Angeles:20190308T110000
DTEND;TZID=America/Los_Angeles:20190308T120000
DTSTAMP:20260421T154934
CREATED:20190517T210751Z
LAST-MODIFIED:20200204T192208Z
UID:3664-1552042800-1552046400@csuaoa.org
SUMMARY:AOA Standing Committee Meeting - Business And Financial Services Steering Committee
DESCRIPTION:
URL:https://csuaoa.org/event/business-and-financial-services-steering-committee-9/
LOCATION:Zoom/Conference Call
END:VEVENT
BEGIN:VEVENT
DTSTART;TZID=America/Los_Angeles:20190307T100000
DTEND;TZID=America/Los_Angeles:20190307T110000
DTSTAMP:20260421T154934
CREATED:20190517T211602Z
LAST-MODIFIED:20210409T224852Z
UID:3678-1551952800-1551956400@csuaoa.org
SUMMARY:Auxiliary Organizations Risk Management Alliance (AORMA) Meeting
DESCRIPTION:
URL:https://csuaoa.org/event/auxiliary-organizations-risk-management-authority-aorma-4/
LOCATION:Newport Beach\, 1301 Dove Street\, Newport Beach\, CA\, 92660\, United States
END:VEVENT
BEGIN:VEVENT
DTSTART;TZID=America/Los_Angeles:20190219T083000
DTEND;TZID=America/Los_Angeles:20190219T150000
DTSTAMP:20260421T154934
CREATED:20190517T204837Z
LAST-MODIFIED:20200204T192234Z
UID:3653-1550565000-1550588400@csuaoa.org
SUMMARY:AOA Conference Planning Committee Meeting
DESCRIPTION:
URL:https://csuaoa.org/event/conference-planning-committee-12/
LOCATION:Loews Coronado Bay Resort-Avalon\, 4000 Coronado Bay Road\, Coronado\, CA\, 92118\, United States
END:VEVENT
BEGIN:VEVENT
DTSTART;TZID=America/Los_Angeles:20190208T110000
DTEND;TZID=America/Los_Angeles:20190208T120000
DTSTAMP:20260421T154934
CREATED:20190517T210823Z
LAST-MODIFIED:20200204T192256Z
UID:3666-1549623600-1549627200@csuaoa.org
SUMMARY:AOA Standing Committee Meeting - Business And Financial Services Steering Committee Meeting
DESCRIPTION:
URL:https://csuaoa.org/event/business-and-financial-services-steering-committee-10/
LOCATION:Zoom/Conference Call
END:VEVENT
BEGIN:VEVENT
DTSTART;VALUE=DATE:20190122
DTEND;VALUE=DATE:20190124
DTSTAMP:20260421T154934
CREATED:20190517T204044Z
LAST-MODIFIED:20190517T204044Z
UID:3643-1548115200-1548287999@csuaoa.org
SUMMARY:CSU Board of Trustees Meeting
DESCRIPTION:
URL:https://csuaoa.org/event/csu-board-of-trustees-meeting-6/
LOCATION:CSU Office of the Chancellor\, 401 Golden Shore\, Long Beach\, CA\, 90802\, United States
END:VEVENT
BEGIN:VEVENT
DTSTART;TZID=America/Los_Angeles:20190116T123000
DTEND;TZID=America/Los_Angeles:20190116T143000
DTSTAMP:20260421T154934
CREATED:20190517T204551Z
LAST-MODIFIED:20200204T185535Z
UID:3648-1547641800-1547649000@csuaoa.org
SUMMARY:AOA Conference Planning Committee Meeting
DESCRIPTION:
URL:https://csuaoa.org/event/conference-planning-committee-10/
LOCATION:Hyatt Regency Indian Wells Resort & Spa\, 44-600 Indian Wells Lane\, Indian Wells\, CA\, 92210\, United States
END:VEVENT
BEGIN:VEVENT
DTSTART;TZID=America/Los_Angeles:20190116T073000
DTEND;TZID=America/Los_Angeles:20190116T090000
DTSTAMP:20260421T154934
CREATED:20190517T203434Z
LAST-MODIFIED:20190530T184714Z
UID:3633-1547623800-1547629200@csuaoa.org
SUMMARY:AOA Standing Committee Meeting - Past Presidents
DESCRIPTION:
URL:https://csuaoa.org/event/past-presidents/
LOCATION:Hyatt Regency Indian Wells Resort & Spa\, 44-600 Indian Wells Lane\, Indian Wells\, CA\, 92210\, United States
END:VEVENT
BEGIN:VEVENT
DTSTART;TZID=America/Los_Angeles:20190114T101500
DTEND;TZID=America/Los_Angeles:20190114T111500
DTSTAMP:20260421T154934
CREATED:20190517T211728Z
LAST-MODIFIED:20210409T224901Z
UID:3682-1547460900-1547464500@csuaoa.org
SUMMARY:Auxiliary Organizations Risk Management Alliance (AORMA) Meeting
DESCRIPTION:
URL:https://csuaoa.org/event/auxiliary-organizations-risk-management-authority-aorma-5/
LOCATION:Hyatt Regency Indian Wells Resort & Spa\, 44-600 Indian Wells Lane\, Indian Wells\, CA\, 92210\, United States
END:VEVENT
BEGIN:VEVENT
DTSTART;TZID=America/Los_Angeles:20190113T140000
DTEND;TZID=America/Los_Angeles:20190113T150000
DTSTAMP:20260421T154934
CREATED:20190517T212813Z
LAST-MODIFIED:20190530T184903Z
UID:3697-1547388000-1547391600@csuaoa.org
SUMMARY:AOA Standing Committee Meeting - Research Administration
DESCRIPTION:
URL:https://csuaoa.org/event/research-administration/
LOCATION:Hyatt Regency Indian Wells Resort & Spa\, 44-600 Indian Wells Lane\, Indian Wells\, CA\, 92210\, United States
END:VEVENT
BEGIN:VEVENT
DTSTART;TZID=America/Los_Angeles:20190113T140000
DTEND;TZID=America/Los_Angeles:20190113T150000
DTSTAMP:20260421T154934
CREATED:20190517T211908Z
LAST-MODIFIED:20190530T184935Z
UID:3685-1547388000-1547391600@csuaoa.org
SUMMARY:AOA Standing Committee Meeting - Associated Students/Student Union/Recreation Centers
DESCRIPTION:
URL:https://csuaoa.org/event/associated-students-student-union-recreation-centers-2/
LOCATION:Hyatt Regency Indian Wells Resort & Spa\, 44-600 Indian Wells Lane\, Indian Wells\, CA\, 92210\, United States
END:VEVENT
BEGIN:VEVENT
DTSTART;TZID=America/Los_Angeles:20190113T140000
DTEND;TZID=America/Los_Angeles:20190113T150000
DTSTAMP:20260421T154934
CREATED:20190517T211101Z
LAST-MODIFIED:20200204T192321Z
UID:3670-1547388000-1547391600@csuaoa.org
SUMMARY:AOA Standing Committee Meeting - Business And Financial Services
DESCRIPTION:
URL:https://csuaoa.org/event/business-and-financial-services-4/
LOCATION:Hyatt Regency Indian Wells Resort & Spa\, 44-600 Indian Wells Lane\, Indian Wells\, CA\, 92210\, United States
END:VEVENT
BEGIN:VEVENT
DTSTART;TZID=America/Los_Angeles:20190113T140000
DTEND;TZID=America/Los_Angeles:20190113T150000
DTSTAMP:20260421T154934
CREATED:20190517T205245Z
LAST-MODIFIED:20190530T185041Z
UID:3658-1547388000-1547391600@csuaoa.org
SUMMARY:AOA Standing Committee Meeting - Commercial Services
DESCRIPTION:
URL:https://csuaoa.org/event/commercial-services/
LOCATION:Hyatt Regency Indian Wells Resort & Spa\, 44-600 Indian Wells Lane\, Indian Wells\, CA\, 92210\, United States
END:VEVENT
BEGIN:VEVENT
DTSTART;TZID=America/Los_Angeles:20190113T140000
DTEND;TZID=America/Los_Angeles:20190113T150000
DTSTAMP:20260421T154934
CREATED:20190517T202813Z
LAST-MODIFIED:20190530T185108Z
UID:3620-1547388000-1547391600@csuaoa.org
SUMMARY:AOA Standing Committee Meeting - Information Technology
DESCRIPTION:
URL:https://csuaoa.org/event/information-technology/
LOCATION:Hyatt Regency Hotel\, 44-600 Indian Wells Lane\, Indian Wells\, CA\, 92210\, United States
END:VEVENT
BEGIN:VEVENT
DTSTART;TZID=America/Los_Angeles:20190113T140000
DTEND;TZID=America/Los_Angeles:20190113T150000
DTSTAMP:20260421T154934
CREATED:20190517T202416Z
LAST-MODIFIED:20190530T185136Z
UID:3618-1547388000-1547391600@csuaoa.org
SUMMARY:AOA Standing Committee Meeting - Human Resources
DESCRIPTION:
URL:https://csuaoa.org/event/human-resources-2/
LOCATION:Hyatt Regency Indian Wells Resort & Spa\, 44-600 Indian Wells Lane\, Indian Wells\, CA\, 92210\, United States
END:VEVENT
BEGIN:VEVENT
DTSTART;VALUE=DATE:20190113
DTEND;VALUE=DATE:20190117
DTSTAMP:20260421T154934
CREATED:20190517T212112Z
LAST-MODIFIED:20200207T173631Z
UID:3691-1547337600-1547683199@csuaoa.org
SUMMARY:AOA 2019 Annual Conference
DESCRIPTION:
URL:https://csuaoa.org/event/aoa-annual-conference-2/
LOCATION:Hyatt Regency Indian Wells Resort & Spa\, 44-600 Indian Wells Lane\, Indian Wells\, CA\, 92210\, United States
CATEGORIES:Conference
END:VEVENT
BEGIN:VEVENT
DTSTART;TZID=America/Los_Angeles:20190112T140000
DTEND;TZID=America/Los_Angeles:20190112T170000
DTSTAMP:20260421T154934
CREATED:20190517T203856Z
LAST-MODIFIED:20200130T232021Z
UID:3639-1547301600-1547312400@csuaoa.org
SUMMARY:AOA Executive Committee Meeting
DESCRIPTION:
URL:https://csuaoa.org/event/executive-committee-5/
LOCATION:Hyatt Regency Indian Wells Resort & Spa\, 44-600 Indian Wells Lane\, Indian Wells\, CA\, 92210\, United States
END:VEVENT
BEGIN:VEVENT
DTSTART;TZID=America/Los_Angeles:20190112T083000
DTEND;TZID=America/Los_Angeles:20190112T120000
DTSTAMP:20260421T154934
CREATED:20190517T204703Z
LAST-MODIFIED:20200130T233403Z
UID:3651-1547281800-1547294400@csuaoa.org
SUMMARY:AOA Conference Planning Committee Meeting
DESCRIPTION:
URL:https://csuaoa.org/event/conference-planning-committee-11/
LOCATION:Hyatt Regency Indian Wells Resort & Spa\, 44-600 Indian Wells Lane\, Indian Wells\, CA\, 92210\, United States
END:VEVENT
END:VCALENDAR