BEGIN:VCALENDAR
VERSION:2.0
PRODID:-//Auxiliary Organizations Association (AOA) - ECPv6.15.13//NONSGML v1.0//EN
CALSCALE:GREGORIAN
METHOD:PUBLISH
X-WR-CALNAME:Auxiliary Organizations Association (AOA)
X-ORIGINAL-URL:https://csuaoa.org
X-WR-CALDESC:Events for Auxiliary Organizations Association (AOA)
REFRESH-INTERVAL;VALUE=DURATION:PT1H
X-Robots-Tag:noindex
X-PUBLISHED-TTL:PT1H
BEGIN:VTIMEZONE
TZID:America/Los_Angeles
BEGIN:DAYLIGHT
TZOFFSETFROM:-0800
TZOFFSETTO:-0700
TZNAME:PDT
DTSTART:20210314T100000
END:DAYLIGHT
BEGIN:STANDARD
TZOFFSETFROM:-0700
TZOFFSETTO:-0800
TZNAME:PST
DTSTART:20211107T090000
END:STANDARD
BEGIN:DAYLIGHT
TZOFFSETFROM:-0800
TZOFFSETTO:-0700
TZNAME:PDT
DTSTART:20220313T100000
END:DAYLIGHT
BEGIN:STANDARD
TZOFFSETFROM:-0700
TZOFFSETTO:-0800
TZNAME:PST
DTSTART:20221106T090000
END:STANDARD
BEGIN:DAYLIGHT
TZOFFSETFROM:-0800
TZOFFSETTO:-0700
TZNAME:PDT
DTSTART:20230312T100000
END:DAYLIGHT
BEGIN:STANDARD
TZOFFSETFROM:-0700
TZOFFSETTO:-0800
TZNAME:PST
DTSTART:20231105T090000
END:STANDARD
BEGIN:DAYLIGHT
TZOFFSETFROM:-0800
TZOFFSETTO:-0700
TZNAME:PDT
DTSTART:20240310T100000
END:DAYLIGHT
BEGIN:STANDARD
TZOFFSETFROM:-0700
TZOFFSETTO:-0800
TZNAME:PST
DTSTART:20241103T090000
END:STANDARD
END:VTIMEZONE
BEGIN:VEVENT
DTSTART;TZID=America/Los_Angeles:20230203T123000
DTEND;TZID=America/Los_Angeles:20230203T143000
DTSTAMP:20260419T193608
CREATED:20230222T221615Z
LAST-MODIFIED:20230222T222030Z
UID:6761-1675427400-1675434600@csuaoa.org
SUMMARY:CSU Board of Trustees - Sacramento State Presidential Search - Open Forum
DESCRIPTION:
URL:https://csuaoa.org/event/csu-board-of-trustees-sacramento-state-presidential-search-open-forum/
LOCATION:CSU Sacramento\, 6000 J Street\, Sacramento\, 95819\, United States
END:VEVENT
BEGIN:VEVENT
DTSTART;TZID=America/Los_Angeles:20230127T140000
DTEND;TZID=America/Los_Angeles:20230127T153000
DTSTAMP:20260419T193608
CREATED:20230127T191024Z
LAST-MODIFIED:20230129T132647Z
UID:6602-1674828000-1674833400@csuaoa.org
SUMMARY:AOA Standing Committee Meeting - Human Resources
DESCRIPTION:This will be a zoom meeting.  Contact Maddison Burton for Zoom Link\n\nDownload the full agenda here
URL:https://csuaoa.org/event/aoa-standing-committee-meeting-human-resources-15/
LOCATION:Zoom/Conference Call
CATEGORIES:Meeting
ORGANIZER;CN="Maddison Burton":MAILTO:mburton@csumb.edu
END:VEVENT
BEGIN:VEVENT
DTSTART;TZID=America/Los_Angeles:20230124T073000
DTEND;TZID=America/Los_Angeles:20230125T160000
DTSTAMP:20260419T193608
CREATED:20230222T221101Z
LAST-MODIFIED:20230222T221101Z
UID:6749-1674545400-1674662400@csuaoa.org
SUMMARY:CSU Board of Trustees Meeting
DESCRIPTION:
URL:https://csuaoa.org/event/csu-board-of-trustees-meeting-29/
LOCATION:CSU Office of the Chancellor\, 401 Golden Shore\, Long Beach\, CA\, 90802\, United States
CATEGORIES:Meeting
END:VEVENT
BEGIN:VEVENT
DTSTART;TZID=America/Los_Angeles:20230117T080000
DTEND;TZID=America/Los_Angeles:20230117T170000
DTSTAMP:20260419T193608
CREATED:20230222T213911Z
LAST-MODIFIED:20230222T213911Z
UID:6741-1673942400-1673974800@csuaoa.org
SUMMARY:California State University Risk Management Authority (CSURMA) Meeting - AIME Committee
DESCRIPTION:
URL:https://csuaoa.org/event/california-state-university-risk-management-authority-csurma-meeting-aime-committee/
LOCATION:CA
CATEGORIES:Meeting
ORGANIZER;CN="Mimi Long":MAILTO:mlong@alliant.com
END:VEVENT
BEGIN:VEVENT
DTSTART;TZID=America/Los_Angeles:20230110T080000
DTEND;TZID=America/Los_Angeles:20230111T170000
DTSTAMP:20260419T193608
CREATED:20230222T223247Z
LAST-MODIFIED:20230222T223842Z
UID:6772-1673337600-1673456400@csuaoa.org
SUMMARY:CSU Chief Administrators And Business Officers (CABO) Meeting
DESCRIPTION:
URL:https://csuaoa.org/event/chief-administrators-and-business-officers-cabo-meeting/
LOCATION:The Hyatt Regency\, Sacramento\, 1209 J Street\, Sacramento\, 95814\, United States
CATEGORIES:Meeting
END:VEVENT
BEGIN:VEVENT
DTSTART;TZID=America/Los_Angeles:20230108T160000
DTEND;TZID=America/Los_Angeles:20230108T170000
DTSTAMP:20260419T193608
CREATED:20221217T215719Z
LAST-MODIFIED:20221217T215719Z
UID:6526-1673193600-1673197200@csuaoa.org
SUMMARY:AOA Standing Committee Meeting - Research Administration
DESCRIPTION:This meeting will be held in the Regency Ballroom – A.
URL:https://csuaoa.org/event/aoa-standing-committee-meeting-research-administration-14/
LOCATION:The Hyatt Regency\, Sacramento\, 1209 J Street\, Sacramento\, 95814\, United States
CATEGORIES:Meeting
ORGANIZER;CN="Gillian Fischer":MAILTO:gfischer@csudh.edu
END:VEVENT
BEGIN:VEVENT
DTSTART;TZID=America/Los_Angeles:20230108T160000
DTEND;TZID=America/Los_Angeles:20230108T170000
DTSTAMP:20260419T193608
CREATED:20221217T215625Z
LAST-MODIFIED:20221219T103628Z
UID:6524-1673193600-1673197200@csuaoa.org
SUMMARY:AOA Standing Committee Meeting - Philanthropy Committee
DESCRIPTION:This meeting will be held in the Tahoe meeting room.\n\nDownload the full agenda here
URL:https://csuaoa.org/event/aoa-standing-committee-meeting-philanthropy-committee-4/
LOCATION:The Hyatt Regency\, Sacramento\, 1209 J Street\, Sacramento\, 95814\, United States
CATEGORIES:Meeting
ORGANIZER;CN="Caroline Johansson":MAILTO:cjoh@sfsu.edu
END:VEVENT
BEGIN:VEVENT
DTSTART;TZID=America/Los_Angeles:20230108T160000
DTEND;TZID=America/Los_Angeles:20230108T170000
DTSTAMP:20260419T193608
CREATED:20221217T215530Z
LAST-MODIFIED:20221217T215530Z
UID:6521-1673193600-1673197200@csuaoa.org
SUMMARY:AOA Standing Committee Meeting - Information Technology
DESCRIPTION:This meeting will be held in the Ventura meeting room.
URL:https://csuaoa.org/event/aoa-standing-committee-meeting-information-technology-3/
LOCATION:The Hyatt Regency\, Sacramento\, 1209 J Street\, Sacramento\, 95814\, United States
CATEGORIES:Meeting
ORGANIZER;CN="Matthew Sparks":MAILTO:matthew.sparks@csus.edu
END:VEVENT
BEGIN:VEVENT
DTSTART;TZID=America/Los_Angeles:20230108T160000
DTEND;TZID=America/Los_Angeles:20230108T170000
DTSTAMP:20260419T193608
CREATED:20221217T215406Z
LAST-MODIFIED:20221217T215406Z
UID:6519-1673193600-1673197200@csuaoa.org
SUMMARY:AOA Standing Committee Meeting - Human Resources
DESCRIPTION:This meeting will be held in Carmel A And B meeting room.
URL:https://csuaoa.org/event/aoa-standing-committee-meeting-human-resources-14/
LOCATION:The Hyatt Regency\, Sacramento\, 1209 J Street\, Sacramento\, 95814\, United States
CATEGORIES:Meeting
ORGANIZER;CN="Rosa Hernandez":MAILTO:rosa.hernandez@csulb.edu
END:VEVENT
BEGIN:VEVENT
DTSTART;TZID=America/Los_Angeles:20230108T160000
DTEND;TZID=America/Los_Angeles:20230108T170000
DTSTAMP:20260419T193608
CREATED:20221217T215300Z
LAST-MODIFIED:20221217T215300Z
UID:6516-1673193600-1673197200@csuaoa.org
SUMMARY:AOA Standing Committee Meeting - Commercial Services
DESCRIPTION:This meeting will be located in the Santa Barbara meeting room.
URL:https://csuaoa.org/event/aoa-standing-committee-meeting-commercial-services-3/
LOCATION:The Hyatt Regency\, Sacramento\, 1209 J Street\, Sacramento\, 95814\, United States
CATEGORIES:Meeting
ORGANIZER;CN="Alfredo Macias":MAILTO:alfredo.macias@csulb.edu
END:VEVENT
BEGIN:VEVENT
DTSTART;TZID=America/Los_Angeles:20230108T160000
DTEND;TZID=America/Los_Angeles:20230108T170000
DTSTAMP:20260419T193608
CREATED:20221217T215059Z
LAST-MODIFIED:20221217T215059Z
UID:6513-1673193600-1673197200@csuaoa.org
SUMMARY:AOA Standing Committee Meeting - Business and Financial Services
DESCRIPTION:This meeting will be held in Big Sur A And B meeting room.
URL:https://csuaoa.org/event/aoa-standing-committee-meeting-business-and-financial-services-8/
LOCATION:The Hyatt Regency\, Sacramento\, 1209 J Street\, Sacramento\, 95814\, United States
CATEGORIES:Meeting
ORGANIZER;CN="Dena Florez":MAILTO:dflorez3@calstatela.edu
END:VEVENT
BEGIN:VEVENT
DTSTART;TZID=America/Los_Angeles:20230108T160000
DTEND;TZID=America/Los_Angeles:20230108T170000
DTSTAMP:20260419T193608
CREATED:20221217T214926Z
LAST-MODIFIED:20221217T214926Z
UID:6510-1673193600-1673197200@csuaoa.org
SUMMARY:AOA Standing Committee Meeting Associated Students\, Student Unions\, Recreation Centers
DESCRIPTION:This meeting will be held in the Golden State Meeting Room
URL:https://csuaoa.org/event/aoa-standing-committee-meeting-associated-students-student-unions-recreation-centers-4/
LOCATION:The Hyatt Regency\, Sacramento\, 1209 J Street\, Sacramento\, 95814\, United States
CATEGORIES:Meeting
ORGANIZER;CN="Helen Alatorre":MAILTO:helen.alatorre@csuci.edu
END:VEVENT
BEGIN:VEVENT
DTSTART;TZID=America/Los_Angeles:20230108T150000
DTEND;TZID=America/Los_Angeles:20230110T140000
DTSTAMP:20260419T193608
CREATED:20221217T215821Z
LAST-MODIFIED:20221217T215821Z
UID:6528-1673190000-1673359200@csuaoa.org
SUMMARY:AOA Annual Conference
DESCRIPTION:
URL:https://csuaoa.org/event/aoa-annual-conference-4/
LOCATION:The Hyatt Regency\, Sacramento\, 1209 J Street\, Sacramento\, 95814\, United States
CATEGORIES:Conference
ORGANIZER;CN="Rasheedah Shakoor":MAILTO:rshakoor@csudh.edu
END:VEVENT
BEGIN:VEVENT
DTSTART;TZID=America/Los_Angeles:20230107T140000
DTEND;TZID=America/Los_Angeles:20230107T170000
DTSTAMP:20260419T193608
CREATED:20221217T214137Z
LAST-MODIFIED:20221217T214137Z
UID:6506-1673100000-1673110800@csuaoa.org
SUMMARY:AOA Executive Committee Meeting
DESCRIPTION:This meeting will take place in the Capitol View Room
URL:https://csuaoa.org/event/aoa-executive-committee-meeting-12/
LOCATION:The Hyatt Regency\, Sacramento\, 1209 J Street\, Sacramento\, 95814\, United States
CATEGORIES:Meeting
ORGANIZER;CN="Richard Jackson":MAILTO:rtjackson@csuchico.edu
END:VEVENT
BEGIN:VEVENT
DTSTART;TZID=America/Los_Angeles:20230107T083000
DTEND;TZID=America/Los_Angeles:20230107T120000
DTSTAMP:20260419T193608
CREATED:20221217T214751Z
LAST-MODIFIED:20221217T214751Z
UID:6508-1673080200-1673092800@csuaoa.org
SUMMARY:AOA Conference Planning Committee Meeting
DESCRIPTION:This meeting will be located in the Capitol View Room
URL:https://csuaoa.org/event/aoa-conference-planning-committee-meeting-31/
LOCATION:The Hyatt Regency\, Sacramento\, 1209 J Street\, Sacramento\, 95814\, United States
ORGANIZER;CN="Rasheedah Shakoor":MAILTO:rshakoor@csudh.edu
END:VEVENT
BEGIN:VEVENT
DTSTART;TZID=America/Los_Angeles:20221202T083000
DTEND;TZID=America/Los_Angeles:20221202T100000
DTSTAMP:20260419T193608
CREATED:20220130T210857Z
LAST-MODIFIED:20220130T210857Z
UID:5837-1669969800-1669975200@csuaoa.org
SUMMARY:California State University Risk Management Authority (CSURMA) Meeting - Executive Committee
DESCRIPTION:
URL:https://csuaoa.org/event/california-state-university-risk-management-authority-csurma-meeting-executive-committee-10/
LOCATION:Sacramento\, CA
CATEGORIES:Meeting
ORGANIZER;CN="Mimi Long":MAILTO:mlong@alliant.com
END:VEVENT
BEGIN:VEVENT
DTSTART;TZID=America/Los_Angeles:20221201T100000
DTEND;TZID=America/Los_Angeles:20221201T120000
DTSTAMP:20260419T193608
CREATED:20220130T210747Z
LAST-MODIFIED:20220130T210747Z
UID:5835-1669888800-1669896000@csuaoa.org
SUMMARY:Auxiliary Organizations Risk Management Alliance (AORMA) Meeting
DESCRIPTION:
URL:https://csuaoa.org/event/auxiliary-organizations-risk-management-alliance-aorma-meeting-5/
LOCATION:Sacramento\, CA
CATEGORIES:Meeting
ORGANIZER;CN="Mimi Long":MAILTO:mlong@alliant.com
END:VEVENT
BEGIN:VEVENT
DTSTART;TZID=America/Los_Angeles:20221118T080000
DTEND;TZID=America/Los_Angeles:20221118T150000
DTSTAMP:20260419T193608
CREATED:20220111T213658Z
LAST-MODIFIED:20230302T011902Z
UID:5726-1668758400-1668783600@csuaoa.org
SUMMARY:AOA Executive Committee Meeting
DESCRIPTION:Download the full agenda hereDownload the Minutes of the Meeting here
URL:https://csuaoa.org/event/aoa-executive-committee-meeting-11/
LOCATION:The Hyatt Regency\, Sacramento\, 1209 J Street\, Sacramento\, 95814\, United States
CATEGORIES:Meeting
ORGANIZER;CN="Richard Jackson":MAILTO:rtjackson@csuchico.edu
END:VEVENT
BEGIN:VEVENT
DTSTART;VALUE=DATE:20221117
DTEND;VALUE=DATE:20221118
DTSTAMP:20260419T193608
CREATED:20220214T222524Z
LAST-MODIFIED:20220214T222524Z
UID:5907-1668643200-1668729599@csuaoa.org
SUMMARY:AOA Conference Planning Committee Meeting
DESCRIPTION:
URL:https://csuaoa.org/event/aoa-conference-planning-committee-meeting-27/
LOCATION:The Hyatt Regency\, Sacramento\, 1209 J Street\, Sacramento\, 95814\, United States
CATEGORIES:Meeting
END:VEVENT
BEGIN:VEVENT
DTSTART;TZID=America/Los_Angeles:20221114T080000
DTEND;TZID=America/Los_Angeles:20221116T170000
DTSTAMP:20260419T193608
CREATED:20220404T202904Z
LAST-MODIFIED:20220404T202904Z
UID:6060-1668412800-1668618000@csuaoa.org
SUMMARY:CSU Board of Trustees Meeting
DESCRIPTION:
URL:https://csuaoa.org/event/csu-board-of-trustees-meeting-28/
LOCATION:CA
END:VEVENT
BEGIN:VEVENT
DTSTART;TZID=America/Los_Angeles:20221028T083000
DTEND;TZID=America/Los_Angeles:20221028T120000
DTSTAMP:20260419T193608
CREATED:20220130T210633Z
LAST-MODIFIED:20220130T210633Z
UID:5833-1666945800-1666958400@csuaoa.org
SUMMARY:California State University Risk Management Authority (CSURMA) Meeting -  Executive Committee
DESCRIPTION:
URL:https://csuaoa.org/event/california-state-university-risk-management-authority-csurma-meeting-executive-committee-9/
LOCATION:Sacramento\, CA
CATEGORIES:Meeting
ORGANIZER;CN="Mimi Long":MAILTO:mlong@alliant.com
END:VEVENT
BEGIN:VEVENT
DTSTART;TZID=America/Los_Angeles:20221026T150000
DTEND;TZID=America/Los_Angeles:20221026T163000
DTSTAMP:20260419T193608
CREATED:20220316T235959Z
LAST-MODIFIED:20221027T110438Z
UID:5995-1666796400-1666801800@csuaoa.org
SUMMARY:AOA Standing Committee Meeting - Philanthropy Committee
DESCRIPTION:Download the full agenda hereTopic: AOA Philanthropic Committee Meeting\nTime: Weds.\, April 27th from 1:00pm-2:30pm\n \nJoin Zoom Meeting\nhttps://sfsu.zoom.us/j/89036226439?pwd=T2JkK1VjRDEzTGpQaXZRVnNOeDdNQT09 \n\n\nMeeting ID: 890 3622 6439\nPasscode: 009716 \nOne tap mobile \n+16465588656\,\,89036226439# US (New York) \n+13126266799\,\,89036226439# US (Chicago) \n\n\nDial by your location \n+1 646 558 8656 US (New York) \n+1 312 626 6799 US (Chicago) \n+1 301 715 8592 US (Washington DC) \n+1 669 900 6833 US (San Jose) \n+1 253 215 8782 US (Tacoma) \n+1 346 248 7799 US (Houston) \nMeeting ID: 890 3622 6439
URL:https://csuaoa.org/event/aoa-standing-committee-meeting-philanthropy-committee-3/
LOCATION:Zoom/Conference Call
CATEGORIES:Meeting
ORGANIZER;CN="Caroline Johansson":MAILTO:cjoh@sfsu.edu
END:VEVENT
BEGIN:VEVENT
DTSTART;TZID=America/Los_Angeles:20221011T090000
DTEND;TZID=America/Los_Angeles:20221011T120000
DTSTAMP:20260419T193608
CREATED:20221011T225116Z
LAST-MODIFIED:20221027T110241Z
UID:6376-1665478800-1665489600@csuaoa.org
SUMMARY:AOA Standing Committee Meeting - Research Administration
DESCRIPTION:Download the full agenda here
URL:https://csuaoa.org/event/aoa-standing-committee-meeting-research-administration-13/
LOCATION:Zoom/Conference Call
CATEGORIES:Meeting
ORGANIZER;CN="Gillian Fischer":MAILTO:gfischer@csudh.edu
END:VEVENT
BEGIN:VEVENT
DTSTART;TZID=America/Los_Angeles:20221010T090000
DTEND;TZID=America/Los_Angeles:20221010T123000
DTSTAMP:20260419T193608
CREATED:20221011T225027Z
LAST-MODIFIED:20221027T110233Z
UID:6374-1665392400-1665405000@csuaoa.org
SUMMARY:AOA Standing Committee Meeting - Research Administration
DESCRIPTION:Download the full agenda here
URL:https://csuaoa.org/event/aoa-standing-committee-meeting-research-administration-12/
LOCATION:Zoom/Conference Call
CATEGORIES:Meeting
ORGANIZER;CN="Gillian Fischer":MAILTO:gfischer@csudh.edu
END:VEVENT
BEGIN:VEVENT
DTSTART;TZID=America/Los_Angeles:20220915T140000
DTEND;TZID=America/Los_Angeles:20220915T150000
DTSTAMP:20260419T193608
CREATED:20220302T212947Z
LAST-MODIFIED:20220302T212947Z
UID:5976-1663250400-1663254000@csuaoa.org
SUMMARY:AOA Standing Committee Meeting - Business And Financial Services Steering Committee
DESCRIPTION:If you have topics you would like added to the agenda or would like to participate on the Steering Committee\, please contact Business And Financial Services Standing Committee Chair\, Yvette Marquez-Smith.
URL:https://csuaoa.org/event/aoa-standing-committee-meeting-business-and-financial-services-steering-committee-11/
LOCATION:Zoom/Conference Call
CATEGORIES:Meeting
ORGANIZER;CN="Yvette Marquez-Smith":MAILTO:yvette.marquezsmith@csun.edu
END:VEVENT
BEGIN:VEVENT
DTSTART;TZID=America/Los_Angeles:20220912T080000
DTEND;TZID=America/Los_Angeles:20220914T170000
DTSTAMP:20260419T193608
CREATED:20220404T202828Z
LAST-MODIFIED:20220404T203440Z
UID:6058-1662969600-1663174800@csuaoa.org
SUMMARY:CSU Board of Trustees Meeting
DESCRIPTION:
URL:https://csuaoa.org/event/csu-board-of-trustees-meeting-27/
LOCATION:CA
END:VEVENT
BEGIN:VEVENT
DTSTART;TZID=America/Los_Angeles:20220909T083000
DTEND;TZID=America/Los_Angeles:20220909T100000
DTSTAMP:20260419T193608
CREATED:20220130T204029Z
LAST-MODIFIED:20220130T210424Z
UID:5822-1662712200-1662717600@csuaoa.org
SUMMARY:California State University Risk Management Authority (CSURMA)  Meeting - Executive Committee
DESCRIPTION:
URL:https://csuaoa.org/event/auxiliary-organizations-risk-management-alliance-aorma-meeting-executive-committee/
LOCATION:Sacramento\, CA
CATEGORIES:Meeting
ORGANIZER;CN="Mimi Long":MAILTO:mlong@alliant.com
END:VEVENT
BEGIN:VEVENT
DTSTART;TZID=America/Los_Angeles:20220908T090000
DTEND;TZID=America/Los_Angeles:20220908T110000
DTSTAMP:20260419T193608
CREATED:20220130T203924Z
LAST-MODIFIED:20220130T203924Z
UID:5820-1662627600-1662634800@csuaoa.org
SUMMARY:Auxiliary Organizations Risk Management Alliance (AORMA) Meeting - Long Range Planning
DESCRIPTION:
URL:https://csuaoa.org/event/auxiliary-organizations-risk-management-alliance-aorma-meeting-long-range-planning/
LOCATION:Sacramento\, CA
CATEGORIES:Meeting
ORGANIZER;CN="Mimi Long":MAILTO:mlong@alliant.com
END:VEVENT
BEGIN:VEVENT
DTSTART;TZID=America/Los_Angeles:20220907T100000
DTEND;TZID=America/Los_Angeles:20220907T120000
DTSTAMP:20260419T193608
CREATED:20220130T203546Z
LAST-MODIFIED:20220130T203750Z
UID:5817-1662544800-1662552000@csuaoa.org
SUMMARY:Auxiliary Organizations Risk Management Alliance (AORMA) Meeting
DESCRIPTION:
URL:https://csuaoa.org/event/auxiliary-organizations-risk-management-alliance-aorma-meeting-3/
LOCATION:TBD
CATEGORIES:Meeting
ORGANIZER;CN="Mimi Long":MAILTO:mlong@alliant.com
END:VEVENT
BEGIN:VEVENT
DTSTART;TZID=America/Los_Angeles:20220824T100000
DTEND;TZID=America/Los_Angeles:20220824T113000
DTSTAMP:20260419T193608
CREATED:20220316T235620Z
LAST-MODIFIED:20220818T154323Z
UID:5993-1661335200-1661340600@csuaoa.org
SUMMARY:AOA Standing Committee Meeting - Philanthropy Committee
DESCRIPTION:Download the full agenda here. 
URL:https://csuaoa.org/event/aoa-standing-committee-meeting-philanthropy-committee-2/
LOCATION:Zoom/Conference Call
CATEGORIES:Meeting
ORGANIZER;CN="Caroline Johansson":MAILTO:cjoh@sfsu.edu
END:VEVENT
END:VCALENDAR