BEGIN:VCALENDAR
VERSION:2.0
PRODID:-//Auxiliary Organizations Association (AOA) - ECPv6.15.13//NONSGML v1.0//EN
CALSCALE:GREGORIAN
METHOD:PUBLISH
X-WR-CALNAME:Auxiliary Organizations Association (AOA)
X-ORIGINAL-URL:https://csuaoa.org
X-WR-CALDESC:Events for Auxiliary Organizations Association (AOA)
REFRESH-INTERVAL;VALUE=DURATION:PT1H
X-Robots-Tag:noindex
X-PUBLISHED-TTL:PT1H
BEGIN:VTIMEZONE
TZID:America/Los_Angeles
BEGIN:DAYLIGHT
TZOFFSETFROM:-0800
TZOFFSETTO:-0700
TZNAME:PDT
DTSTART:20200308T100000
END:DAYLIGHT
BEGIN:STANDARD
TZOFFSETFROM:-0700
TZOFFSETTO:-0800
TZNAME:PST
DTSTART:20201101T090000
END:STANDARD
BEGIN:DAYLIGHT
TZOFFSETFROM:-0800
TZOFFSETTO:-0700
TZNAME:PDT
DTSTART:20210314T100000
END:DAYLIGHT
BEGIN:STANDARD
TZOFFSETFROM:-0700
TZOFFSETTO:-0800
TZNAME:PST
DTSTART:20211107T090000
END:STANDARD
BEGIN:DAYLIGHT
TZOFFSETFROM:-0800
TZOFFSETTO:-0700
TZNAME:PDT
DTSTART:20220313T100000
END:DAYLIGHT
BEGIN:STANDARD
TZOFFSETFROM:-0700
TZOFFSETTO:-0800
TZNAME:PST
DTSTART:20221106T090000
END:STANDARD
END:VTIMEZONE
BEGIN:VEVENT
DTSTART;TZID=America/Los_Angeles:20210503T090000
DTEND;TZID=America/Los_Angeles:20210503T123000
DTSTAMP:20260420T214306
CREATED:20210407T174343Z
LAST-MODIFIED:20220130T200955Z
UID:5237-1620032400-1620045000@csuaoa.org
SUMMARY:AOA Standing Committee Meeting - Research Administration
DESCRIPTION:Download the full agenda here. 
URL:https://csuaoa.org/event/aoa-standing-committee-meeting-research-administration-5/
LOCATION:Zoom/Conference Call
CATEGORIES:Meeting
ORGANIZER;CN="Jennifer Sneed":MAILTO:jsneed@sdsu.edu
END:VEVENT
BEGIN:VEVENT
DTSTART;TZID=America/Los_Angeles:20210504T090000
DTEND;TZID=America/Los_Angeles:20210504T123000
DTSTAMP:20260420T214306
CREATED:20210407T174503Z
LAST-MODIFIED:20220130T201348Z
UID:5240-1620118800-1620131400@csuaoa.org
SUMMARY:AOA Standing Committee Meeting - Research Administration
DESCRIPTION:
URL:https://csuaoa.org/event/aoa-standing-committee-meeting-research-administration-6/
LOCATION:Zoom/Conference Call
CATEGORIES:Meeting
ORGANIZER;CN="Jennifer Sneed":MAILTO:jsneed@sdsu.edu
END:VEVENT
BEGIN:VEVENT
DTSTART;VALUE=DATE:20210506
DTEND;VALUE=DATE:20210507
DTSTAMP:20260420T214306
CREATED:20210409T224533Z
LAST-MODIFIED:20210409T224533Z
UID:5267-1620259200-1620345599@csuaoa.org
SUMMARY:Auxiliary Organizations Risk Management Alliance (AORMA) Meeting
DESCRIPTION:
URL:https://csuaoa.org/event/auxiliary-organizations-risk-management-alliance-aorma-meeting/
LOCATION:Zoom/Conference Call
CATEGORIES:Meeting
END:VEVENT
BEGIN:VEVENT
DTSTART;VALUE=DATE:20210507
DTEND;VALUE=DATE:20210508
DTSTAMP:20260420T214306
CREATED:20210409T225532Z
LAST-MODIFIED:20210409T225532Z
UID:5289-1620345600-1620431999@csuaoa.org
SUMMARY:California State University Risk Management Authority (CSURMA) Meeting - Board of Directors
DESCRIPTION:
URL:https://csuaoa.org/event/california-state-university-risk-management-authority-csurma-meeting-board-of-directors-2/
CATEGORIES:Meeting
END:VEVENT
BEGIN:VEVENT
DTSTART;VALUE=DATE:20210517
DTEND;VALUE=DATE:20210520
DTSTAMP:20260420T214306
CREATED:20210408T225055Z
LAST-MODIFIED:20210408T225055Z
UID:5258-1621209600-1621468799@csuaoa.org
SUMMARY:CSU Board of Trustees Meeting
DESCRIPTION:
URL:https://csuaoa.org/event/csu-board-of-trustees-meeting-15/
LOCATION:CSU Office of the Chancellor\, 401 Golden Shore\, Long Beach\, CA\, 90802\, United States
CATEGORIES:Meeting
END:VEVENT
BEGIN:VEVENT
DTSTART;TZID=America/Los_Angeles:20210520T140000
DTEND;TZID=America/Los_Angeles:20210520T160000
DTSTAMP:20260420T214306
CREATED:20210520T174444Z
LAST-MODIFIED:20210522T052125Z
UID:5389-1621519200-1621526400@csuaoa.org
SUMMARY:AOA Standing Committee Meeting - Business And Financial Services
DESCRIPTION:Download the full agenda here. 
URL:https://csuaoa.org/event/aoa-standing-committee-meeting-business-and-financial-services-4/
LOCATION:Zoom/Conference Call
CATEGORIES:Meeting
END:VEVENT
BEGIN:VEVENT
DTSTART;TZID=America/Los_Angeles:20210526T140000
DTEND;TZID=America/Los_Angeles:20210526T160000
DTSTAMP:20260420T214306
CREATED:20210402T191139Z
LAST-MODIFIED:20210520T181127Z
UID:5187-1622037600-1622044800@csuaoa.org
SUMMARY:AOA Conference Planning Committee Meeting
DESCRIPTION:
URL:https://csuaoa.org/event/aoa-conference-planning-committee-meeting-18/
LOCATION:Zoom/Conference Call
CATEGORIES:Meeting
END:VEVENT
END:VCALENDAR