BEGIN:VCALENDAR
VERSION:2.0
PRODID:-//Auxiliary Organizations Association (AOA) - ECPv6.15.13//NONSGML v1.0//EN
CALSCALE:GREGORIAN
METHOD:PUBLISH
X-ORIGINAL-URL:https://csuaoa.org
X-WR-CALDESC:Events for Auxiliary Organizations Association (AOA)
REFRESH-INTERVAL;VALUE=DURATION:PT1H
X-Robots-Tag:noindex
X-PUBLISHED-TTL:PT1H
BEGIN:VTIMEZONE
TZID:America/Los_Angeles
BEGIN:DAYLIGHT
TZOFFSETFROM:-0800
TZOFFSETTO:-0700
TZNAME:PDT
DTSTART:20200308T100000
END:DAYLIGHT
BEGIN:STANDARD
TZOFFSETFROM:-0700
TZOFFSETTO:-0800
TZNAME:PST
DTSTART:20201101T090000
END:STANDARD
BEGIN:DAYLIGHT
TZOFFSETFROM:-0800
TZOFFSETTO:-0700
TZNAME:PDT
DTSTART:20210314T100000
END:DAYLIGHT
BEGIN:STANDARD
TZOFFSETFROM:-0700
TZOFFSETTO:-0800
TZNAME:PST
DTSTART:20211107T090000
END:STANDARD
BEGIN:DAYLIGHT
TZOFFSETFROM:-0800
TZOFFSETTO:-0700
TZNAME:PDT
DTSTART:20220313T100000
END:DAYLIGHT
BEGIN:STANDARD
TZOFFSETFROM:-0700
TZOFFSETTO:-0800
TZNAME:PST
DTSTART:20221106T090000
END:STANDARD
END:VTIMEZONE
BEGIN:VEVENT
DTSTART;VALUE=DATE:20211011
DTEND;VALUE=DATE:20211012
DTSTAMP:20260420T142951
CREATED:20210816T204308Z
LAST-MODIFIED:20210816T204854Z
UID:5529-1633910400-1633996799@csuaoa.org
SUMMARY:AOA Standing Committee Meeting - Research Administration
DESCRIPTION:
URL:https://csuaoa.org/event/aoa-standing-committee-meeting-research-administration-7/
LOCATION:Zoom/Conference Call
CATEGORIES:Meeting
ORGANIZER;CN="Jennifer Sneed":MAILTO:jsneed@sdsu.edu
END:VEVENT
BEGIN:VEVENT
DTSTART;VALUE=DATE:20211012
DTEND;VALUE=DATE:20211013
DTSTAMP:20260420T142951
CREATED:20210816T204823Z
LAST-MODIFIED:20210816T204823Z
UID:5532-1633996800-1634083199@csuaoa.org
SUMMARY:AOA Standing Committee Meeting - Research Administration
DESCRIPTION:
URL:https://csuaoa.org/event/aoa-standing-committee-meeting-research-administration-8/
LOCATION:Zoom/Conference Call
CATEGORIES:Meeting
ORGANIZER;CN="Jennifer Sneed":MAILTO:jsneed@sdsu.edu
END:VEVENT
BEGIN:VEVENT
DTSTART;TZID=America/Los_Angeles:20211021T140000
DTEND;TZID=America/Los_Angeles:20211021T160000
DTSTAMP:20260420T142951
CREATED:20210402T191551Z
LAST-MODIFIED:20210402T191551Z
UID:5197-1634824800-1634832000@csuaoa.org
SUMMARY:AOA Conference Planning Committee Meeting
DESCRIPTION:
URL:https://csuaoa.org/event/aoa-conference-planning-committee-meeting-23/
LOCATION:Zoom/Conference Call
CATEGORIES:Meeting
END:VEVENT
BEGIN:VEVENT
DTSTART;TZID=America/Los_Angeles:20211028T090000
DTEND;TZID=America/Los_Angeles:20211028T100000
DTSTAMP:20260420T142951
CREATED:20210406T001719Z
LAST-MODIFIED:20220130T193938Z
UID:5223-1635411600-1635415200@csuaoa.org
SUMMARY:AOA Standing Committee Meeting - Philanthropy Committee
DESCRIPTION:
URL:https://csuaoa.org/event/aoa-philanthropic-committee-meeting-4/
LOCATION:Zoom/Conference Call
CATEGORIES:Meeting
ORGANIZER;CN="Monica Alejandre":MAILTO:malejandre@csusb.edu
END:VEVENT
BEGIN:VEVENT
DTSTART;VALUE=DATE:20211029
DTEND;VALUE=DATE:20211030
DTSTAMP:20260420T142951
CREATED:20210409T225658Z
LAST-MODIFIED:20210409T225658Z
UID:5293-1635465600-1635551999@csuaoa.org
SUMMARY:California State University Risk Management Authority (CSURMA) Meeting
DESCRIPTION:
URL:https://csuaoa.org/event/california-state-university-risk-management-authority-csurma-meeting-2/
CATEGORIES:Meeting
END:VEVENT
END:VCALENDAR