BEGIN:VCALENDAR
VERSION:2.0
PRODID:-//Auxiliary Organizations Association (AOA) - ECPv6.15.13//NONSGML v1.0//EN
CALSCALE:GREGORIAN
METHOD:PUBLISH
X-WR-CALNAME:Auxiliary Organizations Association (AOA)
X-ORIGINAL-URL:https://csuaoa.org
X-WR-CALDESC:Events for Auxiliary Organizations Association (AOA)
REFRESH-INTERVAL;VALUE=DURATION:PT1H
X-Robots-Tag:noindex
X-PUBLISHED-TTL:PT1H
BEGIN:VTIMEZONE
TZID:America/Los_Angeles
BEGIN:DAYLIGHT
TZOFFSETFROM:-0800
TZOFFSETTO:-0700
TZNAME:PDT
DTSTART:20210314T100000
END:DAYLIGHT
BEGIN:STANDARD
TZOFFSETFROM:-0700
TZOFFSETTO:-0800
TZNAME:PST
DTSTART:20211107T090000
END:STANDARD
BEGIN:DAYLIGHT
TZOFFSETFROM:-0800
TZOFFSETTO:-0700
TZNAME:PDT
DTSTART:20220313T100000
END:DAYLIGHT
BEGIN:STANDARD
TZOFFSETFROM:-0700
TZOFFSETTO:-0800
TZNAME:PST
DTSTART:20221106T090000
END:STANDARD
BEGIN:DAYLIGHT
TZOFFSETFROM:-0800
TZOFFSETTO:-0700
TZNAME:PDT
DTSTART:20230312T100000
END:DAYLIGHT
BEGIN:STANDARD
TZOFFSETFROM:-0700
TZOFFSETTO:-0800
TZNAME:PST
DTSTART:20231105T090000
END:STANDARD
END:VTIMEZONE
BEGIN:VEVENT
DTSTART;VALUE=DATE:20220421
DTEND;VALUE=DATE:20220422
DTSTAMP:20260420T053842
CREATED:20220214T222344Z
LAST-MODIFIED:20220421T192012Z
UID:5903-1650499200-1650585599@csuaoa.org
SUMMARY:AOA Conference Planning Committee Meeting
DESCRIPTION:Download the full agenda here. 
URL:https://csuaoa.org/event/aoa-conference-planning-committee-meeting-21/
LOCATION:Long Beach\, CA\, United States
CATEGORIES:Meeting
END:VEVENT
BEGIN:VEVENT
DTSTART;TZID=America/Los_Angeles:20220421T140000
DTEND;TZID=America/Los_Angeles:20220421T150000
DTSTAMP:20260420T053842
CREATED:20220302T210727Z
LAST-MODIFIED:20220302T210727Z
UID:5964-1650549600-1650553200@csuaoa.org
SUMMARY:AOA Standing Committee Meeting - Business And Financial Services Steering Committee
DESCRIPTION:If you have topics\, you would like added to the agenda or would like to participate on the steering committee\, please contact Business And Financial Services Standing Committee Chair\, Yvette Marquez-smith.
URL:https://csuaoa.org/event/aoa-standing-committee-meeting-business-and-financial-services-steering-committee-8/
LOCATION:Zoom/Conference Call
CATEGORIES:Meeting
ORGANIZER;CN="Yvette Marquez-Smith":MAILTO:yvette.marquezsmith@csun.edu
END:VEVENT
BEGIN:VEVENT
DTSTART;TZID=America/Los_Angeles:20220422T080000
DTEND;TZID=America/Los_Angeles:20220422T150000
DTSTAMP:20260420T053842
CREATED:20220111T213353Z
LAST-MODIFIED:20230302T012136Z
UID:5720-1650614400-1650639600@csuaoa.org
SUMMARY:AOA Executive Committee Meeting
DESCRIPTION:Download the full agenda here. Download the Minutes of the Meeting here
URL:https://csuaoa.org/event/aoa-executive-committee-meeting-8/
LOCATION:Long Beach\, CA\, United States
CATEGORIES:Meeting
ORGANIZER;CN="Richard Jackson":MAILTO:rtjackson@csuchico.edu
END:VEVENT
BEGIN:VEVENT
DTSTART;TZID=America/Los_Angeles:20220427T130000
DTEND;TZID=America/Los_Angeles:20220427T143000
DTSTAMP:20260420T053842
CREATED:20220315T202855Z
LAST-MODIFIED:20220425T202435Z
UID:5989-1651064400-1651069800@csuaoa.org
SUMMARY:AOA Standing Committee Meeting - Philanthropy Committee
DESCRIPTION:Download the full agenda here. 
URL:https://csuaoa.org/event/aoa-standing-committee-meeting-philanthropy-committee/
LOCATION:Zoom/Conference Call
CATEGORIES:Meeting
ORGANIZER;CN="Caroline Johansson":MAILTO:cjoh@sfsu.edu
END:VEVENT
BEGIN:VEVENT
DTSTART;TZID=America/Los_Angeles:20220429T140000
DTEND;TZID=America/Los_Angeles:20220429T153000
DTSTAMP:20260420T053842
CREATED:20220427T193834Z
LAST-MODIFIED:20220427T193834Z
UID:6146-1651240800-1651246200@csuaoa.org
SUMMARY:AOA Standing Committee Meeting - Human Resources
DESCRIPTION:Join Zoom Meetinghttps://csulb.zoom.us/j/88694877775 Meeting ID: 886 9487 7775One tap mobile+16699006833\,\,88694877775# US (San Jose)+16692192599\,\,88694877775# US (San Jose) Dial by your location+1 669 900 6833 US (San Jose)+1 669 219 2599 US (San Jose)+1 346 248 7799 US (Houston)+1 253 215 8782 US (Tacoma)+1 312 626 6799 US (Chicago)+1 646 518 9805 US (New York)+1 646 876 9923 US (New York)+1 301 715 8592 US (Washington DC)Meeting ID: 886 9487 7775
URL:https://csuaoa.org/event/aoa-standing-committee-meeting-human-resources-11/
LOCATION:Zoom/Conference Call
ORGANIZER;CN="Rosa Hernandez":MAILTO:rosa.hernandez@csulb.edu
END:VEVENT
END:VCALENDAR