BEGIN:VCALENDAR
VERSION:2.0
PRODID:-//Auxiliary Organizations Association (AOA) - ECPv6.15.13//NONSGML v1.0//EN
CALSCALE:GREGORIAN
METHOD:PUBLISH
X-ORIGINAL-URL:https://csuaoa.org
X-WR-CALDESC:Events for Auxiliary Organizations Association (AOA)
REFRESH-INTERVAL;VALUE=DURATION:PT1H
X-Robots-Tag:noindex
X-PUBLISHED-TTL:PT1H
BEGIN:VTIMEZONE
TZID:America/Los_Angeles
BEGIN:DAYLIGHT
TZOFFSETFROM:-0800
TZOFFSETTO:-0700
TZNAME:PDT
DTSTART:20210314T100000
END:DAYLIGHT
BEGIN:STANDARD
TZOFFSETFROM:-0700
TZOFFSETTO:-0800
TZNAME:PST
DTSTART:20211107T090000
END:STANDARD
BEGIN:DAYLIGHT
TZOFFSETFROM:-0800
TZOFFSETTO:-0700
TZNAME:PDT
DTSTART:20220313T100000
END:DAYLIGHT
BEGIN:STANDARD
TZOFFSETFROM:-0700
TZOFFSETTO:-0800
TZNAME:PST
DTSTART:20221106T090000
END:STANDARD
BEGIN:DAYLIGHT
TZOFFSETFROM:-0800
TZOFFSETTO:-0700
TZNAME:PDT
DTSTART:20230312T100000
END:DAYLIGHT
BEGIN:STANDARD
TZOFFSETFROM:-0700
TZOFFSETTO:-0800
TZNAME:PST
DTSTART:20231105T090000
END:STANDARD
END:VTIMEZONE
BEGIN:VEVENT
DTSTART;VALUE=DATE:20220818
DTEND;VALUE=DATE:20220819
DTSTAMP:20260419T233600
CREATED:20220214T222438Z
LAST-MODIFIED:20220214T222438Z
UID:5905-1660780800-1660867199@csuaoa.org
SUMMARY:AOA Conference Planning Committee Meeting
DESCRIPTION:
URL:https://csuaoa.org/event/aoa-conference-planning-committee-meeting-26/
LOCATION:The Hyatt Regency\, Sacramento\, 1209 J Street\, Sacramento\, 95814\, United States
CATEGORIES:Meeting
END:VEVENT
BEGIN:VEVENT
DTSTART;TZID=America/Los_Angeles:20220818T140000
DTEND;TZID=America/Los_Angeles:20220818T150000
DTSTAMP:20260419T233600
CREATED:20220302T212737Z
LAST-MODIFIED:20220302T212737Z
UID:5974-1660831200-1660834800@csuaoa.org
SUMMARY:AOA Standing Committee Meeting - Business And Financial Services Steering Committee
DESCRIPTION:If you have topics you would added to the agenda or would like to participate on the Steering Committee\, please contact Business And Financial Services Standing Committee Chair\, Yvette Marquez-Smith.
URL:https://csuaoa.org/event/aoa-standing-committee-meeting-business-and-financial-services-steering-committee-10/
LOCATION:Zoom/Conference Call
CATEGORIES:Meeting
ORGANIZER;CN="Yvette Marquez-Smith":MAILTO:yvette.marquezsmith@csun.edu
END:VEVENT
BEGIN:VEVENT
DTSTART;TZID=America/Los_Angeles:20220819T080000
DTEND;TZID=America/Los_Angeles:20220819T150000
DTSTAMP:20260419T233600
CREATED:20220111T213607Z
LAST-MODIFIED:20230302T011250Z
UID:5724-1660896000-1660921200@csuaoa.org
SUMMARY:AOA Executive Committee Meeting
DESCRIPTION:Download the full agenda  here. Download the Minutes of the Meeting here
URL:https://csuaoa.org/event/aoa-executive-committee-meeting-10/
LOCATION:The Hyatt Regency\, Sacramento\, 1209 J Street\, Sacramento\, 95814\, United States
CATEGORIES:Meeting
ORGANIZER;CN="Richard Jackson":MAILTO:rtjackson@csuchico.edu
END:VEVENT
BEGIN:VEVENT
DTSTART;TZID=America/Los_Angeles:20220824T100000
DTEND;TZID=America/Los_Angeles:20220824T113000
DTSTAMP:20260419T233600
CREATED:20220316T235620Z
LAST-MODIFIED:20220818T154323Z
UID:5993-1661335200-1661340600@csuaoa.org
SUMMARY:AOA Standing Committee Meeting - Philanthropy Committee
DESCRIPTION:Download the full agenda here. 
URL:https://csuaoa.org/event/aoa-standing-committee-meeting-philanthropy-committee-2/
LOCATION:Zoom/Conference Call
CATEGORIES:Meeting
ORGANIZER;CN="Caroline Johansson":MAILTO:cjoh@sfsu.edu
END:VEVENT
END:VCALENDAR