BEGIN:VCALENDAR
VERSION:2.0
PRODID:-//Auxiliary Organizations Association (AOA) - ECPv6.15.13//NONSGML v1.0//EN
CALSCALE:GREGORIAN
METHOD:PUBLISH
X-WR-CALNAME:Auxiliary Organizations Association (AOA)
X-ORIGINAL-URL:https://csuaoa.org
X-WR-CALDESC:Events for Auxiliary Organizations Association (AOA)
REFRESH-INTERVAL;VALUE=DURATION:PT1H
X-Robots-Tag:noindex
X-PUBLISHED-TTL:PT1H
BEGIN:VTIMEZONE
TZID:America/Los_Angeles
BEGIN:DAYLIGHT
TZOFFSETFROM:-0800
TZOFFSETTO:-0700
TZNAME:PDT
DTSTART:20220313T100000
END:DAYLIGHT
BEGIN:STANDARD
TZOFFSETFROM:-0700
TZOFFSETTO:-0800
TZNAME:PST
DTSTART:20221106T090000
END:STANDARD
BEGIN:DAYLIGHT
TZOFFSETFROM:-0800
TZOFFSETTO:-0700
TZNAME:PDT
DTSTART:20230312T100000
END:DAYLIGHT
BEGIN:STANDARD
TZOFFSETFROM:-0700
TZOFFSETTO:-0800
TZNAME:PST
DTSTART:20231105T090000
END:STANDARD
BEGIN:DAYLIGHT
TZOFFSETFROM:-0800
TZOFFSETTO:-0700
TZNAME:PDT
DTSTART:20240310T100000
END:DAYLIGHT
BEGIN:STANDARD
TZOFFSETFROM:-0700
TZOFFSETTO:-0800
TZNAME:PST
DTSTART:20241103T090000
END:STANDARD
END:VTIMEZONE
BEGIN:VEVENT
DTSTART;VALUE=DATE:20230504
DTEND;VALUE=DATE:20230505
DTSTAMP:20260419T100814
CREATED:20230222T212552Z
LAST-MODIFIED:20230222T215345Z
UID:6725-1683158400-1683244799@csuaoa.org
SUMMARY:Auxiliary Organizations Risk Management Alliance (AORMA) Meeting
DESCRIPTION:
URL:https://csuaoa.org/event/auxiliary-organizations-risk-management-alliance-aorma-meeting-6/
CATEGORIES:Meeting
ORGANIZER;CN="Mimi Long":MAILTO:mlong@alliant.com
END:VEVENT
BEGIN:VEVENT
DTSTART;TZID=America/Los_Angeles:20230508T080000
DTEND;TZID=America/Los_Angeles:20230508T170000
DTSTAMP:20260419T100814
CREATED:20230222T214003Z
LAST-MODIFIED:20230222T214003Z
UID:6743-1683532800-1683565200@csuaoa.org
SUMMARY:California State University Risk Management Authority (CSURMA) Meeting - AIME Committee
DESCRIPTION:
URL:https://csuaoa.org/event/california-state-university-risk-management-authority-csurma-meeting-aime-committee-2/
CATEGORIES:Meeting
ORGANIZER;CN="Mimi Long":MAILTO:mlong@alliant.com
END:VEVENT
BEGIN:VEVENT
DTSTART;TZID=America/Los_Angeles:20230518T120000
DTEND;TZID=America/Los_Angeles:20230518T140000
DTSTAMP:20260419T100814
CREATED:20230207T194721Z
LAST-MODIFIED:20230207T194721Z
UID:6680-1684411200-1684418400@csuaoa.org
SUMMARY:AOA Conference Planning Committee Meeting
DESCRIPTION:
URL:https://csuaoa.org/event/aoa-conference-planning-committee-meeting-35/
LOCATION:Zoom/Conference Call
CATEGORIES:Meeting
ORGANIZER;CN="Heather Cairns%2C 2024 AOA President":MAILTO:heather.cairns@csun.edu
END:VEVENT
BEGIN:VEVENT
DTSTART;TZID=America/Los_Angeles:20230518T140000
DTEND;TZID=America/Los_Angeles:20230518T150000
DTSTAMP:20260419T100814
CREATED:20230327T174044Z
LAST-MODIFIED:20230327T174044Z
UID:6927-1684418400-1684422000@csuaoa.org
SUMMARY:AOA Standing Committee Meeting - Business And Financial Services Steering Committee
DESCRIPTION:This will be a zoom meeting.Contact Dena Florez\, Chair for call-in instructions.
URL:https://csuaoa.org/event/aoa-standing-committee-meeting-business-and-financial-services-steering-committee-15/
LOCATION:Zoom/Conference Call
CATEGORIES:Meeting
ORGANIZER;CN="Dena Florez":MAILTO:dflorez3@calstatela.edu
END:VEVENT
BEGIN:VEVENT
DTSTART;TZID=America/Los_Angeles:20230522T080000
DTEND;TZID=America/Los_Angeles:20230524T160000
DTSTAMP:20260419T100814
CREATED:20230222T221242Z
LAST-MODIFIED:20230222T221242Z
UID:6753-1684742400-1684944000@csuaoa.org
SUMMARY:CSU Board of Trustees Meeting
DESCRIPTION:
URL:https://csuaoa.org/event/csu-board-of-trustees-meeting-31/
LOCATION:CSU Office of the Chancellor\, 401 Golden Shore\, Long Beach\, CA\, 90802\, United States
CATEGORIES:Meeting
END:VEVENT
BEGIN:VEVENT
DTSTART;VALUE=DATE:20230531
DTEND;VALUE=DATE:20230601
DTSTAMP:20260419T100814
CREATED:20230324T203432Z
LAST-MODIFIED:20230324T203432Z
UID:6906-1685491200-1685577599@csuaoa.org
SUMMARY:AOA Standing Committee Meeting - Research Administration
DESCRIPTION:
URL:https://csuaoa.org/event/aoa-standing-committee-meeting-research-administration-15/
LOCATION:CSU Dominguez Hills\, 1000 E. Victoria Street\, Carson\, CA\, 90747\, United States
CATEGORIES:Meeting
ORGANIZER;CN="Leslie Rodelander":MAILTO:leslie.rodelander@humboldt.edu
END:VEVENT
END:VCALENDAR