BEGIN:VCALENDAR
VERSION:2.0
PRODID:-//Auxiliary Organizations Association (AOA) - ECPv6.15.13//NONSGML v1.0//EN
CALSCALE:GREGORIAN
METHOD:PUBLISH
X-ORIGINAL-URL:https://csuaoa.org
X-WR-CALDESC:Events for Auxiliary Organizations Association (AOA)
REFRESH-INTERVAL;VALUE=DURATION:PT1H
X-Robots-Tag:noindex
X-PUBLISHED-TTL:PT1H
BEGIN:VTIMEZONE
TZID:America/Los_Angeles
BEGIN:DAYLIGHT
TZOFFSETFROM:-0800
TZOFFSETTO:-0700
TZNAME:PDT
DTSTART:20220313T100000
END:DAYLIGHT
BEGIN:STANDARD
TZOFFSETFROM:-0700
TZOFFSETTO:-0800
TZNAME:PST
DTSTART:20221106T090000
END:STANDARD
BEGIN:DAYLIGHT
TZOFFSETFROM:-0800
TZOFFSETTO:-0700
TZNAME:PDT
DTSTART:20230312T100000
END:DAYLIGHT
BEGIN:STANDARD
TZOFFSETFROM:-0700
TZOFFSETTO:-0800
TZNAME:PST
DTSTART:20231105T090000
END:STANDARD
BEGIN:DAYLIGHT
TZOFFSETFROM:-0800
TZOFFSETTO:-0700
TZNAME:PDT
DTSTART:20240310T100000
END:DAYLIGHT
BEGIN:STANDARD
TZOFFSETFROM:-0700
TZOFFSETTO:-0800
TZNAME:PST
DTSTART:20241103T090000
END:STANDARD
END:VTIMEZONE
BEGIN:VEVENT
DTSTART;VALUE=DATE:20230601
DTEND;VALUE=DATE:20230602
DTSTAMP:20260419T084231
CREATED:20230324T203604Z
LAST-MODIFIED:20230324T203604Z
UID:6910-1685577600-1685663999@csuaoa.org
SUMMARY:AOA Standing Committee Meeting - Research Administration
DESCRIPTION:This meeting will be a joint meeting with AOA RAC and CCRO
URL:https://csuaoa.org/event/aoa-standing-committee-meeting-research-administration-16/
LOCATION:CSU Dominguez Hills\, 1000 E. Victoria Street\, Carson\, CA\, 90747\, United States
CATEGORIES:Meeting
ORGANIZER;CN="Leslie Rodelander":MAILTO:leslie.rodelander@humboldt.edu
END:VEVENT
BEGIN:VEVENT
DTSTART;TZID=America/Los_Angeles:20230612T130000
DTEND;TZID=America/Los_Angeles:20230612T160000
DTSTAMP:20260419T084231
CREATED:20230522T202425Z
LAST-MODIFIED:20230522T202425Z
UID:7046-1686574800-1686585600@csuaoa.org
SUMMARY:AOA Standing Committee Meeting - Associated Students/Student Union/Recreation Centers
DESCRIPTION:
URL:https://csuaoa.org/event/aoa-standing-committee-meeting-associated-students-student-union-recreation-centers/
LOCATION:Zoom/Conference Call
CATEGORIES:Meeting
END:VEVENT
BEGIN:VEVENT
DTSTART;TZID=America/Los_Angeles:20230614T120000
DTEND;TZID=America/Los_Angeles:20230614T140000
DTSTAMP:20260419T084231
CREATED:20230207T194811Z
LAST-MODIFIED:20230522T202629Z
UID:6682-1686744000-1686751200@csuaoa.org
SUMMARY:AOA Conference Planning Committee Meeting
DESCRIPTION:Rescheduled to June 14\, 2023
URL:https://csuaoa.org/event/aoa-conference-planning-committee-meeting-36/
LOCATION:Zoom/Conference Call
CATEGORIES:Meeting
ORGANIZER;CN="Heather Cairns%2C 2024 AOA President":MAILTO:heather.cairns@csun.edu
END:VEVENT
BEGIN:VEVENT
DTSTART;TZID=America/Los_Angeles:20230616T120000
DTEND;TZID=America/Los_Angeles:20230616T140000
DTSTAMP:20260419T084231
CREATED:20230207T183140Z
LAST-MODIFIED:20230817T203709Z
UID:6664-1686916800-1686924000@csuaoa.org
SUMMARY:AOA Executive Committee Meeting
DESCRIPTION:Download the full agenda hereDownload the Minutes of the Meeting here
URL:https://csuaoa.org/event/aoa-executive-committee-meeting-14/
LOCATION:Zoom/Conference Call
CATEGORIES:Meeting
ORGANIZER;CN="Richard Jackson":MAILTO:rtjackson@csuchico.edu
END:VEVENT
BEGIN:VEVENT
DTSTART;TZID=America/Los_Angeles:20230628T080000
DTEND;TZID=America/Los_Angeles:20230628T170000
DTSTAMP:20260419T084231
CREATED:20230222T223650Z
LAST-MODIFIED:20230222T223650Z
UID:6781-1687939200-1687971600@csuaoa.org
SUMMARY:CSU Chief Administrators And Business Officers (CABO) Meeting
DESCRIPTION:
URL:https://csuaoa.org/event/csu-chief-administrators-and-business-officers-cabo-meeting-4/
LOCATION:Virutal
CATEGORIES:Meeting
END:VEVENT
BEGIN:VEVENT
DTSTART;TZID=America/Los_Angeles:20230630T140000
DTEND;TZID=America/Los_Angeles:20230630T153000
DTSTAMP:20260419T084231
CREATED:20230127T191542Z
LAST-MODIFIED:20230127T193854Z
UID:6611-1688133600-1688139000@csuaoa.org
SUMMARY:AOA Standing Committee Meeting - Human Resources
DESCRIPTION:Contact Maddison Burton\, Chair for zoom link.
URL:https://csuaoa.org/event/aoa-standing-committee-meeting-human-resources-18/
LOCATION:Zoom/Conference Call
CATEGORIES:Meeting
ORGANIZER;CN="Maddison Burton":MAILTO:mburton@csumb.edu
END:VEVENT
END:VCALENDAR